BEGIN:VCALENDAR
VERSION:2.0
PRODID:-//Les Visites des Filles - ECPv6.15.20//NONSGML v1.0//EN
CALSCALE:GREGORIAN
METHOD:PUBLISH
X-WR-CALNAME:Les Visites des Filles
X-ORIGINAL-URL:https://lesvisitesdesfilles.fr
X-WR-CALDESC:Évènements pour Les Visites des Filles
REFRESH-INTERVAL;VALUE=DURATION:PT1H
X-Robots-Tag:noindex
X-PUBLISHED-TTL:PT1H
BEGIN:VTIMEZONE
TZID:Europe/Paris
BEGIN:DAYLIGHT
TZOFFSETFROM:+0100
TZOFFSETTO:+0200
TZNAME:CEST
DTSTART:20150329T010000
END:DAYLIGHT
BEGIN:STANDARD
TZOFFSETFROM:+0200
TZOFFSETTO:+0100
TZNAME:CET
DTSTART:20151025T010000
END:STANDARD
BEGIN:DAYLIGHT
TZOFFSETFROM:+0100
TZOFFSETTO:+0200
TZNAME:CEST
DTSTART:20160327T010000
END:DAYLIGHT
BEGIN:STANDARD
TZOFFSETFROM:+0200
TZOFFSETTO:+0100
TZNAME:CET
DTSTART:20161030T010000
END:STANDARD
BEGIN:DAYLIGHT
TZOFFSETFROM:+0100
TZOFFSETTO:+0200
TZNAME:CEST
DTSTART:20170326T010000
END:DAYLIGHT
BEGIN:STANDARD
TZOFFSETFROM:+0200
TZOFFSETTO:+0100
TZNAME:CET
DTSTART:20171029T010000
END:STANDARD
END:VTIMEZONE
BEGIN:VEVENT
DTSTART;TZID=Europe/Paris:20160702T143000
DTEND;TZID=Europe/Paris:20160702T163000
DTSTAMP:20260421T040419
CREATED:20160314T101921Z
LAST-MODIFIED:20200504T151136Z
UID:113-1467469800-1467477000@lesvisitesdesfilles.fr
SUMMARY:Fourvière insolite
DESCRIPTION:Explorer Lyon en dehors des sentiers battus!\nLa colline de Fourvière telle que vous ne l’avez jamais vue: à quelques centaines de mètres des sites les plus connus de Lyon\, comme la basilique Notre-Dame ou les théâtres romains\, se cachent des ruines antiques ou médiévales\, là où vous ne les attendez pas\, cachées derrière de hauts murs. Berceau de la ville et ancien faubourg du Vieux-Lyon\, la colline conserve de nombreuses traces du passé\, et des points de vue magnifiques sur la ville. \n  \nTarif plein : 10 euros\nTarif réduit (demandeurs d’emploi et enfants de plus de 12 ans) : 5 euros\nGratuité : enfants de moins de 12 ans \nRendez-vous sur l’esplanade de Fourvière\, à la sortie du Funiculaire Fourvière à 14h30.
URL:https://lesvisitesdesfilles.fr/evenement/fourviere-insolite/
CATEGORIES:Architecture,Espaces verts et paysages,Histoire
ATTACH;FMTTYPE=image/jpeg:https://lesvisitesdesfilles.fr/wp-content/uploads/2016/03/MG_5914.jpg
ORGANIZER;CN="Emilie":MAILTO:lesvisites.desfilles@gmail.com
END:VEVENT
END:VCALENDAR