BEGIN:VCALENDAR
VERSION:2.0
PRODID:-//Les Visites des Filles - ECPv6.15.20//NONSGML v1.0//EN
CALSCALE:GREGORIAN
METHOD:PUBLISH
X-WR-CALNAME:Les Visites des Filles
X-ORIGINAL-URL:https://lesvisitesdesfilles.fr
X-WR-CALDESC:Évènements pour Les Visites des Filles
REFRESH-INTERVAL;VALUE=DURATION:PT1H
X-Robots-Tag:noindex
X-PUBLISHED-TTL:PT1H
BEGIN:VTIMEZONE
TZID:Europe/Paris
BEGIN:DAYLIGHT
TZOFFSETFROM:+0100
TZOFFSETTO:+0200
TZNAME:CEST
DTSTART:20150329T010000
END:DAYLIGHT
BEGIN:STANDARD
TZOFFSETFROM:+0200
TZOFFSETTO:+0100
TZNAME:CET
DTSTART:20151025T010000
END:STANDARD
BEGIN:DAYLIGHT
TZOFFSETFROM:+0100
TZOFFSETTO:+0200
TZNAME:CEST
DTSTART:20160327T010000
END:DAYLIGHT
BEGIN:STANDARD
TZOFFSETFROM:+0200
TZOFFSETTO:+0100
TZNAME:CET
DTSTART:20161030T010000
END:STANDARD
BEGIN:DAYLIGHT
TZOFFSETFROM:+0100
TZOFFSETTO:+0200
TZNAME:CEST
DTSTART:20170326T010000
END:DAYLIGHT
BEGIN:STANDARD
TZOFFSETFROM:+0200
TZOFFSETTO:+0100
TZNAME:CET
DTSTART:20171029T010000
END:STANDARD
END:VTIMEZONE
BEGIN:VEVENT
DTSTART;TZID=Europe/Paris:20160806T143000
DTEND;TZID=Europe/Paris:20160806T163000
DTSTAMP:20260421T022057
CREATED:20160314T100827Z
LAST-MODIFIED:20200504T151032Z
UID:108-1470493800-1470501000@lesvisitesdesfilles.fr
SUMMARY:Allons faire un tour au parc de la tête d'Or
DESCRIPTION:Tout le monde s’est déjà promené dans  le plus grand parc de Lyon\, le long de son lac ou dans ses jardins botaniques. Cette visite multi-facettes vous permettra d’en savoir plus sur le pourquoi? le qui? ou le comment?. Nous aborderons aussi le quoi? en regardant ce que vous n’avez jamais regardé mais seulement vu… \n  \nTarif plein : 10 euros\nTarif réduit (demandeurs d’emploi et enfants de plus de 12 ans) : 5 euros\nGratuité : enfants de moins de 12 ans
URL:https://lesvisitesdesfilles.fr/evenement/allons-faire-un-tour-au-parc-de-la-tete-dor/
LOCATION:Parc de la Tête d’or\, Lyon \, 69006\, France
CATEGORIES:Architecture,Espaces verts et paysages
ATTACH;FMTTYPE=image/jpeg:https://lesvisitesdesfilles.fr/wp-content/uploads/2016/03/MG_0532-scaled-e1588611856876.jpg
ORGANIZER;CN="Marion":MAILTO:lesvisites.desfilles@gmail.com
END:VEVENT
END:VCALENDAR