BEGIN:VCALENDAR
VERSION:2.0
PRODID:-//Les Visites des Filles - ECPv6.15.20//NONSGML v1.0//EN
CALSCALE:GREGORIAN
METHOD:PUBLISH
X-WR-CALNAME:Les Visites des Filles
X-ORIGINAL-URL:https://lesvisitesdesfilles.fr
X-WR-CALDESC:Évènements pour Les Visites des Filles
REFRESH-INTERVAL;VALUE=DURATION:PT1H
X-Robots-Tag:noindex
X-PUBLISHED-TTL:PT1H
BEGIN:VTIMEZONE
TZID:Europe/Paris
BEGIN:DAYLIGHT
TZOFFSETFROM:+0100
TZOFFSETTO:+0200
TZNAME:CEST
DTSTART:20150329T010000
END:DAYLIGHT
BEGIN:STANDARD
TZOFFSETFROM:+0200
TZOFFSETTO:+0100
TZNAME:CET
DTSTART:20151025T010000
END:STANDARD
BEGIN:DAYLIGHT
TZOFFSETFROM:+0100
TZOFFSETTO:+0200
TZNAME:CEST
DTSTART:20160327T010000
END:DAYLIGHT
BEGIN:STANDARD
TZOFFSETFROM:+0200
TZOFFSETTO:+0100
TZNAME:CET
DTSTART:20161030T010000
END:STANDARD
BEGIN:DAYLIGHT
TZOFFSETFROM:+0100
TZOFFSETTO:+0200
TZNAME:CEST
DTSTART:20170326T010000
END:DAYLIGHT
BEGIN:STANDARD
TZOFFSETFROM:+0200
TZOFFSETTO:+0100
TZNAME:CET
DTSTART:20171029T010000
END:STANDARD
END:VTIMEZONE
BEGIN:VEVENT
DTSTART;TZID=Europe/Paris:20161203T143000
DTEND;TZID=Europe/Paris:20161203T163000
DTSTAMP:20260420T193552
CREATED:20160412T195815Z
LAST-MODIFIED:20200504T150417Z
UID:142-1480775400-1480782600@lesvisitesdesfilles.fr
SUMMARY:La gastronomie Lyonnaise dans le 6e
DESCRIPTION:Lyon est réputée pour sa gastronomie\, que l’on retrouve dans plusieurs quartiers de Lyon. Mais certaines bonnes adresses se cachent dans le 6e arrondissement\, et pas des moindres: les toques étoilées ont hérité du savoir-faire des mères lyonnaises\, et certaines d’entre elles avaient d’ailleurs leur adresse ici. Une balade gourmande qui retracera le destin des hommes (et des femmes!) qui ont forgé la réputation de la ville. Au cours de la balade\, nous dégusterons certaines spécialités à vous lécher les babines!
URL:https://lesvisitesdesfilles.fr/evenement/gastronomie-lyonnaise-6e/
LOCATION:Brotteaux\, place Jules Ferry\, Lyon\, Auvergne-Rhône-Alpes\, 69006\, France
CATEGORIES:Gastronomie,Histoire
ATTACH;FMTTYPE=image/jpeg:https://lesvisitesdesfilles.fr/wp-content/uploads/2016/04/Filloux.jpg
ORGANIZER;CN="Emilie":MAILTO:lesvisites.desfilles@gmail.com
END:VEVENT
END:VCALENDAR