BEGIN:VCALENDAR
VERSION:2.0
PRODID:-//Les Visites des Filles - ECPv6.15.20//NONSGML v1.0//EN
CALSCALE:GREGORIAN
METHOD:PUBLISH
X-WR-CALNAME:Les Visites des Filles
X-ORIGINAL-URL:https://lesvisitesdesfilles.fr
X-WR-CALDESC:Évènements pour Les Visites des Filles
REFRESH-INTERVAL;VALUE=DURATION:PT1H
X-Robots-Tag:noindex
X-PUBLISHED-TTL:PT1H
BEGIN:VTIMEZONE
TZID:Europe/Paris
BEGIN:DAYLIGHT
TZOFFSETFROM:+0100
TZOFFSETTO:+0200
TZNAME:CEST
DTSTART:20160327T010000
END:DAYLIGHT
BEGIN:STANDARD
TZOFFSETFROM:+0200
TZOFFSETTO:+0100
TZNAME:CET
DTSTART:20161030T010000
END:STANDARD
BEGIN:DAYLIGHT
TZOFFSETFROM:+0100
TZOFFSETTO:+0200
TZNAME:CEST
DTSTART:20170326T010000
END:DAYLIGHT
BEGIN:STANDARD
TZOFFSETFROM:+0200
TZOFFSETTO:+0100
TZNAME:CET
DTSTART:20171029T010000
END:STANDARD
BEGIN:DAYLIGHT
TZOFFSETFROM:+0100
TZOFFSETTO:+0200
TZNAME:CEST
DTSTART:20180325T010000
END:DAYLIGHT
BEGIN:STANDARD
TZOFFSETFROM:+0200
TZOFFSETTO:+0100
TZNAME:CET
DTSTART:20181028T010000
END:STANDARD
END:VTIMEZONE
BEGIN:VEVENT
DTSTART;TZID=Europe/Paris:20170107T143000
DTEND;TZID=Europe/Paris:20170107T163000
DTSTAMP:20260420T181317
CREATED:20161004T134412Z
LAST-MODIFIED:20200504T150252Z
UID:151-1483799400-1483806600@lesvisitesdesfilles.fr
SUMMARY:Les murs peints des Etats-Unis
DESCRIPTION:Cette visite inédite est une immersion dans les années 30 et ses idées novatrices en terme d’urbanisme et d’architecture ayant pour but de  faciliter et améliorer la vie des habitants. Marion vous emmène sur les traces de Tony Garnier qui\, très avant-gardiste\, a inspiré les plus grands notamment l’architecte Le Corbusier. Vous découvrirez son oeuvre au travers des murs peints du Musée Urbain. \nEn bonus : Pour compléter la visite\, vous avez la possibilité de visiter l’appartement témoin des années 30 à l’issue de celle-ci\, à 16h30. (Billet à acheter avant la visite\, directement au Musée Urbain Tony Garnier\, 3€)
URL:https://lesvisitesdesfilles.fr/evenement/murs-peints-etats-unis/
LOCATION:Musée Urbain Tony Garnier\, 4 rue des Serpollières\, Lyon\, Auvergne-Rhône-Alpes\, 69008\, France
CATEGORIES:Architecture,Urbanisme
ATTACH;FMTTYPE=image/jpeg:https://lesvisitesdesfilles.fr/wp-content/uploads/2016/10/EEUU-5.jpg
ORGANIZER;CN="Marion":MAILTO:lesvisites.desfilles@gmail.com
END:VEVENT
END:VCALENDAR