BEGIN:VCALENDAR
VERSION:2.0
PRODID:-//Les Visites des Filles - ECPv6.15.20//NONSGML v1.0//EN
CALSCALE:GREGORIAN
METHOD:PUBLISH
X-ORIGINAL-URL:https://lesvisitesdesfilles.fr
X-WR-CALDESC:Évènements pour Les Visites des Filles
REFRESH-INTERVAL;VALUE=DURATION:PT1H
X-Robots-Tag:noindex
X-PUBLISHED-TTL:PT1H
BEGIN:VTIMEZONE
TZID:Europe/Paris
BEGIN:DAYLIGHT
TZOFFSETFROM:+0100
TZOFFSETTO:+0200
TZNAME:CEST
DTSTART:20160327T010000
END:DAYLIGHT
BEGIN:STANDARD
TZOFFSETFROM:+0200
TZOFFSETTO:+0100
TZNAME:CET
DTSTART:20161030T010000
END:STANDARD
BEGIN:DAYLIGHT
TZOFFSETFROM:+0100
TZOFFSETTO:+0200
TZNAME:CEST
DTSTART:20170326T010000
END:DAYLIGHT
BEGIN:STANDARD
TZOFFSETFROM:+0200
TZOFFSETTO:+0100
TZNAME:CET
DTSTART:20171029T010000
END:STANDARD
BEGIN:DAYLIGHT
TZOFFSETFROM:+0100
TZOFFSETTO:+0200
TZNAME:CEST
DTSTART:20180325T010000
END:DAYLIGHT
BEGIN:STANDARD
TZOFFSETFROM:+0200
TZOFFSETTO:+0100
TZNAME:CET
DTSTART:20181028T010000
END:STANDARD
END:VTIMEZONE
BEGIN:VEVENT
DTSTART;TZID=Europe/Paris:20170304T143000
DTEND;TZID=Europe/Paris:20170304T163000
DTSTAMP:20260420T151143
CREATED:20161010T103337Z
LAST-MODIFIED:20200504T145943Z
UID:175-1488637800-1488645000@lesvisitesdesfilles.fr
SUMMARY:Ainay\, quartier au passé et au présent
DESCRIPTION:Clémence vous mène à la découverte du quartier d’Ainay\, quartier organisé autour de la populaire rue piétonne Victor Hugo et à quelques pas de la place Bellecour. \nMais comme nous serons un samedi après-midi\, et que nous ne serons pas là pour faire du shopping\, nous nous en éloignerons rapidement pour découvrir son riche patrimoine\, notamment la plus belle église Romane de Lyon\, Saint-Martin d’Ainay.  \nAinay\, c’est aussi le quartier des antiquaires\, des traboules méconnues et d’hôtels particuliers. Nous irons découvrir le métier d’Antiquaire à cette occasion.  Laissez-vous guider pour découvrir autrement ce quartier !  \nTarif plein : 10 euros\nTarif réduit (demandeurs d’emploi et enfants de plus de 12 ans) : 7 euros\nGratuité : enfants de moins de 12 ans
URL:https://lesvisitesdesfilles.fr/evenement/ainay-quartier-passe-present/
LOCATION:Ainay\, Place d'Ainay\, Lyon\, Auvergne-Rhône-Alpes\, 69002\, France
CATEGORIES:Architecture,Histoire
ATTACH;FMTTYPE=image/jpeg:https://lesvisitesdesfilles.fr/wp-content/uploads/2016/03/Ainay1-2.jpg
ORGANIZER;CN="Cl%C3%A9mence":MAILTO:lesvisites.desfilles@gmail.com
END:VEVENT
END:VCALENDAR