BEGIN:VCALENDAR
VERSION:2.0
PRODID:-//Les Visites des Filles - ECPv6.15.20//NONSGML v1.0//EN
CALSCALE:GREGORIAN
METHOD:PUBLISH
X-ORIGINAL-URL:https://lesvisitesdesfilles.fr
X-WR-CALDESC:Évènements pour Les Visites des Filles
REFRESH-INTERVAL;VALUE=DURATION:PT1H
X-Robots-Tag:noindex
X-PUBLISHED-TTL:PT1H
BEGIN:VTIMEZONE
TZID:Europe/Paris
BEGIN:DAYLIGHT
TZOFFSETFROM:+0100
TZOFFSETTO:+0200
TZNAME:CEST
DTSTART:20160327T010000
END:DAYLIGHT
BEGIN:STANDARD
TZOFFSETFROM:+0200
TZOFFSETTO:+0100
TZNAME:CET
DTSTART:20161030T010000
END:STANDARD
BEGIN:DAYLIGHT
TZOFFSETFROM:+0100
TZOFFSETTO:+0200
TZNAME:CEST
DTSTART:20170326T010000
END:DAYLIGHT
BEGIN:STANDARD
TZOFFSETFROM:+0200
TZOFFSETTO:+0100
TZNAME:CET
DTSTART:20171029T010000
END:STANDARD
BEGIN:DAYLIGHT
TZOFFSETFROM:+0100
TZOFFSETTO:+0200
TZNAME:CEST
DTSTART:20180325T010000
END:DAYLIGHT
BEGIN:STANDARD
TZOFFSETFROM:+0200
TZOFFSETTO:+0100
TZNAME:CET
DTSTART:20181028T010000
END:STANDARD
END:VTIMEZONE
BEGIN:VEVENT
DTSTART;TZID=Europe/Paris:20171104T143000
DTEND;TZID=Europe/Paris:20171104T163000
DTSTAMP:20260420T051037
CREATED:20161010T110946Z
LAST-MODIFIED:20200504T144747Z
UID:182-1509805800-1509813000@lesvisitesdesfilles.fr
SUMMARY:L'épopée de la soierie Lyonnaise
DESCRIPTION:Suite au succès de la visite en 2016\, « les visites des filles » et Clémence vous emmènent à nouveau à la rencontre des acteurs de la réputée soierie Lyonnaise. \nCette visite se fera en trois temps forts : \n– la visite d’un authentique atelier de tissage familial de « Canuts » avec démonstration de tissage sur métier manuel et électrique (avec l’association Soierie Vivante).  \n– la visite du quartier des pentes de la Croix-Rousse et de ses traboules empruntées par les Canuts autrefois\, avec votre guide Clémence 🙂 \n– et enfin la visite d’un atelier spécialisé dans l’impression « à la lyonnaise » de carrés de soie (atelier de soierie\, maison Brochier). \nCompte tenu de son caractère exceptionnel avec entrée dans des ateliers\, la visite commencera à 13h40 et se terminera à 17h.  \nNe ratez pas cette occasion de découvrir le savoir-faire de la soierie lyonnaise de manière complète ! \n  \nAttention tarifs spéciaux : \nTarif plein : 20 € \nTarif réduit : 17 € \nEnfants moins de 12 ans : 3 €
URL:https://lesvisitesdesfilles.fr/evenement/lepopee-de-soierie-lyonnaise/
LOCATION:Presqu’île et pentes de la Croix-Rousse\, Place de la Croix-Rousse\, Lyon\, 69004\, France
CATEGORIES:Histoire,Musée
ATTACH;FMTTYPE=image/jpeg:https://lesvisitesdesfilles.fr/wp-content/uploads/2016/10/DSCF3531-2-scaled-e1588684751803.jpg
ORGANIZER;CN="Cl%C3%A9mence":MAILTO:lesvisites.desfilles@gmail.com
END:VEVENT
END:VCALENDAR