BEGIN:VCALENDAR
VERSION:2.0
PRODID:-//Les Visites des Filles - ECPv6.15.20//NONSGML v1.0//EN
CALSCALE:GREGORIAN
METHOD:PUBLISH
X-ORIGINAL-URL:https://lesvisitesdesfilles.fr
X-WR-CALDESC:Évènements pour Les Visites des Filles
REFRESH-INTERVAL;VALUE=DURATION:PT1H
X-Robots-Tag:noindex
X-PUBLISHED-TTL:PT1H
BEGIN:VTIMEZONE
TZID:Europe/Paris
BEGIN:DAYLIGHT
TZOFFSETFROM:+0100
TZOFFSETTO:+0200
TZNAME:CEST
DTSTART:20170326T010000
END:DAYLIGHT
BEGIN:STANDARD
TZOFFSETFROM:+0200
TZOFFSETTO:+0100
TZNAME:CET
DTSTART:20171029T010000
END:STANDARD
BEGIN:DAYLIGHT
TZOFFSETFROM:+0100
TZOFFSETTO:+0200
TZNAME:CEST
DTSTART:20180325T010000
END:DAYLIGHT
BEGIN:STANDARD
TZOFFSETFROM:+0200
TZOFFSETTO:+0100
TZNAME:CET
DTSTART:20181028T010000
END:STANDARD
BEGIN:DAYLIGHT
TZOFFSETFROM:+0100
TZOFFSETTO:+0200
TZNAME:CEST
DTSTART:20190331T010000
END:DAYLIGHT
BEGIN:STANDARD
TZOFFSETFROM:+0200
TZOFFSETTO:+0100
TZNAME:CET
DTSTART:20191027T010000
END:STANDARD
END:VTIMEZONE
BEGIN:VEVENT
DTSTART;TZID=Europe/Paris:20180106T143000
DTEND;TZID=Europe/Paris:20180106T163000
DTSTAMP:20260420T002900
CREATED:20170719T125441Z
LAST-MODIFIED:20200504T144554Z
UID:197-1515249000-1515256200@lesvisitesdesfilles.fr
SUMMARY:La Guillotière insolite
DESCRIPTION:La Guillotière a été longtemps un faubourg lyonnais. Rattaché à Lyon au milieu du XIXe siècle\, c’est un quartier qui a beaucoup évolué au fil du temps. Aujourd’hui\, les cafés et les restaurants animent les rues. Mais çà et là\, on trouve encore des traces du passé. Venez découvrir un quartier différent\, teinté de cultures du monde: Asie\, Caraïbes\, Afrique. \nSi une personne vient avec cinq personnes\, c’est gratuit (ou autrement dit : 6 personnes qui viennent ensemble\, 1 place gratuite\, les 5 autres paient).
URL:https://lesvisitesdesfilles.fr/evenement/la-guillotiere-insolite/
CATEGORIES:Architecture,Histoire
ATTACH;FMTTYPE=image/jpeg:https://lesvisitesdesfilles.fr/wp-content/uploads/2017/07/DSCF0206-scaled.jpg
ORGANIZER;CN="Emilie":MAILTO:lesvisites.desfilles@gmail.com
END:VEVENT
END:VCALENDAR