BEGIN:VCALENDAR
VERSION:2.0
PRODID:-//Les Visites des Filles - ECPv6.15.20//NONSGML v1.0//EN
CALSCALE:GREGORIAN
METHOD:PUBLISH
X-WR-CALNAME:Les Visites des Filles
X-ORIGINAL-URL:https://lesvisitesdesfilles.fr
X-WR-CALDESC:Évènements pour Les Visites des Filles
REFRESH-INTERVAL;VALUE=DURATION:PT1H
X-Robots-Tag:noindex
X-PUBLISHED-TTL:PT1H
BEGIN:VTIMEZONE
TZID:Europe/Paris
BEGIN:DAYLIGHT
TZOFFSETFROM:+0100
TZOFFSETTO:+0200
TZNAME:CEST
DTSTART:20170326T010000
END:DAYLIGHT
BEGIN:STANDARD
TZOFFSETFROM:+0200
TZOFFSETTO:+0100
TZNAME:CET
DTSTART:20171029T010000
END:STANDARD
BEGIN:DAYLIGHT
TZOFFSETFROM:+0100
TZOFFSETTO:+0200
TZNAME:CEST
DTSTART:20180325T010000
END:DAYLIGHT
BEGIN:STANDARD
TZOFFSETFROM:+0200
TZOFFSETTO:+0100
TZNAME:CET
DTSTART:20181028T010000
END:STANDARD
BEGIN:DAYLIGHT
TZOFFSETFROM:+0100
TZOFFSETTO:+0200
TZNAME:CEST
DTSTART:20190331T010000
END:DAYLIGHT
BEGIN:STANDARD
TZOFFSETFROM:+0200
TZOFFSETTO:+0100
TZNAME:CET
DTSTART:20191027T010000
END:STANDARD
END:VTIMEZONE
BEGIN:VEVENT
DTSTART;TZID=Europe/Paris:20180203T100000
DTEND;TZID=Europe/Paris:20180203T120000
DTSTAMP:20260419T223607
CREATED:20161004T134539Z
LAST-MODIFIED:20200504T144234Z
UID:153-1517652000-1517659200@lesvisitesdesfilles.fr
SUMMARY:Le Vieux Lyon hors des sentiers battus
DESCRIPTION:Que diriez-vous d’une balade dans le Vieux Lyon loin des touristes\, des magasins de glaces et des traboules sur-fréquentées? Marion vous propose une balade dans un coin resté  authentique : St Georges. C’est en quelque sorte le parent pauvre de la rive droite de la Saône mais à tort car le quartier a aussi son histoire\, ses petites histoires et ses jolis bâtiments Renaissance alors n’hésitez plus!
URL:https://lesvisitesdesfilles.fr/evenement/vieux-lyon-sentiers-battus/
LOCATION:Vieux Lyon\, métro Vieux-Lyon\, Lyon\, Auvergne-Rhône-Alpes\, 69005\, France
CATEGORIES:Architecture,Histoire
ATTACH;FMTTYPE=image/jpeg:https://lesvisitesdesfilles.fr/wp-content/uploads/2016/10/st-georges--e1587389322607.jpg
ORGANIZER;CN="Marion":MAILTO:lesvisites.desfilles@gmail.com
END:VEVENT
END:VCALENDAR