BEGIN:VCALENDAR
VERSION:2.0
PRODID:-//Les Visites des Filles - ECPv6.15.20//NONSGML v1.0//EN
CALSCALE:GREGORIAN
METHOD:PUBLISH
X-WR-CALNAME:Les Visites des Filles
X-ORIGINAL-URL:https://lesvisitesdesfilles.fr
X-WR-CALDESC:Évènements pour Les Visites des Filles
REFRESH-INTERVAL;VALUE=DURATION:PT1H
X-Robots-Tag:noindex
X-PUBLISHED-TTL:PT1H
BEGIN:VTIMEZONE
TZID:Europe/Paris
BEGIN:DAYLIGHT
TZOFFSETFROM:+0100
TZOFFSETTO:+0200
TZNAME:CEST
DTSTART:20220327T010000
END:DAYLIGHT
BEGIN:STANDARD
TZOFFSETFROM:+0200
TZOFFSETTO:+0100
TZNAME:CET
DTSTART:20221030T010000
END:STANDARD
BEGIN:DAYLIGHT
TZOFFSETFROM:+0100
TZOFFSETTO:+0200
TZNAME:CEST
DTSTART:20230326T010000
END:DAYLIGHT
BEGIN:STANDARD
TZOFFSETFROM:+0200
TZOFFSETTO:+0100
TZNAME:CET
DTSTART:20231029T010000
END:STANDARD
BEGIN:DAYLIGHT
TZOFFSETFROM:+0100
TZOFFSETTO:+0200
TZNAME:CEST
DTSTART:20240331T010000
END:DAYLIGHT
BEGIN:STANDARD
TZOFFSETFROM:+0200
TZOFFSETTO:+0100
TZNAME:CET
DTSTART:20241027T010000
END:STANDARD
END:VTIMEZONE
BEGIN:VEVENT
DTSTART;TZID=Europe/Paris:20230617T143000
DTEND;TZID=Europe/Paris:20230617T163000
DTSTAMP:20260422T013033
CREATED:20230218T200658Z
LAST-MODIFIED:20230218T200658Z
UID:2019-1687012200-1687019400@lesvisitesdesfilles.fr
SUMMARY:La Saône : ses quais\, ses ponts\, ses monuments\, son histoire...
DESCRIPTION:On la longe\, on la traverse\, on s’y promène et on s’y repose… La Saône fait totalement partie de la vie des lyonnais et ce\, depuis l’installation des gaulois. \nMarine vous propose un itinéraire au fil de cette rivière\, de pont en passerelle\, d’une rive à l’autre. Nous reviendrons sur les bâtiments et les paysages que l’on y voit et nous replongerons dans le temps en nous imaginant le même endroit\, avant l’aménagement des quais.
URL:https://lesvisitesdesfilles.fr/evenement/la-saone-ses-quais-ses-ponts-ses-monuments-son-histoire/
LOCATION:Vieux Lyon\, métro Vieux-Lyon\, Lyon\, Auvergne-Rhône-Alpes\, 69005\, France
CATEGORIES:Architecture,Histoire
ATTACH;FMTTYPE=image/jpeg:https://lesvisitesdesfilles.fr/wp-content/uploads/2020/11/19149283496_00c640ee51_o-scaled-e1588612754837-1600x900-1.jpg
END:VEVENT
END:VCALENDAR