BEGIN:VCALENDAR
VERSION:2.0
PRODID:-//Les Visites des Filles - ECPv6.15.20//NONSGML v1.0//EN
CALSCALE:GREGORIAN
METHOD:PUBLISH
X-WR-CALNAME:Les Visites des Filles
X-ORIGINAL-URL:https://lesvisitesdesfilles.fr
X-WR-CALDESC:Évènements pour Les Visites des Filles
REFRESH-INTERVAL;VALUE=DURATION:PT1H
X-Robots-Tag:noindex
X-PUBLISHED-TTL:PT1H
BEGIN:VTIMEZONE
TZID:Europe/Paris
BEGIN:DAYLIGHT
TZOFFSETFROM:+0100
TZOFFSETTO:+0200
TZNAME:CEST
DTSTART:20230326T010000
END:DAYLIGHT
BEGIN:STANDARD
TZOFFSETFROM:+0200
TZOFFSETTO:+0100
TZNAME:CET
DTSTART:20231029T010000
END:STANDARD
BEGIN:DAYLIGHT
TZOFFSETFROM:+0100
TZOFFSETTO:+0200
TZNAME:CEST
DTSTART:20240331T010000
END:DAYLIGHT
BEGIN:STANDARD
TZOFFSETFROM:+0200
TZOFFSETTO:+0100
TZNAME:CET
DTSTART:20241027T010000
END:STANDARD
BEGIN:DAYLIGHT
TZOFFSETFROM:+0100
TZOFFSETTO:+0200
TZNAME:CEST
DTSTART:20250330T010000
END:DAYLIGHT
BEGIN:STANDARD
TZOFFSETFROM:+0200
TZOFFSETTO:+0100
TZNAME:CET
DTSTART:20251026T010000
END:STANDARD
END:VTIMEZONE
BEGIN:VEVENT
DTSTART;TZID=Europe/Paris:20240706T143000
DTEND;TZID=Europe/Paris:20240706T163000
DTSTAMP:20260421T065227
CREATED:20240207T145214Z
LAST-MODIFIED:20240207T145214Z
UID:2093-1720276200-1720283400@lesvisitesdesfilles.fr
SUMMARY:L'histoire et l'architecture des Brotteaux dans le 6ème arrondissement
DESCRIPTION:Venez découvrir l’histoire de ce quartier incontournable de Lyon\, finalement peu connu\, si ce n’est pour ses boutiques et ses restaurants. Imaginé dès le XVIIIe siècle\, il ne reste que peu de choses de l’Ancien Régime. Le quartier a surtout été construit au XIXe et au XXe siècle. On y retrouve plusieurs styles d’architecture : Belle-époque\, Art Nouveau\, Art déco et même l’architecture des années 1970 ! Alors qu’il avait été le théâtre d’exécutions pendant la Révolution Française\, de labeur industriel au XIXe et de loisirs\, il est de nos jours surtout un quartier résidentiel. \nAvec nous\, vous vous baladerez en découvrant bâtiments et anecdotes. Vous feindrez de prendre le train\, de boire un verre à la terrasse d’une brasserie et chercherez les soucoupes volantes cachées dans la ville. Cette visite insolite vous permettra de mieux connaitre cette partie du 6ème arrondissement et de vous familiariser avec les ambiances urbaines. Vous connaitrez mieux des personnalités\, comme Félix Benoît\, humoriste de son état\, ou Édouard Herriot\, maire de Lyon. Nous évoquerons aussi le destin d’Émile Guimet\, industriel et amateur d’art.
URL:https://lesvisitesdesfilles.fr/evenement/2024-07-06-une-balade-dans-le-6eme-arrondissement/
CATEGORIES:Architecture,Histoire,Urbanisme
ATTACH;FMTTYPE=image/jpeg:https://lesvisitesdesfilles.fr/wp-content/uploads/2016/03/DSCF4031-scaled-e1588609740388.jpg
END:VEVENT
END:VCALENDAR