BEGIN:VCALENDAR
VERSION:2.0
PRODID:-//Les Visites des Filles - ECPv6.15.20//NONSGML v1.0//EN
CALSCALE:GREGORIAN
METHOD:PUBLISH
X-WR-CALNAME:Les Visites des Filles
X-ORIGINAL-URL:https://lesvisitesdesfilles.fr
X-WR-CALDESC:Évènements pour Les Visites des Filles
REFRESH-INTERVAL;VALUE=DURATION:PT1H
X-Robots-Tag:noindex
X-PUBLISHED-TTL:PT1H
BEGIN:VTIMEZONE
TZID:Europe/Paris
BEGIN:DAYLIGHT
TZOFFSETFROM:+0100
TZOFFSETTO:+0200
TZNAME:CEST
DTSTART:20230326T010000
END:DAYLIGHT
BEGIN:STANDARD
TZOFFSETFROM:+0200
TZOFFSETTO:+0100
TZNAME:CET
DTSTART:20231029T010000
END:STANDARD
BEGIN:DAYLIGHT
TZOFFSETFROM:+0100
TZOFFSETTO:+0200
TZNAME:CEST
DTSTART:20240331T010000
END:DAYLIGHT
BEGIN:STANDARD
TZOFFSETFROM:+0200
TZOFFSETTO:+0100
TZNAME:CET
DTSTART:20241027T010000
END:STANDARD
BEGIN:DAYLIGHT
TZOFFSETFROM:+0100
TZOFFSETTO:+0200
TZNAME:CEST
DTSTART:20250330T010000
END:DAYLIGHT
BEGIN:STANDARD
TZOFFSETFROM:+0200
TZOFFSETTO:+0100
TZNAME:CET
DTSTART:20251026T010000
END:STANDARD
END:VTIMEZONE
BEGIN:VEVENT
DTSTART;TZID=Europe/Paris:20240803T143000
DTEND;TZID=Europe/Paris:20240803T163000
DTSTAMP:20260421T052200
CREATED:20240207T151325Z
LAST-MODIFIED:20240207T151325Z
UID:2099-1722695400-1722702600@lesvisitesdesfilles.fr
SUMMARY:Lyon\, centre de mystères...
DESCRIPTION:Voici une visite guidée qui sort des sujets habituellement traités par les Visites des Filles… celui-ci est étrange. Vous avez dit étrange ? \nLyon est bien charmante\, sous le soleil et attire nombre de touristes venus découvrir sa douce atmosphère. Mais tous ces visiteurs se doutent-ils que ces rues ont été le théâtre de phénomènes étranges\, presque bizarres et d’idéologies qualifiées d’obscures?\nEn effet\, Lyon a vu bon nombre d’expériences « paranormales » et a été le décor de rencontres\, de recherches ésotériques et de l’occultisme : tables tournantes\, prophétisme\, spiritisme\, mysticisme\, magnétisme… Lyon a reçu de grands noms de ce milieu dont nous allons parler.\nLa ville doit sa réputation au culte du secret si bien que tous les mystères ne seront certainement pas élucidés au cours de cette visite qui vous fera découvrir un autre aspect du passé lyonnais. \nLa visite déambulera en Presqu’île (Bellecour\, quais de Saône\, places et rues\, Hôtel-Dieu entre autres) où chaque arrêt sera propice à la découverte d’un personnage de ces milieux qualifiés d’occultes et étranges. Nous parlerons de personnages connus dans ces milieux tels que Nostradamus\, Willermoz ou encore Maître Philippe mais nous parlerons aussi des Frères Bonjour\, de Papus\, d’Agrippa… Tout ceci vous est inconnu ? Alors: N’hésitez plus !
URL:https://lesvisitesdesfilles.fr/evenement/2024-08-03-lyon-centre-de-mysteres/
CATEGORIES:Histoire
ATTACH;FMTTYPE=image/jpeg:https://lesvisitesdesfilles.fr/wp-content/uploads/2020/04/Nostradamus-e1588175898385.jpg
END:VEVENT
END:VCALENDAR