BEGIN:VCALENDAR
VERSION:2.0
PRODID:-//Les Visites des Filles - ECPv6.15.20//NONSGML v1.0//EN
CALSCALE:GREGORIAN
METHOD:PUBLISH
X-WR-CALNAME:Les Visites des Filles
X-ORIGINAL-URL:https://lesvisitesdesfilles.fr
X-WR-CALDESC:Évènements pour Les Visites des Filles
REFRESH-INTERVAL;VALUE=DURATION:PT1H
X-Robots-Tag:noindex
X-PUBLISHED-TTL:PT1H
BEGIN:VTIMEZONE
TZID:Europe/Paris
BEGIN:DAYLIGHT
TZOFFSETFROM:+0100
TZOFFSETTO:+0200
TZNAME:CEST
DTSTART:20230326T010000
END:DAYLIGHT
BEGIN:STANDARD
TZOFFSETFROM:+0200
TZOFFSETTO:+0100
TZNAME:CET
DTSTART:20231029T010000
END:STANDARD
BEGIN:DAYLIGHT
TZOFFSETFROM:+0100
TZOFFSETTO:+0200
TZNAME:CEST
DTSTART:20240331T010000
END:DAYLIGHT
BEGIN:STANDARD
TZOFFSETFROM:+0200
TZOFFSETTO:+0100
TZNAME:CET
DTSTART:20241027T010000
END:STANDARD
BEGIN:DAYLIGHT
TZOFFSETFROM:+0100
TZOFFSETTO:+0200
TZNAME:CEST
DTSTART:20250330T010000
END:DAYLIGHT
BEGIN:STANDARD
TZOFFSETFROM:+0200
TZOFFSETTO:+0100
TZNAME:CET
DTSTART:20251026T010000
END:STANDARD
END:VTIMEZONE
BEGIN:VEVENT
DTSTART;TZID=Europe/Paris:20240928T100000
DTEND;TZID=Europe/Paris:20240928T120000
DTSTAMP:20260421T034644
CREATED:20240207T154213Z
LAST-MODIFIED:20240819T200731Z
UID:2105-1727517600-1727524800@lesvisitesdesfilles.fr
SUMMARY:Le Musée de Saint-Romain en Gal Vienne
DESCRIPTION:Marine vous propose une visite du musée de Saint-Romain-en-Gal\, pour vous faire découvrir ce quartier viennois dans le 1er siècle de notre ère. Au musée\, vous pourrez admirer les magnifiques mosaïques\, sculptures et enduits peints qui ornaient les luxueuses demeures romaines et vous découvrirez à quoi ressemblait la ville de Vienne à cette époque grâce à des maquettes.
URL:https://lesvisitesdesfilles.fr/evenement/2024-09-28-le-musee-de-saint-romain-en-gal-vienne/
CATEGORIES:Architecture,Histoire,Musée
ATTACH;FMTTYPE=image/jpeg:https://lesvisitesdesfilles.fr/wp-content/uploads/2024/02/st-romain-en-gal-site-gallo-romain-2.jpg
END:VEVENT
END:VCALENDAR