BEGIN:VCALENDAR
VERSION:2.0
PRODID:-//Les Visites des Filles - ECPv6.15.20//NONSGML v1.0//EN
CALSCALE:GREGORIAN
METHOD:PUBLISH
X-WR-CALNAME:Les Visites des Filles
X-ORIGINAL-URL:https://lesvisitesdesfilles.fr
X-WR-CALDESC:Évènements pour Les Visites des Filles
REFRESH-INTERVAL;VALUE=DURATION:PT1H
X-Robots-Tag:noindex
X-PUBLISHED-TTL:PT1H
BEGIN:VTIMEZONE
TZID:Europe/Paris
BEGIN:DAYLIGHT
TZOFFSETFROM:+0100
TZOFFSETTO:+0200
TZNAME:CEST
DTSTART:20240331T010000
END:DAYLIGHT
BEGIN:STANDARD
TZOFFSETFROM:+0200
TZOFFSETTO:+0100
TZNAME:CET
DTSTART:20241027T010000
END:STANDARD
BEGIN:DAYLIGHT
TZOFFSETFROM:+0100
TZOFFSETTO:+0200
TZNAME:CEST
DTSTART:20250330T010000
END:DAYLIGHT
BEGIN:STANDARD
TZOFFSETFROM:+0200
TZOFFSETTO:+0100
TZNAME:CET
DTSTART:20251026T010000
END:STANDARD
BEGIN:DAYLIGHT
TZOFFSETFROM:+0100
TZOFFSETTO:+0200
TZNAME:CEST
DTSTART:20260329T010000
END:DAYLIGHT
BEGIN:STANDARD
TZOFFSETFROM:+0200
TZOFFSETTO:+0100
TZNAME:CET
DTSTART:20261025T010000
END:STANDARD
END:VTIMEZONE
BEGIN:VEVENT
DTSTART;TZID=Europe/Paris:20250308T140000
DTEND;TZID=Europe/Paris:20250308T160000
DTSTAMP:20260420T210701
CREATED:20250120T102903Z
LAST-MODIFIED:20250121T100446Z
UID:2155-1741442400-1741449600@lesvisitesdesfilles.fr
SUMMARY:Vienne industrielle : la vallée de la Gère et le Musée de l'Industrie Textile
DESCRIPTION:Votre guide Marine vous propose de découvrir une facette plutôt méconnue de la ville de Vienne : son passé industriel. \nVenez vous promener dans la Vallée de la Gère\, berceau de l’industrie textile viennoise\, spécialisée dans la laine cardée. Les nombreuses usines venues s’implanter sur ses deux rives ont fait la renommée de la ville pendant près de 200 ans ! \nSi toutes les usines ont malheureusement fermé depuis\, vous découvrirez ce que certaines sont devenues : la ville a lancé un important projet de réhabilitation de la Vallée de la Gère afin de transformer ce quartier et de lui redonner de la vie.\nVous découvrirez également le Musée de l’Industrie Textile\, qui retrace tout le cycle de production de la laine cardée viennoise avec de véritables machines et vous permettra d’en savoir plus sur l’histoire et les conditions de travail des anciens ouvriers.\nN’attendez plus pour réserver votre place pour cette visite inédite ! \nLe tarif affiché inclut l’entrée au Musée de l’Industrie Textile de Vienne.Vall\nLe lieu de rendez-vous vous sera communiqué quelques jours avant la visite par mail.
URL:https://lesvisitesdesfilles.fr/evenement/2025-03-08-vienne-industrielle-la-vallee-de-la-gere-et-le-musee-de-lindustrie-textile/
LOCATION:Vienne\, Vienne\, Auvergne-Rhône-Alpes\, 38200\, France
CATEGORIES:Architecture,Histoire,Musée
ATTACH;FMTTYPE=image/jpeg:https://lesvisitesdesfilles.fr/wp-content/uploads/2025/01/front-de-Gere-apres-amenagement.jpg
END:VEVENT
END:VCALENDAR