BEGIN:VCALENDAR
VERSION:2.0
PRODID:-//Les Visites des Filles - ECPv6.15.20//NONSGML v1.0//EN
CALSCALE:GREGORIAN
METHOD:PUBLISH
X-WR-CALNAME:Les Visites des Filles
X-ORIGINAL-URL:https://lesvisitesdesfilles.fr
X-WR-CALDESC:Évènements pour Les Visites des Filles
REFRESH-INTERVAL;VALUE=DURATION:PT1H
X-Robots-Tag:noindex
X-PUBLISHED-TTL:PT1H
BEGIN:VTIMEZONE
TZID:Europe/Paris
BEGIN:DAYLIGHT
TZOFFSETFROM:+0100
TZOFFSETTO:+0200
TZNAME:CEST
DTSTART:20240331T010000
END:DAYLIGHT
BEGIN:STANDARD
TZOFFSETFROM:+0200
TZOFFSETTO:+0100
TZNAME:CET
DTSTART:20241027T010000
END:STANDARD
BEGIN:DAYLIGHT
TZOFFSETFROM:+0100
TZOFFSETTO:+0200
TZNAME:CEST
DTSTART:20250330T010000
END:DAYLIGHT
BEGIN:STANDARD
TZOFFSETFROM:+0200
TZOFFSETTO:+0100
TZNAME:CET
DTSTART:20251026T010000
END:STANDARD
BEGIN:DAYLIGHT
TZOFFSETFROM:+0100
TZOFFSETTO:+0200
TZNAME:CEST
DTSTART:20260329T010000
END:DAYLIGHT
BEGIN:STANDARD
TZOFFSETFROM:+0200
TZOFFSETTO:+0100
TZNAME:CET
DTSTART:20261025T010000
END:STANDARD
END:VTIMEZONE
BEGIN:VEVENT
DTSTART;TZID=Europe/Paris:20250405T143000
DTEND;TZID=Europe/Paris:20250405T163000
DTSTAMP:20260420T210735
CREATED:20250120T105019Z
LAST-MODIFIED:20250220T181112Z
UID:2160-1743863400-1743870600@lesvisitesdesfilles.fr
SUMMARY:Vienne médiévale
DESCRIPTION:Si la ville de Vienne (en Isère) possède un patrimoine gallo-romain remarquable\, le Théâtre Antique et le temple d’Auguste et Livie ne sont pas ses seuls « joyaux ».\nEn effet\, Vienne a également conservé un important patrimoine médiéval et notamment religieux. Elle était d’ailleurs autrefois nommée la « Cité Sainte » en raison de ses nombreuses églises et du siège de l’Archevêché qui y était fixé. \nDurant la visite\, votre guide Marine vous emmènera dans le centre-ville à la découverte des vestiges du Moyen-Âge encore visibles.\nElle vous fera découvrir l’ancienne cathédrale Saint-Maurice\, imposant édifice marqué par plusieurs évènements historiques.\nMais également l’église de Saint-André-le-Bas\, vestige de l’ancienne abbaye du même nom qui fut l’une des plus riches de la ville.\nLa visite se terminera avec le cloitre Saint-André-le-Bas\, labellisé Musée de France\, unique cloitre du XIIe siècle qui subsiste en région Rhône-Alpes. \nLe prix affiché inclut le prix d’entrée au cloitre Saint-André-le-Bas.\nLe lieu de rendez-vous sera communiqué par mail quelques jours avant la visite.
URL:https://lesvisitesdesfilles.fr/evenement/2025-04-05-vienne-au-fil-du-temps/
LOCATION:Vienne\, Vienne\, Auvergne-Rhône-Alpes\, 38200\, France
CATEGORIES:Architecture,Histoire,Musée,Urbanisme
ATTACH;FMTTYPE=image/jpeg:https://lesvisitesdesfilles.fr/wp-content/uploads/2025/01/100_2778-scaled.jpg
END:VEVENT
END:VCALENDAR