BEGIN:VCALENDAR
VERSION:2.0
PRODID:-//Les Visites des Filles - ECPv6.15.20//NONSGML v1.0//EN
CALSCALE:GREGORIAN
METHOD:PUBLISH
X-WR-CALNAME:Les Visites des Filles
X-ORIGINAL-URL:https://lesvisitesdesfilles.fr
X-WR-CALDESC:Évènements pour Les Visites des Filles
REFRESH-INTERVAL;VALUE=DURATION:PT1H
X-Robots-Tag:noindex
X-PUBLISHED-TTL:PT1H
BEGIN:VTIMEZONE
TZID:Europe/Paris
BEGIN:DAYLIGHT
TZOFFSETFROM:+0100
TZOFFSETTO:+0200
TZNAME:CEST
DTSTART:20240331T010000
END:DAYLIGHT
BEGIN:STANDARD
TZOFFSETFROM:+0200
TZOFFSETTO:+0100
TZNAME:CET
DTSTART:20241027T010000
END:STANDARD
BEGIN:DAYLIGHT
TZOFFSETFROM:+0100
TZOFFSETTO:+0200
TZNAME:CEST
DTSTART:20250330T010000
END:DAYLIGHT
BEGIN:STANDARD
TZOFFSETFROM:+0200
TZOFFSETTO:+0100
TZNAME:CET
DTSTART:20251026T010000
END:STANDARD
BEGIN:DAYLIGHT
TZOFFSETFROM:+0100
TZOFFSETTO:+0200
TZNAME:CEST
DTSTART:20260329T010000
END:DAYLIGHT
BEGIN:STANDARD
TZOFFSETFROM:+0200
TZOFFSETTO:+0100
TZNAME:CET
DTSTART:20261025T010000
END:STANDARD
END:VTIMEZONE
BEGIN:VEVENT
DTSTART;TZID=Europe/Paris:20250419T143000
DTEND;TZID=Europe/Paris:20250419T163000
DTSTAMP:20260420T212408
CREATED:20250120T105622Z
LAST-MODIFIED:20250226T150040Z
UID:2163-1745073000-1745080200@lesvisitesdesfilles.fr
SUMMARY:Fourvière antique
DESCRIPTION:La visite guidée de la colline de Fourvière vous fera voyager dans le temps\, depuis la période gauloise\, à travers la conquête de la Gaule par Jules César et jusqu’à l’antiquité tardive. Suivez Emilie au devant les monuments romains : théâtre\, odéon…\nConnaissez-vous l’origine de la fondation de Lugdunum ? L’importance de son passé et ses vestiges retrouvés ?\nPour en découvrir ou redécouvrir l’histoire et la richesse de son patrimoine\, Emilie vous propose de visiter le plateau de la colline de Fourvière\, où la colonie a été fondée en 43 avant JC. Vous poursuivrez la visite par les deux théâtres antiques pour mieux comprendre leur fonction\, spectacles et les restaurations menées lors de leur découverte.\nEt vous découvrirez les vestiges des thermes cachés derrière une résidence du quartier Saint-Just.\nVous aimez l’Antiquité\, les romains et l’archéologie alors inscrivez-vous pour la visite d’Emilie le samedi 19 avril\, elle partagera avec passion et enthousiasme toutes ses anecdotes !\nInformation : 0633679809 (Emilie)
URL:https://lesvisitesdesfilles.fr/evenement/2025-04-19-fourviere-antique/
LOCATION:Fourvière\, Rue Roger Radisson\, Lyon\, Auvergne-Rhône-Alpes\, 69005\, France
CATEGORIES:Architecture,Histoire,Urbanisme
ATTACH;FMTTYPE=image/jpeg:https://lesvisitesdesfilles.fr/wp-content/uploads/2024/02/100_4163-scaled.jpg
ORGANIZER;CN="Emilie":MAILTO:lesvisites.desfilles@gmail.com
END:VEVENT
END:VCALENDAR