BEGIN:VCALENDAR
VERSION:2.0
PRODID:-//Les Visites des Filles - ECPv6.15.20//NONSGML v1.0//EN
CALSCALE:GREGORIAN
METHOD:PUBLISH
X-ORIGINAL-URL:https://lesvisitesdesfilles.fr
X-WR-CALDESC:Évènements pour Les Visites des Filles
REFRESH-INTERVAL;VALUE=DURATION:PT1H
X-Robots-Tag:noindex
X-PUBLISHED-TTL:PT1H
BEGIN:VTIMEZONE
TZID:Europe/Paris
BEGIN:DAYLIGHT
TZOFFSETFROM:+0100
TZOFFSETTO:+0200
TZNAME:CEST
DTSTART:20200329T010000
END:DAYLIGHT
BEGIN:STANDARD
TZOFFSETFROM:+0200
TZOFFSETTO:+0100
TZNAME:CET
DTSTART:20201025T010000
END:STANDARD
BEGIN:DAYLIGHT
TZOFFSETFROM:+0100
TZOFFSETTO:+0200
TZNAME:CEST
DTSTART:20210328T010000
END:DAYLIGHT
BEGIN:STANDARD
TZOFFSETFROM:+0200
TZOFFSETTO:+0100
TZNAME:CET
DTSTART:20211031T010000
END:STANDARD
BEGIN:DAYLIGHT
TZOFFSETFROM:+0100
TZOFFSETTO:+0200
TZNAME:CEST
DTSTART:20220327T010000
END:DAYLIGHT
BEGIN:STANDARD
TZOFFSETFROM:+0200
TZOFFSETTO:+0100
TZNAME:CET
DTSTART:20221030T010000
END:STANDARD
END:VTIMEZONE
BEGIN:VEVENT
DTSTART;TZID=Europe/Paris:20211204T143000
DTEND;TZID=Europe/Paris:20211204T163000
DTSTAMP:20260422T144844
CREATED:20201116T145737Z
LAST-MODIFIED:20211116T155308Z
UID:1758-1638628200-1638635400@lesvisitesdesfilles.fr
SUMMARY:Visite guidée de la Cathédrale Saint-Jean
DESCRIPTION:Voici une visite monographique\, c’est à dire sur un seul monument. La Cathédrale Saint Jean est l’église majeure de Lyon. La plupart des lyonnais la connaissent mais ne savent pas qu’elle a été construite à partir de la fin de l’Antiquité\, puis reconstruite plusieurs fois au cours du Moyen-Age\, ou qu’elle représente le pouvoir de l’évêque. Restaurée et mise en valeur depuis le début de notre siècle\, l’église préserve encore ses vitraux et ses sculptures romanes et gothiques. Joyau parmi les joyaux de la ville\, son histoire s’insère dans l’Histoire européenne. Elle a abrité des conciles\, des couronnements de papes\, des mariages royaux et même la visite de l’empereur Napoléon accompagné de son épouse Joséphine. \nVenez lire les médaillons de la façade ouest\, décrypter les messages des vitraux du chœur\, élucider les mystères de l’architecture\, visiter la salle du Trésor\, comprendre les vestiges du jardin archéologique et voir l’horloge astronomique.
URL:https://lesvisitesdesfilles.fr/evenement/2021-12-04-visite-guidee-de-la-cathedrale-saint-jean/
LOCATION:Vieux Lyon\, métro Vieux-Lyon\, Lyon\, Auvergne-Rhône-Alpes\, 69005\, France
CATEGORIES:Architecture,Histoire
ATTACH;FMTTYPE=image/jpeg:https://lesvisitesdesfilles.fr/wp-content/uploads/2020/05/cathedrale-saint-jean.jpg
ORGANIZER;CN="Corinne":MAILTO:lesvisites.desfilles@gmail.com
END:VEVENT
BEGIN:VEVENT
DTSTART;TZID=Europe/Paris:20211218T143000
DTEND;TZID=Europe/Paris:20211218T163000
DTSTAMP:20260422T144844
CREATED:20211012T132539Z
LAST-MODIFIED:20211122T101111Z
UID:1835-1639837800-1639845000@lesvisitesdesfilles.fr
SUMMARY:A la découverte des 900 ans de l'Hôtel Dieu de Lyon
DESCRIPTION:Vous passez tout le temps devant l’Hôtel Dieu en voiture et n’avez jamais passé ses murs ? Vous y êtes déjà allés rendre visite à une personne hospitalisée avant sa fermeture en 2010 et vous demandez comment c’est aujourd’hui? Vous avez vous-même vu naître vos enfants dans ce monument emblématique de Lyon et êtes nostalgiques du lieu ? ou bien vous vous intéressez à la transformation de bâtiments fonctionnels en lieux ouverts au commerce ? N’hésitez plus à suivre notre visite guidée à la découverte des 900 ans de l’Hôtel-Dieu pendant laquelle vous en arpenterez les cours et en découvrirez les différentes parties. \nMonument emblématique du paysage lyonnais\, l’Hôtel-Dieu a vu naître des générations de lyonnais\, a vu passer des milliers de malades\, a connu des hauts et des bas avant de devoir finalement fermer\, faute de moyens. Cette visite guidée vous permettra de vous replonger dans la vie hospitalière des siècles passés\, d’aborder de grands noms de la médecine lyonnaise ou même de la littérature\, d’en savoir plus sur la gestion et l’administration de l’hôpital aux siècles passés ainsi que sur la restauration qui a redonné à ce bâtiment toutes ses lettres de noblesse. \nLa visite menée par Iris se déroulera dans la rue ou dans les cours\, l’intérieur du bâtiment étant occupé par des magasins\, des bureaux\, des bars et restaurants\, un hôtel\, une banque et la Cité de la Gastronomie.
URL:https://lesvisitesdesfilles.fr/evenement/2021-12-18-a-la-decouverte-des-900-ans-de-lhotel-dieu-de-lyon/
LOCATION:Bellecour\, place Bellecour\, Lyon\, 69002\, France
CATEGORIES:Architecture,Histoire
ATTACH;FMTTYPE=image/jpeg:https://lesvisitesdesfilles.fr/wp-content/uploads/2020/05/P6180051-scaled-e1588610274536.jpg
END:VEVENT
END:VCALENDAR