BEGIN:VCALENDAR
VERSION:2.0
PRODID:-//Les Visites des Filles - ECPv6.15.20//NONSGML v1.0//EN
CALSCALE:GREGORIAN
METHOD:PUBLISH
X-ORIGINAL-URL:https://lesvisitesdesfilles.fr
X-WR-CALDESC:Évènements pour Les Visites des Filles
REFRESH-INTERVAL;VALUE=DURATION:PT1H
X-Robots-Tag:noindex
X-PUBLISHED-TTL:PT1H
BEGIN:VTIMEZONE
TZID:Europe/Paris
BEGIN:DAYLIGHT
TZOFFSETFROM:+0100
TZOFFSETTO:+0200
TZNAME:CEST
DTSTART:20210328T010000
END:DAYLIGHT
BEGIN:STANDARD
TZOFFSETFROM:+0200
TZOFFSETTO:+0100
TZNAME:CET
DTSTART:20211031T010000
END:STANDARD
BEGIN:DAYLIGHT
TZOFFSETFROM:+0100
TZOFFSETTO:+0200
TZNAME:CEST
DTSTART:20220327T010000
END:DAYLIGHT
BEGIN:STANDARD
TZOFFSETFROM:+0200
TZOFFSETTO:+0100
TZNAME:CET
DTSTART:20221030T010000
END:STANDARD
BEGIN:DAYLIGHT
TZOFFSETFROM:+0100
TZOFFSETTO:+0200
TZNAME:CEST
DTSTART:20230326T010000
END:DAYLIGHT
BEGIN:STANDARD
TZOFFSETFROM:+0200
TZOFFSETTO:+0100
TZNAME:CET
DTSTART:20231029T010000
END:STANDARD
END:VTIMEZONE
BEGIN:VEVENT
DTSTART;TZID=Europe/Paris:20220108T143000
DTEND;TZID=Europe/Paris:20220108T163000
DTSTAMP:20260422T133410
CREATED:20211116T152834Z
LAST-MODIFIED:20211122T093613Z
UID:1844-1641652200-1641659400@lesvisitesdesfilles.fr
SUMMARY:Saint-Just + Saint-Irénée\, les secrets de la colline
DESCRIPTION:Depuis la fondation de la ville de Lyon il y a plus de 2000 ans\, la colline de Fourvière s’est dotée de nombreux monuments : outre les théâtres antiques très connus\, nous pouvons y trouver des établissements d’enseignement\, des maisons anciennes\, des restes de murailles de la ville et même les vertiges des thermes romains de l’ancienne cité de Lugdunum. \nLes quartiers de Saint-Just et Saint-Irénée ont aussi leur passé : au Moyen-âge\, ils constituaient tous deux des faubourgs animés par des petits commerces\, des artisans\, et des congrégations religieuses. \nLe cloître de Saint-Just\, avec sa basilique très importante à l’époque\, a accueilli des rois\, des princes\, et des papes. Nous découvrirons les vestiges archéologiques de ce haut lieu de la chrétienté au Moyen-Age. \nTout proche\, Saint-Irénée a été une riche nécropole et un haut lieu de pèlerinage\, et son église possède une crypte datant du 9ème siècle au moins. \nEntre les théâtres et l’archevêché\, chaque coin de rue recèle des trésors. Nous vous inviterons aussi à découvrir des jardins avec parfois de magnifiques panoramas sur la ville.La balade se terminera au pied du Fort Saint-Irénée où nous découvrirons les vestiges des aqueducs romains. \n 
URL:https://lesvisitesdesfilles.fr/evenement/2022-01-08-saint-just-saint-irenee-les-secrets-de-la-colline/
LOCATION:Fourvière\, Rue Roger Radisson\, Lyon\, Auvergne-Rhône-Alpes\, 69005\, France
CATEGORIES:Architecture,Histoire
ATTACH;FMTTYPE=image/jpeg:https://lesvisitesdesfilles.fr/wp-content/uploads/2020/05/DSCF8425.jpg
ORGANIZER;CN="Corinne":MAILTO:lesvisites.desfilles@gmail.com
END:VEVENT
BEGIN:VEVENT
DTSTART;TZID=Europe/Paris:20220119T143000
DTEND;TZID=Europe/Paris:20220119T163000
DTSTAMP:20260422T133410
CREATED:20220107T105556Z
LAST-MODIFIED:20220107T105556Z
UID:1950-1642602600-1642609800@lesvisitesdesfilles.fr
SUMMARY:Le Vieux Lyon hors des sentiers battus (St Georges)
DESCRIPTION:Les « Visites des Filles »\, spécialisées dans les parcours hors des sentiers battus vous proposent une balade dans le Vieux Lyon. Le Vieux Lyon ? Le quartier le plus touristique de Lyon ? Oui mais… tout de même loin des touristes\, des magasins de glaces et des traboules sur-fréquentées. En effet\, nous vous proposons une balade dans un coin resté authentique : St Georges. C’est en quelque sorte le parent pauvre de la rive droite de la Saône\, beaucoup moins visité mais à tort car ce quartier a aussi son histoire\, ses petites histoires et ses jolis bâtiments Renaissance. \nAu Moyen-âge\, il était un quartier artisanal et portuaire ; aujourd’hui\, ses habitants sont ravis d’occuper un quartier protégé au titre de la loi Malraux. Les archéologues y font encore de nos jours des découvertes\, si bien que la vie quotidienne se confronte parfois à l’Histoire d’il y a deux mille ans. Il est tout autant pittoresque et aussi bien préservé que Saint-Jean. Il a certes moins de traboules\, mais il a un caractère bien affirmé et authentique. \nCette visite guidée vous fera donc découvrir les coins et recoins de ce quartier (rue Mourguet\, rue de la Quarantaine\, rue du Doyenné\, place de la Trinité\, église Saint Georges\, mur peint\, sculpture\, quais de Saône).
URL:https://lesvisitesdesfilles.fr/evenement/2022-01-19-le-vieux-lyon-hors-des-sentiers-battus-st-georges-2/
CATEGORIES:Architecture,Histoire
ATTACH;FMTTYPE=image/jpeg:https://lesvisitesdesfilles.fr/wp-content/uploads/2020/05/gourguillon.jpg
ORGANIZER;CN="Cl%C3%A9mence":MAILTO:lesvisites.desfilles@gmail.com
END:VEVENT
BEGIN:VEVENT
DTSTART;TZID=Europe/Paris:20220122T143000
DTEND;TZID=Europe/Paris:20220122T163000
DTSTAMP:20260422T133410
CREATED:20211116T152747Z
LAST-MODIFIED:20211122T093539Z
UID:1845-1642861800-1642869000@lesvisitesdesfilles.fr
SUMMARY:Saint-Just + Saint-Irénée\, les secrets de la colline
DESCRIPTION:Depuis la fondation de la ville de Lyon il y a plus de 2000 ans\, la colline de Fourvière s’est dotée de nombreux monuments : outre les théâtres antiques très connus\, nous pouvons y trouver des établissements d’enseignement\, des maisons anciennes\, des restes de murailles de la ville et même les vertiges des thermes romains de l’ancienne cité de Lugdunum. \nLes quartiers de Saint-Just et Saint-Irénée ont aussi leur passé : au Moyen-âge\, ils constituaient tous deux des faubourgs animés par des petits commerces\, des artisans\, et des congrégations religieuses. \nLe cloître de Saint-Just\, avec sa basilique très importante à l’époque\, a accueilli des rois\, des princes\, et des papes. Nous découvrirons les vestiges archéologiques de ce haut lieu de la chrétienté au Moyen-Age. \nTout proche\, Saint-Irénée a été une riche nécropole et un haut lieu de pèlerinage\, et son église possède une crypte datant du 9ème siècle au moins. \nEntre les théâtres et l’archevêché\, chaque coin de rue recèle des trésors. Nous vous inviterons aussi à découvrir des jardins avec parfois de magnifiques panoramas sur la ville.La balade se terminera au pied du Fort Saint-Irénée où nous découvrirons les vestiges des aqueducs romains. \n 
URL:https://lesvisitesdesfilles.fr/evenement/2022-01-22-saint-just-saint-irenee-les-secrets-de-la-colline/
LOCATION:Fourvière\, Rue Roger Radisson\, Lyon\, Auvergne-Rhône-Alpes\, 69005\, France
CATEGORIES:Architecture,Histoire
ATTACH;FMTTYPE=image/jpeg:https://lesvisitesdesfilles.fr/wp-content/uploads/2020/05/DSCF8425.jpg
ORGANIZER;CN="Corinne":MAILTO:lesvisites.desfilles@gmail.com
END:VEVENT
END:VCALENDAR