BEGIN:VCALENDAR
VERSION:2.0
PRODID:-//Les Visites des Filles - ECPv6.15.20//NONSGML v1.0//EN
CALSCALE:GREGORIAN
METHOD:PUBLISH
X-WR-CALNAME:Les Visites des Filles
X-ORIGINAL-URL:https://lesvisitesdesfilles.fr
X-WR-CALDESC:Évènements pour Les Visites des Filles
REFRESH-INTERVAL;VALUE=DURATION:PT1H
X-Robots-Tag:noindex
X-PUBLISHED-TTL:PT1H
BEGIN:VTIMEZONE
TZID:Europe/Paris
BEGIN:DAYLIGHT
TZOFFSETFROM:+0100
TZOFFSETTO:+0200
TZNAME:CEST
DTSTART:20210328T010000
END:DAYLIGHT
BEGIN:STANDARD
TZOFFSETFROM:+0200
TZOFFSETTO:+0100
TZNAME:CET
DTSTART:20211031T010000
END:STANDARD
BEGIN:DAYLIGHT
TZOFFSETFROM:+0100
TZOFFSETTO:+0200
TZNAME:CEST
DTSTART:20220327T010000
END:DAYLIGHT
BEGIN:STANDARD
TZOFFSETFROM:+0200
TZOFFSETTO:+0100
TZNAME:CET
DTSTART:20221030T010000
END:STANDARD
BEGIN:DAYLIGHT
TZOFFSETFROM:+0100
TZOFFSETTO:+0200
TZNAME:CEST
DTSTART:20230326T010000
END:DAYLIGHT
BEGIN:STANDARD
TZOFFSETFROM:+0200
TZOFFSETTO:+0100
TZNAME:CET
DTSTART:20231029T010000
END:STANDARD
END:VTIMEZONE
BEGIN:VEVENT
DTSTART;TZID=Europe/Paris:20220507T143000
DTEND;TZID=Europe/Paris:20220507T163000
DTSTAMP:20260422T080043
CREATED:20211116T152501Z
LAST-MODIFIED:20220315T154638Z
UID:1854-1651933800-1651941000@lesvisitesdesfilles.fr
SUMMARY:Lyon en pleine Résistance
DESCRIPTION:Lyon est connue comme la Capitale de la Résistance mais pourquoi exactement? D’où vient ce titre? Qui l’a donné? Que s’est-il vraiment passé entre 1939 et 1945 dans la Capitale des Gaules? Comment était la vie de tous les jours à ce moment-là? \nCette visite vous plongera dans le Lyon de la Seconde Guerre Mondiale\, avec des images\, des cartes\, des anecdotes… \nNous irons sur les traces de Jean Moulin\, Raymond et Lucie Aubrac et autres résistants. Nous réaliserons que beaucoup de gens risquaient leurs vies tous les jours\, même sans être un grand nom de la Résistance. Vous aurez quelques exemple d’actes qui peuvent sembler anodins mais qui étaient en fait héroïques. Vous verrez les endroits qui ont un lien avec cette sombre page de notre histoire\, éventuellement les célèbres « traboules » (passages à travers les immeubles)\, parfaitement discrètes. Cette visite à fort contenu historique s’appuie essentiellement sur les noms de rues\, sur les plaques commémoratives\, sur les monuments éventuels et beaucoup sur l’environnement urbain avec remise en contexte. En résumé\, venez vous replonger dans les années 40 pour découvrir les petites histoires qui ont fait l’Histoire et ce qu’il en reste.
URL:https://lesvisitesdesfilles.fr/evenement/2022-05-07-lyon-en-pleine-resistance/
LOCATION:Presqu’île\, Lyon\, Auvergne-Rhône-Alpes\, 69001\, France
CATEGORIES:Histoire
ATTACH;FMTTYPE=image/jpeg:https://lesvisitesdesfilles.fr/wp-content/uploads/2020/05/resistance.jpg
ORGANIZER;CN="Corinne":MAILTO:lesvisites.desfilles@gmail.com
END:VEVENT
BEGIN:VEVENT
DTSTART;TZID=Europe/Paris:20220511T143000
DTEND;TZID=Europe/Paris:20220511T163000
DTSTAMP:20260422T080043
CREATED:20220407T141631Z
LAST-MODIFIED:20220407T141631Z
UID:1989-1652279400-1652286600@lesvisitesdesfilles.fr
SUMMARY:Visite historique du quartier d'Ainay
DESCRIPTION:Clémence vous amène à la découverte du quartier d’Ainay\, quartier organisé autour de la populaire rue piétonne Victor Hugo et à quelques pas de la place Bellecour. Il s’agit d’un quartier historique de la ville correspondant au périmètre Unesco et à ce titre particulièrement patrimonial. Quartier de prédilection de l’aristocratie lyonnaise dès le XVIIIe siècle puis de la grande bourgeoisie au XIXe\, ce petit bout de Presqu’île a su se transformer tout en conservant son âme. \nCette visite vous permettra de découvrir son riche patrimoine\, notamment la plus belle église-abbatiale (et basilique) Romane de Lyon\, Saint-Martin d’Ainay\, dont les origines remontent au IXème siècle et qui est particulièrement bien conservée et restaurée.  \nNous répondrons à de nombreuses questions que vous vous êtes peut-être déjà posées en faisant votre shopping : d’où vient le nom de « place Carnot » ? d’où vient le nom « Ainay » ? Connaissez vous les mosaïques romaines découvertes à Ainay ? Où se trouvaient les remparts qui délimitaient le sud de la presqu’île jusqu’au XIXème siècle ? \n Ainay\, c’est aussi le quartier des antiquaires dans la fameuse rue Auguste Comte\, des traboules méconnues qui servirent à la Résistance et des premiers hôtels particuliers dès le XVIIème siècle\, comme le magnifique hôtel de Villeroy\, plus connu sous le nom de musée des Tissus. \nLaissez-vous guider pour découvrir autrement ce quartier ! \nN’hésitez pas à nous contacter pour toute question via le formulaire de demande d’information ci-contre.
URL:https://lesvisitesdesfilles.fr/evenement/2022-05-11-visite-historique-du-quartier-dainay/
CATEGORIES:Architecture,Histoire
ATTACH;FMTTYPE=image/jpeg:https://lesvisitesdesfilles.fr/wp-content/uploads/2020/05/Ainay1-2.jpg
ORGANIZER;CN="Cl%C3%A9mence":MAILTO:lesvisites.desfilles@gmail.com
END:VEVENT
BEGIN:VEVENT
DTSTART;TZID=Europe/Paris:20220521T143000
DTEND;TZID=Europe/Paris:20220521T163000
DTSTAMP:20260422T080043
CREATED:20211116T152441Z
LAST-MODIFIED:20220315T154705Z
UID:1855-1653143400-1653150600@lesvisitesdesfilles.fr
SUMMARY:Lyon en pleine Résistance
DESCRIPTION:Lyon est connue comme la Capitale de la Résistance mais pourquoi exactement? D’où vient ce titre? Qui l’a donné? Que s’est-il vraiment passé entre 1939 et 1945 dans la Capitale des Gaules? Comment était la vie de tous les jours à ce moment-là? \nCette visite vous plongera dans le Lyon de la Seconde Guerre Mondiale\, avec des images\, des cartes\, des anecdotes… \nNous irons sur les traces de Jean Moulin\, Raymond et Lucie Aubrac et autres résistants. Nous réaliserons que beaucoup de gens risquaient leurs vies tous les jours\, même sans être un grand nom de la Résistance. Vous aurez quelques exemple d’actes qui peuvent sembler anodins mais qui étaient en fait héroïques. Vous verrez les endroits qui ont un lien avec cette sombre page de notre histoire\, éventuellement les célèbres « traboules » (passages à travers les immeubles)\, parfaitement discrètes. Cette visite à fort contenu historique s’appuie essentiellement sur les noms de rues\, sur les plaques commémoratives\, sur les monuments éventuels et beaucoup sur l’environnement urbain avec remise en contexte. En résumé\, venez vous replonger dans les années 40 pour découvrir les petites histoires qui ont fait l’Histoire et ce qu’il en reste.
URL:https://lesvisitesdesfilles.fr/evenement/2022-05-21-lyon-en-pleine-resistance/
LOCATION:Presqu’île\, Lyon\, Auvergne-Rhône-Alpes\, 69001\, France
CATEGORIES:Histoire
ATTACH;FMTTYPE=image/jpeg:https://lesvisitesdesfilles.fr/wp-content/uploads/2020/05/resistance.jpg
ORGANIZER;CN="Corinne":MAILTO:lesvisites.desfilles@gmail.com
END:VEVENT
BEGIN:VEVENT
DTSTART;TZID=Europe/Paris:20220525T143000
DTEND;TZID=Europe/Paris:20220525T163000
DTSTAMP:20260422T080043
CREATED:20220407T142639Z
LAST-MODIFIED:20220407T142639Z
UID:1991-1653489000-1653496200@lesvisitesdesfilles.fr
SUMMARY:La Presqu'île de place en place
DESCRIPTION:La presqu’île de Lyon\, et bien entendu son centre ville\, est comme tout centre ville :  il présente des monuments\, des rues\, des bâtiments collectifs et des places. Après s’être intéressée aux styles des édifices de logements (dans le cadre d’une autre visite présente au catalogue)\, Marion a ici concocté une visite guidée focalisée sur les places. Lieux de vie\, de passage\, de rencontre voire d’émeutes\, de répression ou autres\, une ville sans place ne serait pas une vraie ville\, n’est-ce pas ? \nLe centre ville de Lyon a de nombreuses places allant des très connues (Terreaux\, Bellecour\, Jacobins…) aux moins connues (Vollon\, Meissonier) en passant par les familières que l’on fréquente sans en connaître finalement le nom (Comédie\, Tolozan) ou celles qui ne ressemblent pas vraiment à une place (Cordeliers). L’itinéraire proposé ici permet de voir la presqu’île sous un prisme différent du quotidien. \nCette visite guidée en presqu’île vous en permettra d’en savoir davantage sur : \n\nL’évolution de l’urbanisme au fil des siècles\nLes rôles d’une place\nLes anecdotes autour de certaines places\nL’histoire de la création de ces places\nL’origine de leurs noms\nLes bâtiments qui les entourent\nLes évolutions éventuellement prévues
URL:https://lesvisitesdesfilles.fr/evenement/2022-05-25-la-presquile-de-place-en-place/
CATEGORIES:Architecture,Histoire
ATTACH;FMTTYPE=image/jpeg:https://lesvisitesdesfilles.fr/wp-content/uploads/2020/05/DSCF7927-scaled-e1588613576386.jpg
ORGANIZER;CN="Cl%C3%A9mence":MAILTO:lesvisites.desfilles@gmail.com
END:VEVENT
END:VCALENDAR