BEGIN:VCALENDAR
VERSION:2.0
PRODID:-//Les Visites des Filles - ECPv6.15.20//NONSGML v1.0//EN
CALSCALE:GREGORIAN
METHOD:PUBLISH
X-ORIGINAL-URL:https://lesvisitesdesfilles.fr
X-WR-CALDESC:Évènements pour Les Visites des Filles
REFRESH-INTERVAL;VALUE=DURATION:PT1H
X-Robots-Tag:noindex
X-PUBLISHED-TTL:PT1H
BEGIN:VTIMEZONE
TZID:Europe/Paris
BEGIN:DAYLIGHT
TZOFFSETFROM:+0100
TZOFFSETTO:+0200
TZNAME:CEST
DTSTART:20210328T010000
END:DAYLIGHT
BEGIN:STANDARD
TZOFFSETFROM:+0200
TZOFFSETTO:+0100
TZNAME:CET
DTSTART:20211031T010000
END:STANDARD
BEGIN:DAYLIGHT
TZOFFSETFROM:+0100
TZOFFSETTO:+0200
TZNAME:CEST
DTSTART:20220327T010000
END:DAYLIGHT
BEGIN:STANDARD
TZOFFSETFROM:+0200
TZOFFSETTO:+0100
TZNAME:CET
DTSTART:20221030T010000
END:STANDARD
BEGIN:DAYLIGHT
TZOFFSETFROM:+0100
TZOFFSETTO:+0200
TZNAME:CEST
DTSTART:20230326T010000
END:DAYLIGHT
BEGIN:STANDARD
TZOFFSETFROM:+0200
TZOFFSETTO:+0100
TZNAME:CET
DTSTART:20231029T010000
END:STANDARD
END:VTIMEZONE
BEGIN:VEVENT
DTSTART;TZID=Europe/Paris:20220903T143000
DTEND;TZID=Europe/Paris:20220903T163000
DTSTAMP:20260422T014750
CREATED:20211116T164139Z
LAST-MODIFIED:20220315T155152Z
UID:1889-1662215400-1662222600@lesvisitesdesfilles.fr
SUMMARY:Histoire de la Gastronomie en Presqu'île
DESCRIPTION:Si la ville de Lyon est connue pour être la Capitale des Gueules\, La Presqu’île illustre parfaitement la culture gastronomique locale. Les bonnes tables font légion\, et les métiers de bouche cantonnent les rues de ce vieux quartier. Entre Perrache et Les Terreaux\, nous partirons à la recherche des adresses où la bourgeoisie s’est régalée des meilleurs plats. \nGrands restaurants étoilés\, écoles de cuisine renommées\, spécialités uniques en France\, et des milliers de visiteurs qui viennent à Lyon attirés par la « Capitale de la gastronomie » : la réputation de Lyon sur ce sujet n’est plus à faire ! \nMais savez vous pourquoi ? D’où provient la réputation mondiale de Lyon dans le domaine de la gastronomie ? \nBeaucoup de lieux emblématiques se trouvent ou se trouvaient sur la Presqu’île\, comme le restaurant de Marius Vettard ou celui d’Eugénie Brazier. Les premières halles de Lyon ont également été créées sur la Presqu’île.\nDe croustillantes anecdotes vous seront livrées tout au long de cet itinéraire savoureux\, sur les pas des grands chefs. \nEt à force de vous parler des bonnes choses\, nous vous aurons ouvert l’appétit. Nous entrerons peut-être dans l’une des boutiques\, mais chut ! c’est un secret ! Entre Histoire et Gastronomie\, vous cultiverez votre corps et votre esprit ! Nous vous laissons méditer ce dicton Lyonnais : « A tant faire que de choisir\, crois-moi\, la gourmandise est encore le meilleur péché de tous. »
URL:https://lesvisitesdesfilles.fr/evenement/2022-09-03-test/
LOCATION:Presqu’île\, Lyon\, Auvergne-Rhône-Alpes\, 69001\, France
CATEGORIES:Gastronomie,Histoire
ATTACH;FMTTYPE=image/jpeg:https://lesvisitesdesfilles.fr/wp-content/uploads/2020/05/8607517056_1a4247eefb_o.jpg
ORGANIZER;CN="Corinne":MAILTO:lesvisites.desfilles@gmail.com
END:VEVENT
BEGIN:VEVENT
DTSTART;TZID=Europe/Paris:20220917T143000
DTEND;TZID=Europe/Paris:20220917T163000
DTSTAMP:20260422T014750
CREATED:20211116T164252Z
LAST-MODIFIED:20220315T155235Z
UID:1890-1663425000-1663432200@lesvisitesdesfilles.fr
SUMMARY:Histoire de la Gastronomie en Presqu'île
DESCRIPTION:Si la ville de Lyon est connue pour être la Capitale des Gueules\, La Presqu’île illustre parfaitement la culture gastronomique locale. Les bonnes tables font légion\, et les métiers de bouche cantonnent les rues de ce vieux quartier. Entre Perrache et Les Terreaux\, nous partirons à la recherche des adresses où la bourgeoisie s’est régalée des meilleurs plats. \nGrands restaurants étoilés\, écoles de cuisine renommées\, spécialités uniques en France\, et des milliers de visiteurs qui viennent à Lyon attirés par la « Capitale de la gastronomie » : la réputation de Lyon sur ce sujet n’est plus à faire ! \nMais savez vous pourquoi ? D’où provient la réputation mondiale de Lyon dans le domaine de la gastronomie ? \nBeaucoup de lieux emblématiques se trouvent ou se trouvaient sur la Presqu’île\, comme le restaurant de Marius Vettard ou celui d’Eugénie Brazier. Les premières halles de Lyon ont également été créées sur la Presqu’île.\nDe croustillantes anecdotes vous seront livrées tout au long de cet itinéraire savoureux\, sur les pas des grands chefs. \nEt à force de vous parler des bonnes choses\, nous vous aurons ouvert l’appétit. Nous entrerons peut-être dans l’une des boutiques\, mais chut ! c’est un secret ! Entre Histoire et Gastronomie\, vous cultiverez votre corps et votre esprit ! Nous vous laissons méditer ce dicton Lyonnais : « A tant faire que de choisir\, crois-moi\, la gourmandise est encore le meilleur péché de tous. » \n 
URL:https://lesvisitesdesfilles.fr/evenement/2022-09-17-test/
LOCATION:Presqu’île\, Lyon\, Auvergne-Rhône-Alpes\, 69001\, France
CATEGORIES:Gastronomie,Histoire
ATTACH;FMTTYPE=image/jpeg:https://lesvisitesdesfilles.fr/wp-content/uploads/2020/05/8607517056_1a4247eefb_o.jpg
ORGANIZER;CN="Corinne":MAILTO:lesvisites.desfilles@gmail.com
END:VEVENT
END:VCALENDAR