BEGIN:VCALENDAR
VERSION:2.0
PRODID:-//Les Visites des Filles - ECPv6.15.20//NONSGML v1.0//EN
CALSCALE:GREGORIAN
METHOD:PUBLISH
X-WR-CALNAME:Les Visites des Filles
X-ORIGINAL-URL:https://lesvisitesdesfilles.fr
X-WR-CALDESC:Évènements pour Les Visites des Filles
REFRESH-INTERVAL;VALUE=DURATION:PT1H
X-Robots-Tag:noindex
X-PUBLISHED-TTL:PT1H
BEGIN:VTIMEZONE
TZID:Europe/Paris
BEGIN:DAYLIGHT
TZOFFSETFROM:+0100
TZOFFSETTO:+0200
TZNAME:CEST
DTSTART:20220327T010000
END:DAYLIGHT
BEGIN:STANDARD
TZOFFSETFROM:+0200
TZOFFSETTO:+0100
TZNAME:CET
DTSTART:20221030T010000
END:STANDARD
BEGIN:DAYLIGHT
TZOFFSETFROM:+0100
TZOFFSETTO:+0200
TZNAME:CEST
DTSTART:20230326T010000
END:DAYLIGHT
BEGIN:STANDARD
TZOFFSETFROM:+0200
TZOFFSETTO:+0100
TZNAME:CET
DTSTART:20231029T010000
END:STANDARD
BEGIN:DAYLIGHT
TZOFFSETFROM:+0100
TZOFFSETTO:+0200
TZNAME:CEST
DTSTART:20240331T010000
END:DAYLIGHT
BEGIN:STANDARD
TZOFFSETFROM:+0200
TZOFFSETTO:+0100
TZNAME:CET
DTSTART:20241027T010000
END:STANDARD
END:VTIMEZONE
BEGIN:VEVENT
DTSTART;TZID=Europe/Paris:20230902T143000
DTEND;TZID=Europe/Paris:20230902T163000
DTSTAMP:20260421T091123
CREATED:20230526T145520Z
LAST-MODIFIED:20230526T145520Z
UID:2034-1693665000-1693672200@lesvisitesdesfilles.fr
SUMMARY:L'île Barbe et Saint-Rambert\, un écrin de verdure
DESCRIPTION:L’île Barbe… pour bien des Lyonnais\, cet endroit évoque un lieu de verdure sur la Saône où l’on peut aller se promener le dimanche\, et se sentir presque à la campagne par endroits… Mais comment ne pas s’interroger lorsque l’on aperçoit les nombreux vestiges\, depuis les rives ? \nPourquoi y-a-il une église romane ? Et quelle barbe peut bien avoir donné ce nom farfelu à l’île ? En se penchant sur son histoire\, Clémence a pu se passionner pour ce lieu\, son favori à Lyon\,  et a\, au fil de ses lectures\, découvert de multiples anecdotes. \nCertes\, toute l’île n’est pas visitable car une grande partie est privée. Mais le peu qui est donné de voir à nos yeux nous donne déjà un excellent aperçu de ce que fut ce monastère fondé dès le Vème siècle\, devenu par la suite une puissante abbaye. \nCette balade champêtre nous mènera sur les deux rives de la Saône\, sur l’île bien sûr\, mais aussi dans le dernier “village” de Lyon\, Saint-Rambert ( c’est une partie administrative de Lyon 9ème). Saint-Rambert « le bas » fut un ancien bourg sur la route de Lyon\, et son histoire est bien sûr liée à celle de l’abbaye. \nUne visite estivale en famille idéale pour se relaxer à l’écart de l’agitation urbaine\, et apprendre une partie fascinante de l’histoire Lyonnaise…
URL:https://lesvisitesdesfilles.fr/evenement/2023-09-02-lile-barbe-et-saint-rambert-un-ecrin-de-verdure/
CATEGORIES:Architecture,Espaces verts et paysages,Histoire
ATTACH;FMTTYPE=image/jpeg:https://lesvisitesdesfilles.fr/wp-content/uploads/2016/10/IMG_0305-scaled-e1588613126546.jpg
ORGANIZER;CN="Cl%C3%A9mence":MAILTO:lesvisites.desfilles@gmail.com
END:VEVENT
BEGIN:VEVENT
DTSTART;TZID=Europe/Paris:20230916T143000
DTEND;TZID=Europe/Paris:20230916T163000
DTSTAMP:20260421T091123
CREATED:20230526T150558Z
LAST-MODIFIED:20230719T131029Z
UID:2039-1694874600-1694881800@lesvisitesdesfilles.fr
SUMMARY:Le long des remparts de Lyon\, vues d'une colline à l'autre
DESCRIPTION:Voici une visite insolite sur la colline de Fourvière le long des remparts construits au 19e siècle à Lyon. Elle commence dans le quartier Saint-Just et se termine au pied de la Croix-Rousse. \nLes lyonnais ont la chance de bénéficier des deux collines\, Fourvière et la Croix-Rousse\, séparées par la Saône. Mais depuis l’antiquité\, ils ont œuvré à la défendre contre des éventuelles attaques et ont donc construits es remparts pour la protéger. S’il ne reste quasiment rien du mur romain\, les remparts ont été reconstruits au 19e siècle. Nous verrons donc dans quel contexte et quelle en a été l’architecture.\nDe plus\, les deux collines offrent de nombreux points de vue spectaculaires. Cette balade urbaine contée vous guidera à travers le temps\, de l’antiquité au 19e siècle\, et vous permettra de profiter des espaces verts : le jardin des Curiosités\, le cimetière de Loyasse\, les rues qui descendent vers la Saône. \nLe lieu de rendez-vous de cette visite guidée est place de l’Abbé Larue à 14h30.
URL:https://lesvisitesdesfilles.fr/evenement/2023-09-16-lyon-city-trek-vues-dune-colline-a-lautre/
LOCATION:Fourvière\, Rue Roger Radisson\, Lyon\, Auvergne-Rhône-Alpes\, 69005\, France
CATEGORIES:Architecture,Espaces verts et paysages,Histoire
ATTACH;FMTTYPE=image/jpeg:https://lesvisitesdesfilles.fr/wp-content/uploads/2023/05/lyondunecollinealautre-013-scaled.jpg
ORGANIZER;CN="Emilie":MAILTO:lesvisites.desfilles@gmail.com
END:VEVENT
END:VCALENDAR