BEGIN:VCALENDAR
VERSION:2.0
PRODID:-//Les Visites des Filles - ECPv6.15.20//NONSGML v1.0//EN
CALSCALE:GREGORIAN
METHOD:PUBLISH
X-WR-CALNAME:Les Visites des Filles
X-ORIGINAL-URL:https://lesvisitesdesfilles.fr
X-WR-CALDESC:Évènements pour Les Visites des Filles
REFRESH-INTERVAL;VALUE=DURATION:PT1H
X-Robots-Tag:noindex
X-PUBLISHED-TTL:PT1H
BEGIN:VTIMEZONE
TZID:Europe/Paris
BEGIN:DAYLIGHT
TZOFFSETFROM:+0100
TZOFFSETTO:+0200
TZNAME:CEST
DTSTART:20230326T010000
END:DAYLIGHT
BEGIN:STANDARD
TZOFFSETFROM:+0200
TZOFFSETTO:+0100
TZNAME:CET
DTSTART:20231029T010000
END:STANDARD
BEGIN:DAYLIGHT
TZOFFSETFROM:+0100
TZOFFSETTO:+0200
TZNAME:CEST
DTSTART:20240331T010000
END:DAYLIGHT
BEGIN:STANDARD
TZOFFSETFROM:+0200
TZOFFSETTO:+0100
TZNAME:CET
DTSTART:20241027T010000
END:STANDARD
BEGIN:DAYLIGHT
TZOFFSETFROM:+0100
TZOFFSETTO:+0200
TZNAME:CEST
DTSTART:20250330T010000
END:DAYLIGHT
BEGIN:STANDARD
TZOFFSETFROM:+0200
TZOFFSETTO:+0100
TZNAME:CET
DTSTART:20251026T010000
END:STANDARD
END:VTIMEZONE
BEGIN:VEVENT
DTSTART;TZID=Europe/Paris:20240302T143000
DTEND;TZID=Europe/Paris:20240302T163000
DTSTAMP:20260420T231120
CREATED:20240207T134901Z
LAST-MODIFIED:20240207T134901Z
UID:2070-1709389800-1709397000@lesvisitesdesfilles.fr
SUMMARY:Vienne au fil du temps
DESCRIPTION:Vienne. Lorsque l’on parle de cette ville\, vous pensez peut-être au festival Jazz à Vienne\, marché ou autoroute du soleil ? Mais Vienne a également un passé très riche avec ses nombreux vestiges romains. Savez-vous que lorsque vous flânez dans le jardin de Cybèle\, vous arrivez au cœur du centre politique de la ville chez les gallo-romains ? \nPour le découvrir\, les visites des filles vous proposent une découverte de la ville pour tout connaître de cette ville que l’empereur romain Claude lui-même avait qualifié de très riche et très puissante. Avec un peu d’imagination (avec l’aide de votre guide bien sûr)\, replongez 2000 ans en arrière où vous découvrirez la vie quotidienne d’un viennois dans cette ville qui nous réserve bien des émerveillements ! \nLe prix affiché n’inclut pas le prx d’entrée dans les musées\, et au théâtre antique\, billet à régler directement sur place. Cela coûte à partir de 3 euros. \nLa visite sera confirmée dès lors que 12 personnes seront inscrites.
URL:https://lesvisitesdesfilles.fr/evenement/2024-03-02-vienne-au-fil-du-temps/
CATEGORIES:Architecture,Histoire
ATTACH;FMTTYPE=image/jpeg:https://lesvisitesdesfilles.fr/wp-content/uploads/2024/02/100_7301-scaled.jpg
END:VEVENT
BEGIN:VEVENT
DTSTART;TZID=Europe/Paris:20240316T143000
DTEND;TZID=Europe/Paris:20240316T163000
DTSTAMP:20260420T231120
CREATED:20240207T140151Z
LAST-MODIFIED:20240207T140252Z
UID:2076-1710599400-1710606600@lesvisitesdesfilles.fr
SUMMARY:Fourvière antique
DESCRIPTION:La visite guidée de la colline de Fourvière vous fera voyager dans le temps\, depuis la période gauloise\, à travers la conquête de la Gaule par Jules César et jusqu’à l’antiquité tardive. Suivez Iris au devant les monuments romains : théâtre\, odéon… \nConnaissez-vous l’origine de la fondation de Lugdunum ? L’importance de son passé et ses vestiges retrouvés ? \nPour en découvrir ou redécouvrir l’histoire et la richesse de son patrimoine\, Iris vous propose de démarrer la visite sur le plateau de la colline de Fourvière\, où la colonie a été fondée en 43 avant JC. Vous redescendrez vers le musée Lugdunum pour admirer les trésors archéologiques exposés tels que la table Claudienne\, la mosaïque des jeux du cirque\, la statue en bronze de Neptune\, le calendrier gaulois\, le trésor de Vaise… Vous terminerez la visite par les deux théâtres antiques pour mieux comprendre leur fonction\, spectacles et les restaurations menées lors de leur découverte. \nVous aimez l’Antiquité\, les romains et l’archéologie alors n’hésitez plus et inscrivez-vous pour suivre la visite d’Iris le samedi 16 mars qui partagera avec passion et enthousiasme toutes ses anecdotes ! \nLa visite sera confirmée dès lors que 12 personnes seront inscrites.
URL:https://lesvisitesdesfilles.fr/evenement/2024-03-16-fourviere-antique/
LOCATION:Fourvière\, Rue Roger Radisson\, Lyon\, Auvergne-Rhône-Alpes\, 69005\, France
CATEGORIES:Architecture,Espaces verts et paysages,Histoire
ATTACH;FMTTYPE=image/jpeg:https://lesvisitesdesfilles.fr/wp-content/uploads/2024/02/100_4163-scaled.jpg
END:VEVENT
END:VCALENDAR