BEGIN:VCALENDAR
VERSION:2.0
PRODID:-//Les Visites des Filles - ECPv6.15.20//NONSGML v1.0//EN
CALSCALE:GREGORIAN
METHOD:PUBLISH
X-WR-CALNAME:Les Visites des Filles
X-ORIGINAL-URL:https://lesvisitesdesfilles.fr
X-WR-CALDESC:Évènements pour Les Visites des Filles
REFRESH-INTERVAL;VALUE=DURATION:PT1H
X-Robots-Tag:noindex
X-PUBLISHED-TTL:PT1H
BEGIN:VTIMEZONE
TZID:Europe/Paris
BEGIN:DAYLIGHT
TZOFFSETFROM:+0100
TZOFFSETTO:+0200
TZNAME:CEST
DTSTART:20230326T010000
END:DAYLIGHT
BEGIN:STANDARD
TZOFFSETFROM:+0200
TZOFFSETTO:+0100
TZNAME:CET
DTSTART:20231029T010000
END:STANDARD
BEGIN:DAYLIGHT
TZOFFSETFROM:+0100
TZOFFSETTO:+0200
TZNAME:CEST
DTSTART:20240331T010000
END:DAYLIGHT
BEGIN:STANDARD
TZOFFSETFROM:+0200
TZOFFSETTO:+0100
TZNAME:CET
DTSTART:20241027T010000
END:STANDARD
BEGIN:DAYLIGHT
TZOFFSETFROM:+0100
TZOFFSETTO:+0200
TZNAME:CEST
DTSTART:20250330T010000
END:DAYLIGHT
BEGIN:STANDARD
TZOFFSETFROM:+0200
TZOFFSETTO:+0100
TZNAME:CET
DTSTART:20251026T010000
END:STANDARD
END:VTIMEZONE
BEGIN:VEVENT
DTSTART;TZID=Europe/Paris:20240406T143000
DTEND;TZID=Europe/Paris:20240406T163000
DTSTAMP:20260420T212550
CREATED:20240207T141108Z
LAST-MODIFIED:20240207T141108Z
UID:2078-1712413800-1712421000@lesvisitesdesfilles.fr
SUMMARY:Ainay en pleine Résistance
DESCRIPTION:Lyon est connue comme la Capitale de la Résistance mais pourquoi exactement? D’où vient ce titre? Qui l’a donné? Que s’est-il vraiment passé entre 1939 et 1945 dans la Capitale des Gaules? Comment était la vie de tous les jours à ce moment-là?\nCette visite vous plongera dans le Lyon de la Seconde Guerre Mondiale\, avec des images\, des cartes\, des anecdotes…\nNous irons sur les traces de Jean Moulin\, Raymond et Lucie Aubrac et autres résistants. Nous réaliserons que beaucoup de gens risquaient leurs vies tous les jours\, même sans être un grand nom de la Résistance. Vous aurez quelques exemple d’actes qui peuvent sembler anodins mais qui étaient en fait héroïques. Vous verrez les endroits qui ont un lien avec cette sombre page de notre histoire\, éventuellement les célèbres « traboules » (passages à travers les immeubles)\, parfaitement discrètes. Cette visite à fort contenu historique s’appuie essentiellement sur les noms de rues\, sur les plaques commémoratives\, sur les monuments éventuels et beaucoup sur l’environnement urbain avec remise en contexte. En résumé\, venez vous replonger dans les années 40 pour découvrir les petites histoires qui ont fait l’Histoire et ce qu’il en reste.\nL’histoire de la Résistance est tellement riche à Lyon !
URL:https://lesvisitesdesfilles.fr/evenement/2024-04-06-lyon-en-pleine-resistance/
CATEGORIES:Histoire
ATTACH;FMTTYPE=image/jpeg:https://lesvisitesdesfilles.fr/wp-content/uploads/2024/02/IMG_20180606_154001-scaled.jpg
ORGANIZER;CN="Cl%C3%A9mence":MAILTO:lesvisites.desfilles@gmail.com
END:VEVENT
BEGIN:VEVENT
DTSTART;TZID=Europe/Paris:20240420T100000
DTEND;TZID=Europe/Paris:20240420T120000
DTSTAMP:20260420T212550
CREATED:20240207T141730Z
LAST-MODIFIED:20240207T141730Z
UID:2081-1713607200-1713614400@lesvisitesdesfilles.fr
SUMMARY:Visite guidée de la Cathédrale Saint-Jean
DESCRIPTION:Voici une visite monographique\, c’est à dire sur un seul monument. La Cathédrale Saint Jean est l’église majeure de Lyon. La plupart des lyonnais la connaissent\, construite à partir de la fin de l’Antiquité\, puis reconstruite plusieurs fois au cours du Moyen-Age\, ou qu’elle représente le pouvoir de l’évêque. Restaurée et mise en valeur depuis le début de notre siècle\, l’église préserve encore ses vitraux et ses sculptures romanes et gothiques. Joyau parmi les joyaux de la ville\, son histoire s’insère dans l’Histoire européenne. Elle a abrité des conciles\, des couronnements de papes\, des mariages royaux et même la visite de l’empereur Napoléon accompagné de son épouse Joséphine. Cette visite porte sur l’histoire et l’architecture\, et un peu sur le symbolisme des médaillons et des vitraux. \nVenez lire les médaillons de la façade ouest\, décrypter les messages des vitraux du chœur\, élucider les mystères de l’architecture\, visiter la salle du Trésor\, comprendre les vestiges du jardin archéologique.
URL:https://lesvisitesdesfilles.fr/evenement/2024-04-20-visite-guidee-de-la-cathedrale-saint-jean/
CATEGORIES:Architecture,Histoire
ATTACH;FMTTYPE=image/jpeg:https://lesvisitesdesfilles.fr/wp-content/uploads/2020/05/cathedrale-saint-jean.jpg
ORGANIZER;CN="Emilie":MAILTO:lesvisites.desfilles@gmail.com
END:VEVENT
END:VCALENDAR