BEGIN:VCALENDAR
VERSION:2.0
PRODID:-//Les Visites des Filles - ECPv6.15.20//NONSGML v1.0//EN
CALSCALE:GREGORIAN
METHOD:PUBLISH
X-ORIGINAL-URL:https://lesvisitesdesfilles.fr
X-WR-CALDESC:Évènements pour Les Visites des Filles
REFRESH-INTERVAL;VALUE=DURATION:PT1H
X-Robots-Tag:noindex
X-PUBLISHED-TTL:PT1H
BEGIN:VTIMEZONE
TZID:Europe/Paris
BEGIN:DAYLIGHT
TZOFFSETFROM:+0100
TZOFFSETTO:+0200
TZNAME:CEST
DTSTART:20230326T010000
END:DAYLIGHT
BEGIN:STANDARD
TZOFFSETFROM:+0200
TZOFFSETTO:+0100
TZNAME:CET
DTSTART:20231029T010000
END:STANDARD
BEGIN:DAYLIGHT
TZOFFSETFROM:+0100
TZOFFSETTO:+0200
TZNAME:CEST
DTSTART:20240331T010000
END:DAYLIGHT
BEGIN:STANDARD
TZOFFSETFROM:+0200
TZOFFSETTO:+0100
TZNAME:CET
DTSTART:20241027T010000
END:STANDARD
BEGIN:DAYLIGHT
TZOFFSETFROM:+0100
TZOFFSETTO:+0200
TZNAME:CEST
DTSTART:20250330T010000
END:DAYLIGHT
BEGIN:STANDARD
TZOFFSETFROM:+0200
TZOFFSETTO:+0100
TZNAME:CET
DTSTART:20251026T010000
END:STANDARD
END:VTIMEZONE
BEGIN:VEVENT
DTSTART;TZID=Europe/Paris:20241005T143000
DTEND;TZID=Europe/Paris:20241005T163000
DTSTAMP:20260420T122859
CREATED:20240207T160233Z
LAST-MODIFIED:20240207T160233Z
UID:2107-1728138600-1728145800@lesvisitesdesfilles.fr
SUMMARY:L'histoire et l'urbanisme de Gerland
DESCRIPTION:Le quartier de Gerland est le plus jeune des quartiers lyonnais : son urbanisation a été initiée sous le mandat du maire Édouard Herriot au tout début du XXe siècle\, en collaboration avec l’un des meilleurs architectes modernistes de l’époque : Tony Garnier. \nAinsi\, il y a un peu plus d’un siècle\, ce quartier était un quartier maraicher et industriel\, à l’écart de la ville. \nNous regarderons sous un œil nouveau la splendide Halle Tony Garnier\, qui faisait partie d’un immense ensemble d’abattoirs lors de sa construction. \nLe quartier a connu\, en l’espace d’une centaine d’années\, de fortes mutations urbaines qui l’ont rendu aujourd’hui un des quartiers d’avenir de Lyon\, principalement dans le domaine des sciences du vivant\, de la recherche pharmaceutique. Nous vous parlerons de la fameuse famille de Marcel Mérieux qui a joué un grand rôle dans la recherche scientifique\, tout comme dans le tissu économique lyonnais\, et du P4\, centre de recherche à la dernière pointe de la technologie. Pour finir\, nous vous parlerons de l’évolution du quartier et son entrée dans le XXIe siècle. \nQuartier d’Histoire\, quartier d’étudiants\, quartier de verdure avec son parc\, il mérite largement deux heures d’une visite exceptionnelle !
URL:https://lesvisitesdesfilles.fr/evenement/2024-10-05-balade-historique-a-gerland/
CATEGORIES:Architecture,Histoire
ATTACH;FMTTYPE=image/jpeg:https://lesvisitesdesfilles.fr/wp-content/uploads/2020/05/gerland.jpg
ORGANIZER;CN="Emilie":MAILTO:lesvisites.desfilles@gmail.com
END:VEVENT
BEGIN:VEVENT
DTSTART;TZID=Europe/Paris:20241026T143000
DTEND;TZID=Europe/Paris:20241026T163000
DTSTAMP:20260420T122859
CREATED:20240207T160823Z
LAST-MODIFIED:20240819T195904Z
UID:2110-1729953000-1729960200@lesvisitesdesfilles.fr
SUMMARY:L'île Barbe et Saint-Rambert\, un écrin de verdure
DESCRIPTION:L’île Barbe… pour bien des Lyonnais\, cet endroit évoque un lieu de verdure sur la Saône où l’on peut aller se promener le dimanche\, et se sentir presque à la campagne par endroits… Mais comment ne pas s’interroger lorsque l’on aperçoit les nombreux vestiges\, depuis les rives ? \nPourquoi y-a-il une église romane ? Nous la visiterons\, car elle vient tout juste d’être restaurée (le tarif est de 3 € par personne\, ce qui explique que la visite vous est vendue un peu plus chère). \nEt quelle barbe peut bien avoir donné ce nom farfelu à l’île ? En se penchant sur son histoire\, nous avons pu nous passionner pour ce lieu\, et nous avons découvert\, au fil de nos lectures\, de multiples anecdotes. \nCertes\, toute l’île n’est pas visitable car une grande partie est privée. Mais le peu qui est donné de voir à nos yeux nous donne déjà un excellent aperçu de ce que fut ce monastère au Moyen-âge\, devenu par la suite une puissante abbaye. \nCette balade champêtre nous mènera sur les deux rives de la Saône\, sur l’île bien sûr\, mais aussi dans le dernier “village” de Lyon\, Saint-Rambert (c’est une partie administrative de Lyon 9ème). Saint-Rambert « le bas » fut un ancien bourg sur la route de Lyon\, et son histoire est bien sûr liée à celle de l’abbaye. \nUne visite en famille idéale pour se relaxer à l’écart de l’agitation urbaine\, et apprendre une partie fascinante de l’histoire Lyonnaise…
URL:https://lesvisitesdesfilles.fr/evenement/2024-10-19-lile-barbe-et-saint-rambert-un-ecrin-de-verdure/
LOCATION:Île Barbe\, Quai Clémenceau\, Caluire-et-Cuire\, Auvergne-Rhône-Alpes\, 69300\, France
CATEGORIES:Architecture,Espaces verts et paysages,Histoire
ATTACH;FMTTYPE=image/jpeg:https://lesvisitesdesfilles.fr/wp-content/uploads/2016/10/IMG_0305-scaled-e1588613126546.jpg
ORGANIZER;CN="Cl%C3%A9mence":MAILTO:lesvisites.desfilles@gmail.com
END:VEVENT
END:VCALENDAR