BEGIN:VCALENDAR
VERSION:2.0
PRODID:-//Les Visites des Filles - ECPv6.15.20//NONSGML v1.0//EN
CALSCALE:GREGORIAN
METHOD:PUBLISH
X-ORIGINAL-URL:https://lesvisitesdesfilles.fr
X-WR-CALDESC:Évènements pour Les Visites des Filles
REFRESH-INTERVAL;VALUE=DURATION:PT1H
X-Robots-Tag:noindex
X-PUBLISHED-TTL:PT1H
BEGIN:VTIMEZONE
TZID:Europe/Paris
BEGIN:DAYLIGHT
TZOFFSETFROM:+0100
TZOFFSETTO:+0200
TZNAME:CEST
DTSTART:20250330T010000
END:DAYLIGHT
BEGIN:STANDARD
TZOFFSETFROM:+0200
TZOFFSETTO:+0100
TZNAME:CET
DTSTART:20251026T010000
END:STANDARD
BEGIN:DAYLIGHT
TZOFFSETFROM:+0100
TZOFFSETTO:+0200
TZNAME:CEST
DTSTART:20260329T010000
END:DAYLIGHT
BEGIN:STANDARD
TZOFFSETFROM:+0200
TZOFFSETTO:+0100
TZNAME:CET
DTSTART:20261025T010000
END:STANDARD
BEGIN:DAYLIGHT
TZOFFSETFROM:+0100
TZOFFSETTO:+0200
TZNAME:CEST
DTSTART:20270328T010000
END:DAYLIGHT
BEGIN:STANDARD
TZOFFSETFROM:+0200
TZOFFSETTO:+0100
TZNAME:CET
DTSTART:20271031T010000
END:STANDARD
END:VTIMEZONE
BEGIN:VEVENT
DTSTART;TZID=Europe/Paris:20260606T143000
DTEND;TZID=Europe/Paris:20260606T163000
DTSTAMP:20260419T225923
CREATED:20260129T151022Z
LAST-MODIFIED:20260202T153624Z
UID:2287-1780756200-1780763400@lesvisitesdesfilles.fr
SUMMARY:Monplaisir 2
DESCRIPTION:L’aventure industrielle de Monplaisir nous réserve encore quelques surprises notamment dans le domaine de l’automobile. Un nom résonne encore dans la mémoire des lyonnais et notamment des habitants de Monplaisir: Marius Berliet. Mais il n’est pas le seul à avoir développer ces nouveaux engins dès la fin du XIXe siècle: Cottin-Desgouttes ou encore Audibert-et-Lavirotte. Une histoire incroyable qui fait de Lyon le berceau de l’automobile.
URL:https://lesvisitesdesfilles.fr/evenement/2026-06-06-monplaisir-2/
LOCATION:Monplaisir\, Place Ambroise Courtois\, Lyon\, 69008\, France
CATEGORIES:Architecture,Histoire,Industrie
ATTACH;FMTTYPE=image/jpeg:https://lesvisitesdesfilles.fr/wp-content/uploads/2024/02/DSCF3999-scaled.jpg
END:VEVENT
BEGIN:VEVENT
DTSTART;TZID=Europe/Paris:20260620T143000
DTEND;TZID=Europe/Paris:20260620T163000
DTSTAMP:20260419T225923
CREATED:20260202T153113Z
LAST-MODIFIED:20260202T153451Z
UID:2302-1781965800-1781973000@lesvisitesdesfilles.fr
SUMMARY:Bourgoin Jallieu
DESCRIPTION:Clémence vous invite à venir visiter l’une des villes importantes de l’Isère : après Vienne\, place à Bourgoin-Jallieu\, située à tout juste 30 minutes par le train depuis Lyon.  \nNe vous arrêtez pas à une mauvaise impression ou aux clichés… Bourgoin-Jallieu est une ville historique\, au passé Gallo-Romain et qui mérite le détour. Bien qu’elle conserve peu de vestiges de son Histoire elle possède tout de même un agréable centre-ville piétonnier aux commerces actifs\, et une histoire fort intéressante qui se lit au fil des rues.\nLa visite commencera par son édifice le plus ancien\, bien que parfois méconnu par les Berjalliens eux-même : le musée de Bourgoin-Jallieu\, situé dans l’ancienne chapelle des Antonins du début du 16ème siècle. Vous y découvrirez l’histoire de cette ville industrielle\, façonnée par ses moulins à chanvre et sa spécialisation\, au cours du 19ème siècle\, avec les ateliers d’impression textile (indiennes puis métiers à tisser Diederichs). Vous y verrez d’authentiques métiers et un savoir-faire qui a propulsé les deux villes de Bourgoin et de Jallieu au rang d’importante ville ouvrière en Europe. Ce musée présente une collection textile et une collection beaux arts du peintre Victor Charreton. \nPour compléter la découverte de la ville\, nous partirons explorer son petit centre-ville\, dont nous lirons l’urbanisme et les quelques bâtiments-phare comme l’église saint-jean Baptiste ou d’autres plus cachés.  \nInscrivez-vous sans tarder !
URL:https://lesvisitesdesfilles.fr/evenement/2026-06-20-bourgoin-jallieu/
LOCATION:Bourgoin Jallieu\, Bourgoin Jallieu\, 38300\, France
CATEGORIES:Architecture,Art contemporain,Histoire
ATTACH;FMTTYPE=image/jpeg:https://lesvisitesdesfilles.fr/wp-content/uploads/2026/02/PXL_20240305_083130299-scaled.jpg
ORGANIZER;CN="Cl%C3%A9mence":MAILTO:lesvisites.desfilles@gmail.com
END:VEVENT
END:VCALENDAR