BEGIN:VCALENDAR
VERSION:2.0
PRODID:-//Les Visites des Filles - ECPv6.15.20//NONSGML v1.0//EN
CALSCALE:GREGORIAN
METHOD:PUBLISH
X-ORIGINAL-URL:https://lesvisitesdesfilles.fr
X-WR-CALDESC:Évènements pour Les Visites des Filles
REFRESH-INTERVAL;VALUE=DURATION:PT1H
X-Robots-Tag:noindex
X-PUBLISHED-TTL:PT1H
BEGIN:VTIMEZONE
TZID:Europe/Paris
BEGIN:DAYLIGHT
TZOFFSETFROM:+0100
TZOFFSETTO:+0200
TZNAME:CEST
DTSTART:20250330T010000
END:DAYLIGHT
BEGIN:STANDARD
TZOFFSETFROM:+0200
TZOFFSETTO:+0100
TZNAME:CET
DTSTART:20251026T010000
END:STANDARD
BEGIN:DAYLIGHT
TZOFFSETFROM:+0100
TZOFFSETTO:+0200
TZNAME:CEST
DTSTART:20260329T010000
END:DAYLIGHT
BEGIN:STANDARD
TZOFFSETFROM:+0200
TZOFFSETTO:+0100
TZNAME:CET
DTSTART:20261025T010000
END:STANDARD
BEGIN:DAYLIGHT
TZOFFSETFROM:+0100
TZOFFSETTO:+0200
TZNAME:CEST
DTSTART:20270328T010000
END:DAYLIGHT
BEGIN:STANDARD
TZOFFSETFROM:+0200
TZOFFSETTO:+0100
TZNAME:CET
DTSTART:20271031T010000
END:STANDARD
END:VTIMEZONE
BEGIN:VEVENT
DTSTART;TZID=Europe/Paris:20260704T143000
DTEND;TZID=Europe/Paris:20260704T163000
DTSTAMP:20260420T004547
CREATED:20260129T151429Z
LAST-MODIFIED:20260204T164850Z
UID:2289-1783175400-1783182600@lesvisitesdesfilles.fr
SUMMARY:La Guillotière
DESCRIPTION:Pourquoi visiter la « Guill' » nous direz-vous ? Il s’agit en fait du plus vieux quartier de Lyon en Rive Gauche. En effet\, il s’agissait d’une commune indépendante jusqu’en 1852. Sa « grande rue » est attestée depuis le XIVème siècle.  Son pont sur le Rhône marquait l’entrée ou la sortie de la ville de Lyon. Ainsi\, ce quartier recèle de nombreuses et discrètes traces de son passé : ancienne mairie\, nombreuses auberges\, ancienne école vétérinaire\, marquage des crues… \nC’est un quartier qui a beaucoup évolué au fil du temps: autrefois lieu de commerces\, de lieu de passage avec ses auberges et ses palefreniers\, lieu industriel avec ses ateliers de tissage\, rosiéristes s’y côtoyaient. Aujourd’hui\, les cafés et les restaurants animent les rues. Çà et là\, on trouve encore des vestiges\, et bien sûr il faut prendre le temps et avoir l’œil averti pour les remarquer. \nHier comme aujourd’hui\, c’est un quartier cosmopolite\, lieu de vie et de rassemblement. Venez découvrir un quartier animé et différent\, teinté de cultures du monde : Asie\, Caraïbes\, Afrique\, Amérique latine. Découvrez l’histoire sociale\, migratoire et industrielle avec surprise\, des lieux que vous n’aviez sans doute jamais remarqués\, et une riche histoire toujours liée à celle de la Rive Gauche de Lyon.
URL:https://lesvisitesdesfilles.fr/evenement/2026-07-04-la-guillotiere-comme-vous-ne-lavez-jamais-vue/
LOCATION:Guillotière\, Place Antonin Jutard\, Lyon\, Auvergne-Rhône-Alpes\, 69007\, France
CATEGORIES:Histoire,Histoire sociale,Industrie,Urbanisme
ATTACH;FMTTYPE=image/jpeg:https://lesvisitesdesfilles.fr/wp-content/uploads/2020/05/guillotiere.jpg
ORGANIZER;CN="Emilie":MAILTO:lesvisites.desfilles@gmail.com
END:VEVENT
END:VCALENDAR