BEGIN:VCALENDAR
VERSION:2.0
PRODID:-//Les Visites des Filles - ECPv6.15.20//NONSGML v1.0//EN
CALSCALE:GREGORIAN
METHOD:PUBLISH
X-WR-CALNAME:Les Visites des Filles
X-ORIGINAL-URL:https://lesvisitesdesfilles.fr
X-WR-CALDESC:Évènements pour Les Visites des Filles
REFRESH-INTERVAL;VALUE=DURATION:PT1H
X-Robots-Tag:noindex
X-PUBLISHED-TTL:PT1H
BEGIN:VTIMEZONE
TZID:Europe/Paris
BEGIN:DAYLIGHT
TZOFFSETFROM:+0100
TZOFFSETTO:+0200
TZNAME:CEST
DTSTART:20200329T010000
END:DAYLIGHT
BEGIN:STANDARD
TZOFFSETFROM:+0200
TZOFFSETTO:+0100
TZNAME:CET
DTSTART:20201025T010000
END:STANDARD
BEGIN:DAYLIGHT
TZOFFSETFROM:+0100
TZOFFSETTO:+0200
TZNAME:CEST
DTSTART:20210328T010000
END:DAYLIGHT
BEGIN:STANDARD
TZOFFSETFROM:+0200
TZOFFSETTO:+0100
TZNAME:CET
DTSTART:20211031T010000
END:STANDARD
BEGIN:DAYLIGHT
TZOFFSETFROM:+0100
TZOFFSETTO:+0200
TZNAME:CEST
DTSTART:20220327T010000
END:DAYLIGHT
BEGIN:STANDARD
TZOFFSETFROM:+0200
TZOFFSETTO:+0100
TZNAME:CET
DTSTART:20221030T010000
END:STANDARD
END:VTIMEZONE
BEGIN:VEVENT
DTSTART;TZID=Europe/Paris:20210619T143000
DTEND;TZID=Europe/Paris:20210619T163000
DTSTAMP:20260423T011941
CREATED:20201116T144843Z
LAST-MODIFIED:20201116T144843Z
UID:1756-1624113000-1624120200@lesvisitesdesfilles.fr
SUMMARY:Visite "La Croix-Rousse côté Ouest"
DESCRIPTION:La colline de la Croix-Rousse ne se découvre pas en une\, mais en plusieurs fois. Et si cette fois\, nous nous intéressions au côté Ouest\, ou côté Saône ? \nCe côté particulièrement agréable de la colline est (un peu) plus verdoyant\, et nous offre quelques uns des plus beaux points de vue sur la ville. \nNous irons découvrir l’incroyable histoire des Chartreux\, nous ayant laissé l’une des plus belles églises baroques de Lyon (et de France !). Nous parlerons d’histoire religieuse\, mais aussi d’histoire industrielle\, et d’histoire laïque avec la fameuse boule Lyonnaise et sa Fanny ! \nEt enfin\, nous terminerons quai Saint-Vincent\, au plat\, pour retrouver notre bien aimée Saône ayant toujours rythmé la vie des Lyonnais. \nRéservation obligatoire (25 places pour la visite)
URL:https://lesvisitesdesfilles.fr/evenement/visite-la-croix-rousse-cote-ouest-2/
LOCATION:Croix-Rousse\, Place de la Croix-Rousse\, LYON\, Auvergne-Rhône-Alpes\, 69004
CATEGORIES:Architecture,Espaces verts et paysages,Histoire,Randonnée urbaine
ATTACH;FMTTYPE=image/jpeg:https://lesvisitesdesfilles.fr/wp-content/uploads/2019/11/cxrousse-scaled-e1588613087159.jpg
ORGANIZER;CN="Cl%C3%A9mence":MAILTO:lesvisites.desfilles@gmail.com
END:VEVENT
END:VCALENDAR