BEGIN:VCALENDAR
VERSION:2.0
PRODID:-//Les Visites des Filles - ECPv6.15.20//NONSGML v1.0//EN
CALSCALE:GREGORIAN
METHOD:PUBLISH
X-ORIGINAL-URL:https://lesvisitesdesfilles.fr
X-WR-CALDESC:Évènements pour Les Visites des Filles
REFRESH-INTERVAL;VALUE=DURATION:PT1H
X-Robots-Tag:noindex
X-PUBLISHED-TTL:PT1H
BEGIN:VTIMEZONE
TZID:Europe/Paris
BEGIN:DAYLIGHT
TZOFFSETFROM:+0100
TZOFFSETTO:+0200
TZNAME:CEST
DTSTART:20200329T010000
END:DAYLIGHT
BEGIN:STANDARD
TZOFFSETFROM:+0200
TZOFFSETTO:+0100
TZNAME:CET
DTSTART:20201025T010000
END:STANDARD
BEGIN:DAYLIGHT
TZOFFSETFROM:+0100
TZOFFSETTO:+0200
TZNAME:CEST
DTSTART:20210328T010000
END:DAYLIGHT
BEGIN:STANDARD
TZOFFSETFROM:+0200
TZOFFSETTO:+0100
TZNAME:CET
DTSTART:20211031T010000
END:STANDARD
BEGIN:DAYLIGHT
TZOFFSETFROM:+0100
TZOFFSETTO:+0200
TZNAME:CEST
DTSTART:20220327T010000
END:DAYLIGHT
BEGIN:STANDARD
TZOFFSETFROM:+0200
TZOFFSETTO:+0100
TZNAME:CET
DTSTART:20221030T010000
END:STANDARD
END:VTIMEZONE
BEGIN:VEVENT
DTSTART;TZID=Europe/Paris:20210717T143000
DTEND;TZID=Europe/Paris:20210717T163000
DTSTAMP:20260422T234759
CREATED:20210607T144957Z
LAST-MODIFIED:20210607T144957Z
UID:1802-1626532200-1626539400@lesvisitesdesfilles.fr
SUMMARY:Le Cimetière de Loyasse
DESCRIPTION:Le cimetière de Loyasse est le plus ancien cimetière de Lyon. C’est un lieu où s’est exprimée l’histoire de la sculpture et de l’art funéraire du XIXe et XXe siècle. Les tombes qui y sont édifiées ont suivi les modes architecturales de leur époque et les particularités de ceux qui y reposent. Placé sur les hauteurs de la ville de Lyon\, il est un musée en plein air\, il abrite les sépultures de nombreuses personnalités connues. De nombreux Lyonnais célèbres y reposent\, à l’instar du cimetière du Père-Lachaise à Paris : les maires de Lyon\, les familles industrielles\, les écrivains et personnages ésotériques… Il raconte donc les grands événements de la ville et la vie de ceux qui ont fait sa réputation. \nHeure : de 14h30 à 16h30 \nDépart: devant le cimetière\, 43 – 46 Rue du Cardinal Gerlier\, 69005 Lyon
URL:https://lesvisitesdesfilles.fr/evenement/le-cimetiere-de-loyasse/
LOCATION:Fourvière\, Rue Roger Radisson\, Lyon\, Auvergne-Rhône-Alpes\, 69005\, France
CATEGORIES:Architecture,Espaces verts et paysages,Histoire
ATTACH;FMTTYPE=image/jpeg:https://lesvisitesdesfilles.fr/wp-content/uploads/2018/10/lyondunecollinealautre-010-scaled-e1588607934702.jpg
ORGANIZER;CN="Emilie":MAILTO:lesvisites.desfilles@gmail.com
END:VEVENT
END:VCALENDAR