BEGIN:VCALENDAR
VERSION:2.0
PRODID:-//Les Visites des Filles - ECPv6.15.20//NONSGML v1.0//EN
CALSCALE:GREGORIAN
METHOD:PUBLISH
X-ORIGINAL-URL:https://lesvisitesdesfilles.fr
X-WR-CALDESC:Évènements pour Les Visites des Filles
REFRESH-INTERVAL;VALUE=DURATION:PT1H
X-Robots-Tag:noindex
X-PUBLISHED-TTL:PT1H
BEGIN:VTIMEZONE
TZID:Europe/Paris
BEGIN:DAYLIGHT
TZOFFSETFROM:+0100
TZOFFSETTO:+0200
TZNAME:CEST
DTSTART:20200329T010000
END:DAYLIGHT
BEGIN:STANDARD
TZOFFSETFROM:+0200
TZOFFSETTO:+0100
TZNAME:CET
DTSTART:20201025T010000
END:STANDARD
BEGIN:DAYLIGHT
TZOFFSETFROM:+0100
TZOFFSETTO:+0200
TZNAME:CEST
DTSTART:20210328T010000
END:DAYLIGHT
BEGIN:STANDARD
TZOFFSETFROM:+0200
TZOFFSETTO:+0100
TZNAME:CET
DTSTART:20211031T010000
END:STANDARD
BEGIN:DAYLIGHT
TZOFFSETFROM:+0100
TZOFFSETTO:+0200
TZNAME:CEST
DTSTART:20220327T010000
END:DAYLIGHT
BEGIN:STANDARD
TZOFFSETFROM:+0200
TZOFFSETTO:+0100
TZNAME:CET
DTSTART:20221030T010000
END:STANDARD
END:VTIMEZONE
BEGIN:VEVENT
DTSTART;TZID=Europe/Paris:20211127T143000
DTEND;TZID=Europe/Paris:20211127T180000
DTSTAMP:20260422T175602
CREATED:20211022T142558Z
LAST-MODIFIED:20211116T155339Z
UID:1838-1638023400-1638036000@lesvisitesdesfilles.fr
SUMMARY:L'épopée de la Soie à Lyon
DESCRIPTION:Nous vous proposons de vous ouvrir les portes du savoir-faire lyonnais\, passé et présent\, en particulier celui qui a fait la renommée de notre ville\, l’industrie de la Soie. Cette industrie\, présente à Lyon dès le XVIème siècle\, s’est concentrée sur la colline de la Croix-Rousse « qui travaille » dès le début du XIXème\, avec pour acteurs principaux les Canuts (ouvriers de la Soie). \nEn partant de la place de la Croix-Rousse\, cœur du quartier Canut\, nous suivrons le chemin des Canuts eux-même lorsqu’ils allaient livrer leurs travaux textiles aux soyeux des Terreaux\, nous déambulerons à travers les traboules des pentes de la Croix-Rousse. La Cour des Voraces\, la Condition des Soies\, le village des créateurs… n’auront plus de secrets pour vous ! \nPour finir\, nous visiterons l’atelier de Soierie Brochier\, spécialisés dans l’impression sur Soie de carrés « à la lyonnaise ». \nIl est nécessaire de pouvoir emprunter facilement les nombreux escaliers\, et de ne pas avoir de poussette.\n \nDURÉE : 2 heures\n \nN’hésitez pas à nous contacter pour toute question via le formulaire de demande d’information ci-contre.
URL:https://lesvisitesdesfilles.fr/evenement/2021-11-27-lepopee-de-la-soie-a-lyon/
LOCATION:Croix-Rousse\, Place de la Croix-Rousse\, LYON\, Auvergne-Rhône-Alpes\, 69004
CATEGORIES:Architecture,Histoire,Musée
ATTACH;FMTTYPE=image/jpeg:https://lesvisitesdesfilles.fr/wp-content/uploads/2016/10/DSCF3531-2-scaled-e1588684751803.jpg
END:VEVENT
END:VCALENDAR