BEGIN:VCALENDAR
VERSION:2.0
PRODID:-//Les Visites des Filles - ECPv6.15.20//NONSGML v1.0//EN
CALSCALE:GREGORIAN
METHOD:PUBLISH
X-ORIGINAL-URL:https://lesvisitesdesfilles.fr
X-WR-CALDESC:Évènements pour Les Visites des Filles
REFRESH-INTERVAL;VALUE=DURATION:PT1H
X-Robots-Tag:noindex
X-PUBLISHED-TTL:PT1H
BEGIN:VTIMEZONE
TZID:Europe/Paris
BEGIN:DAYLIGHT
TZOFFSETFROM:+0100
TZOFFSETTO:+0200
TZNAME:CEST
DTSTART:20210328T010000
END:DAYLIGHT
BEGIN:STANDARD
TZOFFSETFROM:+0200
TZOFFSETTO:+0100
TZNAME:CET
DTSTART:20211031T010000
END:STANDARD
BEGIN:DAYLIGHT
TZOFFSETFROM:+0100
TZOFFSETTO:+0200
TZNAME:CEST
DTSTART:20220327T010000
END:DAYLIGHT
BEGIN:STANDARD
TZOFFSETFROM:+0200
TZOFFSETTO:+0100
TZNAME:CET
DTSTART:20221030T010000
END:STANDARD
BEGIN:DAYLIGHT
TZOFFSETFROM:+0100
TZOFFSETTO:+0200
TZNAME:CEST
DTSTART:20230326T010000
END:DAYLIGHT
BEGIN:STANDARD
TZOFFSETFROM:+0200
TZOFFSETTO:+0100
TZNAME:CET
DTSTART:20231029T010000
END:STANDARD
END:VTIMEZONE
BEGIN:VEVENT
DTSTART;TZID=Europe/Paris:20220723T143000
DTEND;TZID=Europe/Paris:20220723T163000
DTSTAMP:20260422T063556
CREATED:20220210T110601Z
LAST-MODIFIED:20220315T154912Z
UID:1956-1658586600-1658593800@lesvisitesdesfilles.fr
SUMMARY:Visite au cœur de Vaise
DESCRIPTION:Vaise\, bien avant d’être le quartier moderne et un noeud important du passage des Lyonnais du nord de l’agglomération\, fut un simple faubourg\, rattaché à la ville au XIXème siècle. Ce faubourg était très vivant car il était la porte d’entrée à la ville de Lyon. \nIl est même fort probable que l’origine gallo-romaine de Lyon s’y trouve\, car de nombreuses fouilles archéologiques attestent de l’occupation humaine\, bien avant l’installation des Romains. D’ailleurs\, avez-vous déjà entendu parler du « trésor de Vaise » ? \nC’est aussi un quartier dont l’activité industrielle et artisanale a toujours été liée à la présence de la Saône\, qui a aussi laissé le souvenir de sa terrible crue. \nCe parcours historique sera jalonné de nombreuses surprises patrimoniales : des empreintes de chanteurs\, une ancienne pépinière royale\, une pièce mécanique de l’usine Rhodiacéta\, le premier gratte-ciel Lyonnais\, des histoires de moutons\, le « pont de la gare »\, les ancêtres des HLM\, le « Chapeau rouge »\, sans oublier l’intéressante église Saint Pierre de Vaise… \nVaise est un quartier mêlant l’ancien et le moderne qui mérite d’être visité à pied. Nulle doute que vous apprécierez cette agréable balade culturelle ! \nLe lieu de rendez-vous de cette visite guidée vous sera donné par la guide quelques jours avant la visite.
URL:https://lesvisitesdesfilles.fr/evenement/2022-07-23-visite-au-coeur-de-vaise/
LOCATION:Vaise\, place Valmy\, Lyon\, Auvergne-Rhône-Alpes\, 69009\, France
CATEGORIES:Architecture,Art contemporain,Histoire,Urbanisme
ATTACH;FMTTYPE=image/jpeg:https://lesvisitesdesfilles.fr/wp-content/uploads/2020/05/mazaryk.jpg
ORGANIZER;CN="Cl%C3%A9mence":MAILTO:lesvisites.desfilles@gmail.com
END:VEVENT
END:VCALENDAR