BEGIN:VCALENDAR
VERSION:2.0
PRODID:-//Les Visites des Filles - ECPv6.15.20//NONSGML v1.0//EN
CALSCALE:GREGORIAN
METHOD:PUBLISH
X-WR-CALNAME:Les Visites des Filles
X-ORIGINAL-URL:https://lesvisitesdesfilles.fr
X-WR-CALDESC:Évènements pour Les Visites des Filles
REFRESH-INTERVAL;VALUE=DURATION:PT1H
X-Robots-Tag:noindex
X-PUBLISHED-TTL:PT1H
BEGIN:VTIMEZONE
TZID:Europe/Paris
BEGIN:DAYLIGHT
TZOFFSETFROM:+0100
TZOFFSETTO:+0200
TZNAME:CEST
DTSTART:20210328T010000
END:DAYLIGHT
BEGIN:STANDARD
TZOFFSETFROM:+0200
TZOFFSETTO:+0100
TZNAME:CET
DTSTART:20211031T010000
END:STANDARD
BEGIN:DAYLIGHT
TZOFFSETFROM:+0100
TZOFFSETTO:+0200
TZNAME:CEST
DTSTART:20220327T010000
END:DAYLIGHT
BEGIN:STANDARD
TZOFFSETFROM:+0200
TZOFFSETTO:+0100
TZNAME:CET
DTSTART:20221030T010000
END:STANDARD
BEGIN:DAYLIGHT
TZOFFSETFROM:+0100
TZOFFSETTO:+0200
TZNAME:CEST
DTSTART:20230326T010000
END:DAYLIGHT
BEGIN:STANDARD
TZOFFSETFROM:+0200
TZOFFSETTO:+0100
TZNAME:CET
DTSTART:20231029T010000
END:STANDARD
END:VTIMEZONE
BEGIN:VEVENT
DTSTART;TZID=Europe/Paris:20221119T100000
DTEND;TZID=Europe/Paris:20221119T120000
DTSTAMP:20260422T003450
CREATED:20211116T165201Z
LAST-MODIFIED:20221110T175510Z
UID:1899-1668852000-1668859200@lesvisitesdesfilles.fr
SUMMARY:Le Cimetière de Loyasse
DESCRIPTION:Le cimetière de Loyasse est le plus ancien cimetière de Lyon\, créé au début du XIXeme siècle. Placé sur les hauteurs de la ville de Lyon\, il est un musée en plein air\, car on peut réellement parler aujourd’hui d’art funéraire. \nC’est un lieu où s’est exprimée l’histoire de la sculpture et de l’art funéraire du XIXe et XXe siècle. Les tombes monumentales qui y sont édifiées ont suivi les modes architecturales de leur époque et les particularités de ceux qui y reposent. \nIl abrite les sépultures grandioses de nombreux Lyonnais célèbres\, à l’instar du cimetière du Père-Lachaise à Paris : les maires de Lyon tel Édouard Herriot\, les familles industrielles tel Émile Guimet\, les écrivains et les personnages ésotériques… Il raconte donc les grands événements de la ville et la vie de ceux qui ont fait sa réputation. \nVenez découvrir ce lieu singulier où règnent le repos\, mais aussi l’art et l’histoire. Cette visite a également l’immense avantage d’être au calme quoi qu’il arrive tout en étant dans la ville de Lyon.
URL:https://lesvisitesdesfilles.fr/evenement/2022-11-19-le-cimetiere-de-loyasse/
LOCATION:Fourvière\, Rue Roger Radisson\, Lyon\, Auvergne-Rhône-Alpes\, 69005\, France
CATEGORIES:Espaces verts et paysages,Histoire
ATTACH;FMTTYPE=image/jpeg:https://lesvisitesdesfilles.fr/wp-content/uploads/2020/05/loyasse.jpg
ORGANIZER;CN="Emilie":MAILTO:lesvisites.desfilles@gmail.com
END:VEVENT
END:VCALENDAR