BEGIN:VCALENDAR
VERSION:2.0
PRODID:-//Les Visites des Filles - ECPv6.15.20//NONSGML v1.0//EN
CALSCALE:GREGORIAN
METHOD:PUBLISH
X-ORIGINAL-URL:https://lesvisitesdesfilles.fr
X-WR-CALDESC:Évènements pour Les Visites des Filles
REFRESH-INTERVAL;VALUE=DURATION:PT1H
X-Robots-Tag:noindex
X-PUBLISHED-TTL:PT1H
BEGIN:VTIMEZONE
TZID:Europe/Paris
BEGIN:DAYLIGHT
TZOFFSETFROM:+0100
TZOFFSETTO:+0200
TZNAME:CEST
DTSTART:20220327T010000
END:DAYLIGHT
BEGIN:STANDARD
TZOFFSETFROM:+0200
TZOFFSETTO:+0100
TZNAME:CET
DTSTART:20221030T010000
END:STANDARD
BEGIN:DAYLIGHT
TZOFFSETFROM:+0100
TZOFFSETTO:+0200
TZNAME:CEST
DTSTART:20230326T010000
END:DAYLIGHT
BEGIN:STANDARD
TZOFFSETFROM:+0200
TZOFFSETTO:+0100
TZNAME:CET
DTSTART:20231029T010000
END:STANDARD
BEGIN:DAYLIGHT
TZOFFSETFROM:+0100
TZOFFSETTO:+0200
TZNAME:CEST
DTSTART:20240331T010000
END:DAYLIGHT
BEGIN:STANDARD
TZOFFSETFROM:+0200
TZOFFSETTO:+0100
TZNAME:CET
DTSTART:20241027T010000
END:STANDARD
END:VTIMEZONE
BEGIN:VEVENT
DTSTART;TZID=Europe/Paris:20230304T143000
DTEND;TZID=Europe/Paris:20230304T163000
DTSTAMP:20260421T185306
CREATED:20221123T155052Z
LAST-MODIFIED:20230213T210826Z
UID:2000-1677940200-1677947400@lesvisitesdesfilles.fr
SUMMARY:Visite guidée de la Cathédrale Saint-Jean
DESCRIPTION:Voici une visite monographique\, c’est à dire sur un seul monument. La Cathédrale Saint Jean est l’église majeure de Lyon. La plupart des lyonnais la connaissent mais ne savent pas qu’elle a été construite à partir de la fin de l’Antiquité\, puis reconstruite plusieurs fois au cours du Moyen-Age\, ou qu’elle représente le pouvoir de l’évêque. Restaurée et mise en valeur depuis le début de notre siècle\, l’église préserve encore ses vitraux et ses sculptures romanes et gothiques. Joyau parmi les joyaux de la ville\, son histoire s’insère dans l’Histoire européenne. Elle a abrité des conciles\, des couronnements de papes\, des mariages royaux et même la visite de l’empereur Napoléon accompagné de son épouse Joséphine. \nVenez lire les médaillons de la façade ouest\, décrypter les messages des vitraux du chœur\, élucider les mystères de l’architecture\, visiter la salle du Trésor\, comprendre les vestiges du jardin archéologique et voir l’horloge astronomique. \nLa visite guidée concernera les parties ouvertes au public; les parties hautes sont fermées au public pour des raison de sécurité. \n 
URL:https://lesvisitesdesfilles.fr/evenement/2023-03-04-visite-guidee-de-la-cathedrale-saint-jean/
LOCATION:Vieux Lyon\, métro Vieux-Lyon\, Lyon\, Auvergne-Rhône-Alpes\, 69005\, France
CATEGORIES:Architecture,Histoire
ATTACH;FMTTYPE=image/jpeg:https://lesvisitesdesfilles.fr/wp-content/uploads/2020/05/cathedrale-saint-jean.jpg
ORGANIZER;CN="Cl%C3%A9mence":MAILTO:lesvisites.desfilles@gmail.com
END:VEVENT
END:VCALENDAR