BEGIN:VCALENDAR
VERSION:2.0
PRODID:-//Les Visites des Filles - ECPv6.15.20//NONSGML v1.0//EN
CALSCALE:GREGORIAN
METHOD:PUBLISH
X-ORIGINAL-URL:https://lesvisitesdesfilles.fr
X-WR-CALDESC:Évènements pour Les Visites des Filles
REFRESH-INTERVAL;VALUE=DURATION:PT1H
X-Robots-Tag:noindex
X-PUBLISHED-TTL:PT1H
BEGIN:VTIMEZONE
TZID:Europe/Paris
BEGIN:DAYLIGHT
TZOFFSETFROM:+0100
TZOFFSETTO:+0200
TZNAME:CEST
DTSTART:20220327T010000
END:DAYLIGHT
BEGIN:STANDARD
TZOFFSETFROM:+0200
TZOFFSETTO:+0100
TZNAME:CET
DTSTART:20221030T010000
END:STANDARD
BEGIN:DAYLIGHT
TZOFFSETFROM:+0100
TZOFFSETTO:+0200
TZNAME:CEST
DTSTART:20230326T010000
END:DAYLIGHT
BEGIN:STANDARD
TZOFFSETFROM:+0200
TZOFFSETTO:+0100
TZNAME:CET
DTSTART:20231029T010000
END:STANDARD
BEGIN:DAYLIGHT
TZOFFSETFROM:+0100
TZOFFSETTO:+0200
TZNAME:CEST
DTSTART:20240331T010000
END:DAYLIGHT
BEGIN:STANDARD
TZOFFSETFROM:+0200
TZOFFSETTO:+0100
TZNAME:CET
DTSTART:20241027T010000
END:STANDARD
END:VTIMEZONE
BEGIN:VEVENT
DTSTART;TZID=Europe/Paris:20231104T143000
DTEND;TZID=Europe/Paris:20231104T163000
DTSTAMP:20260421T074739
CREATED:20230526T154617Z
LAST-MODIFIED:20230526T154646Z
UID:2051-1699108200-1699115400@lesvisitesdesfilles.fr
SUMMARY:Découvrez Lyon avec Guignol : Sur les pas de Laurent Mourguet et sa fameuse marionnette !
DESCRIPTION:Découvrez Lyon avec Guignol ! Suivez Marine à la recherche des lieux où Laurent Mourguet a vécu et laissé des traces\, et où sa fameuse marionnette a joué ou joue encore.\nLe lieu de rendez-vous sera communiqué aux personnes inscrites quelques jours avant la visite.
URL:https://lesvisitesdesfilles.fr/evenement/2023-11-04-decouvrez-lyon-avec-guignol-sur-les-pas-de-laurent-mourguet-et-sa-fameuse-marionnette/
CATEGORIES:Histoire,Musée
ATTACH;FMTTYPE=image/jpeg:https://lesvisitesdesfilles.fr/wp-content/uploads/2023/05/6165655989_408148c3b3_o.jpg
END:VEVENT
END:VCALENDAR