BEGIN:VCALENDAR
VERSION:2.0
PRODID:-//Les Visites des Filles - ECPv6.15.20//NONSGML v1.0//EN
CALSCALE:GREGORIAN
METHOD:PUBLISH
X-WR-CALNAME:Les Visites des Filles
X-ORIGINAL-URL:https://lesvisitesdesfilles.fr
X-WR-CALDESC:Évènements pour Les Visites des Filles
REFRESH-INTERVAL;VALUE=DURATION:PT1H
X-Robots-Tag:noindex
X-PUBLISHED-TTL:PT1H
BEGIN:VTIMEZONE
TZID:Europe/Paris
BEGIN:DAYLIGHT
TZOFFSETFROM:+0100
TZOFFSETTO:+0200
TZNAME:CEST
DTSTART:20230326T010000
END:DAYLIGHT
BEGIN:STANDARD
TZOFFSETFROM:+0200
TZOFFSETTO:+0100
TZNAME:CET
DTSTART:20231029T010000
END:STANDARD
BEGIN:DAYLIGHT
TZOFFSETFROM:+0100
TZOFFSETTO:+0200
TZNAME:CEST
DTSTART:20240331T010000
END:DAYLIGHT
BEGIN:STANDARD
TZOFFSETFROM:+0200
TZOFFSETTO:+0100
TZNAME:CET
DTSTART:20241027T010000
END:STANDARD
BEGIN:DAYLIGHT
TZOFFSETFROM:+0100
TZOFFSETTO:+0200
TZNAME:CEST
DTSTART:20250330T010000
END:DAYLIGHT
BEGIN:STANDARD
TZOFFSETFROM:+0200
TZOFFSETTO:+0100
TZNAME:CET
DTSTART:20251026T010000
END:STANDARD
END:VTIMEZONE
BEGIN:VEVENT
DTSTART;TZID=Europe/Paris:20240518T143000
DTEND;TZID=Europe/Paris:20240518T163000
DTSTAMP:20260420T213040
CREATED:20240207T164710Z
LAST-MODIFIED:20240207T164710Z
UID:2122-1716042600-1716049800@lesvisitesdesfilles.fr
SUMMARY:Quartier Saint-Jean
DESCRIPTION:La rue Saint-Jean est l’épine dorsale du Vieux Lyon. C’est dans par cette rue que les rois\, les princes et les clercs entraient dans la ville. Aussi\, on retrouve les plus belles maisons Renaissance de Lyon.
URL:https://lesvisitesdesfilles.fr/evenement/2024-05-18-quartier-saint-jean/
CATEGORIES:Architecture,Histoire,Urbanisme
ATTACH;FMTTYPE=image/jpeg:https://lesvisitesdesfilles.fr/wp-content/uploads/2024/02/Campagne-photo-Lyon-18-01-11-252-scaled.jpg
END:VEVENT
END:VCALENDAR