BEGIN:VCALENDAR
VERSION:2.0
PRODID:-//Les Visites des Filles - ECPv6.15.20//NONSGML v1.0//EN
CALSCALE:GREGORIAN
METHOD:PUBLISH
X-ORIGINAL-URL:https://lesvisitesdesfilles.fr
X-WR-CALDESC:Évènements pour Les Visites des Filles
REFRESH-INTERVAL;VALUE=DURATION:PT1H
X-Robots-Tag:noindex
X-PUBLISHED-TTL:PT1H
BEGIN:VTIMEZONE
TZID:Europe/Paris
BEGIN:DAYLIGHT
TZOFFSETFROM:+0100
TZOFFSETTO:+0200
TZNAME:CEST
DTSTART:20180325T010000
END:DAYLIGHT
BEGIN:STANDARD
TZOFFSETFROM:+0200
TZOFFSETTO:+0100
TZNAME:CET
DTSTART:20181028T010000
END:STANDARD
BEGIN:DAYLIGHT
TZOFFSETFROM:+0100
TZOFFSETTO:+0200
TZNAME:CEST
DTSTART:20190331T010000
END:DAYLIGHT
BEGIN:STANDARD
TZOFFSETFROM:+0200
TZOFFSETTO:+0100
TZNAME:CET
DTSTART:20191027T010000
END:STANDARD
BEGIN:DAYLIGHT
TZOFFSETFROM:+0100
TZOFFSETTO:+0200
TZNAME:CEST
DTSTART:20200329T010000
END:DAYLIGHT
BEGIN:STANDARD
TZOFFSETFROM:+0200
TZOFFSETTO:+0100
TZNAME:CET
DTSTART:20201025T010000
END:STANDARD
END:VTIMEZONE
BEGIN:VEVENT
DTSTART;TZID=Europe/Paris:20190706T143000
DTEND;TZID=Europe/Paris:20190706T163000
DTSTAMP:20260422T194431
CREATED:20180925T141557Z
LAST-MODIFIED:20200504T102141Z
UID:284-1562423400-1562430600@lesvisitesdesfilles.fr
SUMMARY:Les Secrets de la Croix-Rousse
DESCRIPTION:C’est certain\, la colline de la Croix-Rousse a gardé son âme de village où il fait bon vivre. Elle est séparée en deux zones distinctes : les « pentes » et le « plateau ».\nPour cette visite\, nous resterons sur le plateau\, afin d’en découvrir ses nombreux secrets : des vestiges de fortifications qui autrefois séparaient le faubourg de la ville de Lyon\, le gros Caillou\, l’église Saint-Denis\, les traces laissées par les Canuts au 19eme siècle… Nous passerons également au travers de plusieurs hauts-lieux de la boule Lyonnaise\, évoquerons la « Galoche »\, et verrons la fresque des Canuts. Un agréable balade au plat et en hauteur. \n  \nEn bonus\, à la fin de la visite\, je vous déposerai devant le magnifique et insolite jardin Rosa Mir pour que vous ayiez l’opportunité de compléter votre découverte du quartier (entrée non incluse dans le billet). \n  \nA ne pas manquer ! \n  \nInscription obligatoire ICI
URL:https://lesvisitesdesfilles.fr/evenement/visite-de-lile-barbe/
LOCATION:Auvergne-Rhône-Alpes
CATEGORIES:Architecture,Histoire,Urbanisme
ATTACH;FMTTYPE=image/jpeg:https://lesvisitesdesfilles.fr/wp-content/uploads/2017/12/SNB11392.jpg
ORGANIZER;CN="Cl%C3%A9mence":MAILTO:lesvisites.desfilles@gmail.com
END:VEVENT
END:VCALENDAR