BEGIN:VCALENDAR
VERSION:2.0
PRODID:-//Les Visites des Filles - ECPv6.15.20//NONSGML v1.0//EN
CALSCALE:GREGORIAN
METHOD:PUBLISH
X-ORIGINAL-URL:https://lesvisitesdesfilles.fr
X-WR-CALDESC:Évènements pour Les Visites des Filles
REFRESH-INTERVAL;VALUE=DURATION:PT1H
X-Robots-Tag:noindex
X-PUBLISHED-TTL:PT1H
BEGIN:VTIMEZONE
TZID:Europe/Paris
BEGIN:DAYLIGHT
TZOFFSETFROM:+0100
TZOFFSETTO:+0200
TZNAME:CEST
DTSTART:20180325T010000
END:DAYLIGHT
BEGIN:STANDARD
TZOFFSETFROM:+0200
TZOFFSETTO:+0100
TZNAME:CET
DTSTART:20181028T010000
END:STANDARD
BEGIN:DAYLIGHT
TZOFFSETFROM:+0100
TZOFFSETTO:+0200
TZNAME:CEST
DTSTART:20190331T010000
END:DAYLIGHT
BEGIN:STANDARD
TZOFFSETFROM:+0200
TZOFFSETTO:+0100
TZNAME:CET
DTSTART:20191027T010000
END:STANDARD
BEGIN:DAYLIGHT
TZOFFSETFROM:+0100
TZOFFSETTO:+0200
TZNAME:CEST
DTSTART:20200329T010000
END:DAYLIGHT
BEGIN:STANDARD
TZOFFSETFROM:+0200
TZOFFSETTO:+0100
TZNAME:CET
DTSTART:20201025T010000
END:STANDARD
END:VTIMEZONE
BEGIN:VEVENT
DTSTART;TZID=Europe/Paris:20190907T143000
DTEND;TZID=Europe/Paris:20190907T163000
DTSTAMP:20260422T163837
CREATED:20181014T092150Z
LAST-MODIFIED:20200509T100846Z
UID:303-1567866600-1567873800@lesvisitesdesfilles.fr
SUMMARY:Balade dans le quartier St Vincent-Martinière
DESCRIPTION:Partez à la découverte d’un quartier très peu visité et pourtant tout autant intéressant que d’autres. Vous reconnaîtrez et connaîtrez mieux l’histoire de certains lieux et bâtiments (Place Sathonay\, Jardin des Plantes\, Halle de la Martinière) et passerez probablement par des rues méconnues. \nVisite concoctée par Marion \nRDV : Vers 14h15 dans le Cloître du Musée des Beaux Arts\, vers la fontaine centrale. \nTarifs : 12€ / 5€ (12-18ans et demandeurs d’emploi) / Gratuit pour les moins de 12 ans\, les bons cadeaux et les détenteurs de carte fidélité pleine \nRenseignements : lesvisites.desfilles@gmail.com ou 06.20.63.65.33 \nRéservations obligatoires ICI
URL:https://lesvisitesdesfilles.fr/evenement/balade-quartier-st-vincent/
LOCATION:Auvergne-Rhône-Alpes
CATEGORIES:Architecture,Histoire,Urbanisme
ATTACH;FMTTYPE=image/jpeg:https://lesvisitesdesfilles.fr/wp-content/uploads/2020/05/DSCF6640-2.jpg
ORGANIZER;CN="Marion":MAILTO:lesvisites.desfilles@gmail.com
END:VEVENT
END:VCALENDAR