BEGIN:VCALENDAR
VERSION:2.0
PRODID:-//Les Visites des Filles - ECPv6.15.20//NONSGML v1.0//EN
CALSCALE:GREGORIAN
METHOD:PUBLISH
X-ORIGINAL-URL:https://lesvisitesdesfilles.fr
X-WR-CALDESC:Évènements pour Les Visites des Filles
REFRESH-INTERVAL;VALUE=DURATION:PT1H
X-Robots-Tag:noindex
X-PUBLISHED-TTL:PT1H
BEGIN:VTIMEZONE
TZID:Europe/Paris
BEGIN:DAYLIGHT
TZOFFSETFROM:+0100
TZOFFSETTO:+0200
TZNAME:CEST
DTSTART:20150329T010000
END:DAYLIGHT
BEGIN:STANDARD
TZOFFSETFROM:+0200
TZOFFSETTO:+0100
TZNAME:CET
DTSTART:20151025T010000
END:STANDARD
BEGIN:DAYLIGHT
TZOFFSETFROM:+0100
TZOFFSETTO:+0200
TZNAME:CEST
DTSTART:20160327T010000
END:DAYLIGHT
BEGIN:STANDARD
TZOFFSETFROM:+0200
TZOFFSETTO:+0100
TZNAME:CET
DTSTART:20161030T010000
END:STANDARD
BEGIN:DAYLIGHT
TZOFFSETFROM:+0100
TZOFFSETTO:+0200
TZNAME:CEST
DTSTART:20170326T010000
END:DAYLIGHT
BEGIN:STANDARD
TZOFFSETFROM:+0200
TZOFFSETTO:+0100
TZNAME:CET
DTSTART:20171029T010000
END:STANDARD
END:VTIMEZONE
BEGIN:VEVENT
DTSTART;TZID=Europe/Paris:20161105T143000
DTEND;TZID=Europe/Paris:20161105T163000
DTSTAMP:20260420T193806
CREATED:20160316T141429Z
LAST-MODIFIED:20200504T150547Z
UID:128-1478356200-1478363400@lesvisitesdesfilles.fr
SUMMARY:La Part-Dieu et sa part méconnue
DESCRIPTION:Bien sûr\, il y a le centre commercial et la gare mais la Part Dieu ne se résume pas à cela. \nProfitez de cette visite pour déambuler dans un quartier où on le fait rarement et : \n\nvous saurez quel est le plus ancien bâtiment (vous risquez d’être surpris!)\nvous connaîtrez l‘évolution du quartier\, de ses origines agricoles à sa vocation de quartier d’affaires actuel en passant par Zizi Béton\nvous découvrirez le futur visage de la Part-Dieu en 2020\nvous marcherez une dizaine de mètres au-dessus du sol\nvous pourrez un peu mieux comprendre son architecture très années 70…\n\nNB : Vous pouvez venir avec vos enfants qui se verront remettre un livret de jeux en lien avec la visite. \nTarif plein : 10 euros\nTarif réduit (demandeurs d’emploi et enfants de plus de 12 ans) : 7 euros\nGratuité : enfants de moins de 12 ans
URL:https://lesvisitesdesfilles.fr/evenement/part-dieu-moderne/
LOCATION:Part-Dieu\, Part-Dieu Lyon\, Lyon\, Auvergne-Rhône-Alpes\, 69003\, France
CATEGORIES:Architecture,Histoire,Urbanisme
ATTACH;FMTTYPE=image/jpeg:https://lesvisitesdesfilles.fr/wp-content/uploads/2016/03/Part-Dieu-2.jpg
ORGANIZER;CN="Marion":MAILTO:lesvisites.desfilles@gmail.com
END:VEVENT
END:VCALENDAR