BEGIN:VCALENDAR
VERSION:2.0
PRODID:-//Les Visites des Filles - ECPv6.15.20//NONSGML v1.0//EN
CALSCALE:GREGORIAN
METHOD:PUBLISH
X-WR-CALNAME:Les Visites des Filles
X-ORIGINAL-URL:https://lesvisitesdesfilles.fr
X-WR-CALDESC:Évènements pour Les Visites des Filles
REFRESH-INTERVAL;VALUE=DURATION:PT1H
X-Robots-Tag:noindex
X-PUBLISHED-TTL:PT1H
BEGIN:VTIMEZONE
TZID:Europe/Paris
BEGIN:DAYLIGHT
TZOFFSETFROM:+0100
TZOFFSETTO:+0200
TZNAME:CEST
DTSTART:20160327T010000
END:DAYLIGHT
BEGIN:STANDARD
TZOFFSETFROM:+0200
TZOFFSETTO:+0100
TZNAME:CET
DTSTART:20161030T010000
END:STANDARD
BEGIN:DAYLIGHT
TZOFFSETFROM:+0100
TZOFFSETTO:+0200
TZNAME:CEST
DTSTART:20170326T010000
END:DAYLIGHT
BEGIN:STANDARD
TZOFFSETFROM:+0200
TZOFFSETTO:+0100
TZNAME:CET
DTSTART:20171029T010000
END:STANDARD
BEGIN:DAYLIGHT
TZOFFSETFROM:+0100
TZOFFSETTO:+0200
TZNAME:CEST
DTSTART:20180325T010000
END:DAYLIGHT
BEGIN:STANDARD
TZOFFSETFROM:+0200
TZOFFSETTO:+0100
TZNAME:CET
DTSTART:20181028T010000
END:STANDARD
END:VTIMEZONE
BEGIN:VEVENT
DTSTART;TZID=Europe/Paris:20170603T143000
DTEND;TZID=Europe/Paris:20170603T163000
DTSTAMP:20260420T095243
CREATED:20161004T202344Z
LAST-MODIFIED:20200504T145742Z
UID:169-1496500200-1496507400@lesvisitesdesfilles.fr
SUMMARY:Fourvière insolite
DESCRIPTION:La colline de Fourvière telle que vous ne l’avez jamais vue: les ruines antiques ne sont pas seulement là où vous les attendez\, mais parfois cachées derrière de hauts murs. La colline est aussi le creuset d’une histoire religieuse forte: les congrégations y sont toujours nombreuses et en activité. Parfois les espaces verts\, îlots de fraîcheur\, recèlent l’insolite. Explorer Lyon en dehors des sentiers battus!
URL:https://lesvisitesdesfilles.fr/evenement/fourviere-insolite-2/
CATEGORIES:Architecture,Espaces verts et paysages,Histoire,Randonnée urbaine
ATTACH;FMTTYPE=image/jpeg:https://lesvisitesdesfilles.fr/wp-content/uploads/2016/10/lyondunecollinealautre-094-scaled-e1588607694578.jpg
ORGANIZER;CN="Emilie":MAILTO:lesvisites.desfilles@gmail.com
END:VEVENT
END:VCALENDAR