BEGIN:VCALENDAR
VERSION:2.0
PRODID:-//Les Visites des Filles - ECPv6.15.20//NONSGML v1.0//EN
CALSCALE:GREGORIAN
METHOD:PUBLISH
X-ORIGINAL-URL:https://lesvisitesdesfilles.fr
X-WR-CALDESC:Évènements pour Les Visites des Filles
REFRESH-INTERVAL;VALUE=DURATION:PT1H
X-Robots-Tag:noindex
X-PUBLISHED-TTL:PT1H
BEGIN:VTIMEZONE
TZID:Europe/Paris
BEGIN:DAYLIGHT
TZOFFSETFROM:+0100
TZOFFSETTO:+0200
TZNAME:CEST
DTSTART:20160327T010000
END:DAYLIGHT
BEGIN:STANDARD
TZOFFSETFROM:+0200
TZOFFSETTO:+0100
TZNAME:CET
DTSTART:20161030T010000
END:STANDARD
BEGIN:DAYLIGHT
TZOFFSETFROM:+0100
TZOFFSETTO:+0200
TZNAME:CEST
DTSTART:20170326T010000
END:DAYLIGHT
BEGIN:STANDARD
TZOFFSETFROM:+0200
TZOFFSETTO:+0100
TZNAME:CET
DTSTART:20171029T010000
END:STANDARD
BEGIN:DAYLIGHT
TZOFFSETFROM:+0100
TZOFFSETTO:+0200
TZNAME:CEST
DTSTART:20180325T010000
END:DAYLIGHT
BEGIN:STANDARD
TZOFFSETFROM:+0200
TZOFFSETTO:+0100
TZNAME:CET
DTSTART:20181028T010000
END:STANDARD
END:VTIMEZONE
BEGIN:VEVENT
DTSTART;TZID=Europe/Paris:20170701T143000
DTEND;TZID=Europe/Paris:20170701T163000
DTSTAMP:20260420T081819
CREATED:20161004T134705Z
LAST-MODIFIED:20200504T145619Z
UID:154-1498919400-1498926600@lesvisitesdesfilles.fr
SUMMARY:Allons faire un tour au Parc de la Tête d’Or
DESCRIPTION:Pourquoi une visite dans ce parc que vous connaissez déjà nous demanderez-vous? E bien parce que vous ne le connaissez peut-être pas autant que cela! \nVenez suivre Marion pour une nouvelle découverte du lieu à travers son Histoire\, celle de ses occupants et de ses activités. \nQue représente cette statue? Pourquoi y a-t-il ceci à tel endroit? Comment est alimenté le lac? Qu’y avait-il avant? Voilà autant de questions qui trouveront leurs réponses lors de cette balade qui vous emmènera aussi dans des lieux moins connus tels que l’île du Souvenir ou …chut! c’est une surprise!
URL:https://lesvisitesdesfilles.fr/evenement/allons-faire-tour-parc-de-tete-dor-2/
LOCATION:Parc de la Tête d’or\, Lyon \, 69006\, France
CATEGORIES:Espaces verts et paysages
ATTACH;FMTTYPE=image/jpeg:https://lesvisitesdesfilles.fr/wp-content/uploads/2016/10/chemin-fer.jpg
ORGANIZER;CN="Marion":MAILTO:lesvisites.desfilles@gmail.com
END:VEVENT
END:VCALENDAR