BEGIN:VCALENDAR
VERSION:2.0
PRODID:-//Les Visites des Filles - ECPv6.15.20//NONSGML v1.0//EN
CALSCALE:GREGORIAN
METHOD:PUBLISH
X-ORIGINAL-URL:https://lesvisitesdesfilles.fr
X-WR-CALDESC:Évènements pour Les Visites des Filles
REFRESH-INTERVAL;VALUE=DURATION:PT1H
X-Robots-Tag:noindex
X-PUBLISHED-TTL:PT1H
BEGIN:VTIMEZONE
TZID:Europe/Paris
BEGIN:DAYLIGHT
TZOFFSETFROM:+0100
TZOFFSETTO:+0200
TZNAME:CEST
DTSTART:20170326T010000
END:DAYLIGHT
BEGIN:STANDARD
TZOFFSETFROM:+0200
TZOFFSETTO:+0100
TZNAME:CET
DTSTART:20171029T010000
END:STANDARD
BEGIN:DAYLIGHT
TZOFFSETFROM:+0100
TZOFFSETTO:+0200
TZNAME:CEST
DTSTART:20180325T010000
END:DAYLIGHT
BEGIN:STANDARD
TZOFFSETFROM:+0200
TZOFFSETTO:+0100
TZNAME:CET
DTSTART:20181028T010000
END:STANDARD
BEGIN:DAYLIGHT
TZOFFSETFROM:+0100
TZOFFSETTO:+0200
TZNAME:CEST
DTSTART:20190331T010000
END:DAYLIGHT
BEGIN:STANDARD
TZOFFSETFROM:+0200
TZOFFSETTO:+0100
TZNAME:CET
DTSTART:20191027T010000
END:STANDARD
END:VTIMEZONE
BEGIN:VEVENT
DTSTART;TZID=Europe/Paris:20180407T143000
DTEND;TZID=Europe/Paris:20180407T163000
DTSTAMP:20260419T180323
CREATED:20180107T133013Z
LAST-MODIFIED:20200504T143955Z
UID:199-1523111400-1523118600@lesvisitesdesfilles.fr
SUMMARY:Street Art Guillotière
DESCRIPTION:L’art urbain\, ou street art\, est un mouvement artistique contemporain. Il regroupe toutes les formes d’art réalisé dans la rue\, ou dans des endroits publics\, et englobe diverses techniques telles que le graffiti\, la réclame\, le pochoir\, la mosaïque\, le sticker\, l’affichage ou les installations. C’est principalement un art éphémère vu par un large public. Cette balade vous fera découvrir les formes contemporaines d’art urbain à la Guillotière. Découverte de galeries d’art et rencontre avec des artistes. \nDate : le 7 et le 21 avril \nHeure : de 14h30 à 16h30 \nDépart: devant l’église Saint-André\, rue de Marseille \nTarif normal : 12 euros \nTarif réduit (personne en situation de handicap et chômeurs) : 5 euros \nEnfants de moins de 12 ans : gratuit \nréservation ici \nSi une personne vient avec cinq personnes\, c’est gratuit (ou autrement dit : 6 personnes qui viennent ensemble\, 1 place gratuite\, les 5 autres paient).
URL:https://lesvisitesdesfilles.fr/evenement/street-art/
LOCATION:Guillotière\, Place Antonin Jutard\, Lyon\, Auvergne-Rhône-Alpes\, 69007\, France
CATEGORIES:Art contemporain
ATTACH;FMTTYPE=image/jpeg:https://lesvisitesdesfilles.fr/wp-content/uploads/2018/01/SAM_1995-2.jpeg
ORGANIZER;CN="Emilie":MAILTO:lesvisites.desfilles@gmail.com
END:VEVENT
BEGIN:VEVENT
DTSTART;TZID=Europe/Paris:20180408T100000
DTEND;TZID=Europe/Paris:20180408T120000
DTSTAMP:20260419T180323
CREATED:20180317T100340Z
LAST-MODIFIED:20200504T143828Z
UID:255-1523181600-1523188800@lesvisitesdesfilles.fr
SUMMARY:Lyon capitale de l'étrange - Quai du Polar
DESCRIPTION:Lyon est bien charmante\, sous le soleil. Elle attire nombre de touristes venus découvrir sa douce atmosphère. Mais tous ces visiteurs se doutent-ils que ces rues ont été le théâtre de délits\, de crimes\, mais aussi des phénomènes étranges\, presque bizarres ? \nIci\, la criminalité est effrayante. Les ruelles ont abrité l’assassin Caserio ; Joseph Vacher\, le Jack l’Eventreur lyonnais ; le bagnard Vidocq ; le tueur de bonnes\, Martin Dumollard ; et le poète-assassin\, Pierre-François Lacenaire. \nLes enquêteurs comme Lacassagne ont archivé minutieusement les récits des faits établis entre Rhône et Saône. Le mobile de chacun de ces meurtriers n’est pas toujours très clair. Pour certains\, c’était par idéologie. Pour d’autres\, c’est la folie qui a conduit leur geste. \nEst-ce aussi la folie qui mène aussi les citoyens du monde à se réunir autour de tables pour expérimenter les phénomènes occultes ? Lyon est aussi le décor des recherches ésotériques et de l’occultisme : tables tournantes\, prophétisme\, spiritisme\, mysticisme… la ville doit sa réputation au culte du secret. Si bien que tous les mystères ne seront certainement pas élucidés au cours de cette visite qui vous fera frémir… \nDate : 8 avril (pendant le festival Quai du Polar) \nHoraire: de 10h à 12h \nDépart: devant le 10\, place Bellecour \nTarif normal : 12 euros \nTarif réduit (personne en situation de handicap et chômeurs) : 5 euros \nEnfants de moins de 12 ans : gratuit \nRéservation: ici \nSi une personne vient avec cinq personnes\, c’est gratuit (ou autrement dit : 6 personnes \nqui viennent ensemble\, 1 place gratuite\, les 5 autres paient).
URL:https://lesvisitesdesfilles.fr/evenement/lyon-capitale-de-letrange-quai-polar/
LOCATION:Bellecour\, place Bellecour\, Lyon\, 69002\, France
CATEGORIES:Histoire
ATTACH;FMTTYPE=image/jpeg:https://lesvisitesdesfilles.fr/wp-content/uploads/2018/03/17mesmer.jpg
ORGANIZER;CN="Emilie":MAILTO:lesvisites.desfilles@gmail.com
END:VEVENT
BEGIN:VEVENT
DTSTART;TZID=Europe/Paris:20180421T143000
DTEND;TZID=Europe/Paris:20180421T163000
DTSTAMP:20260419T180323
CREATED:20180110T181328Z
LAST-MODIFIED:20200504T143740Z
UID:232-1524321000-1524328200@lesvisitesdesfilles.fr
SUMMARY:Street Art Guillotière
DESCRIPTION:L’art urbain\, ou street art\, est un mouvement artistique contemporain. Il regroupe toutes les formes d’art réalisé dans la rue\, ou dans des endroits publics\, et englobe diverses techniques telles que le graffiti\, la réclame\, le pochoir\, la mosaïque\, le sticker\, l’affichage ou les installations. C’est principalement un art éphémère vu par un large public. Cette balade vous fera découvrir les formes contemporaines d’art urbain à la Guillotière. Découverte de galeries d’art et rencontre avec des artistes. \nDate : le 7 et le 21 avril \nHeure : de 14h30 à 16h30 \nDépart: devant l’église Saint-André\, rue de Marseille \nTarif normal : 12 euros \nTarif réduit (personne en situation de handicap et chômeurs) : 5 euros \nEnfants de moins de 12 ans : gratuit \nRéservation : la visite est complète \nSi une personne vient avec cinq personnes\, c’est gratuit (ou autrement dit : 6 personnes qui viennent ensemble\, 1 place gratuite\, les 5 autres paient).
URL:https://lesvisitesdesfilles.fr/evenement/street-art-guillotiere/
LOCATION:Guillotière\, Place Antonin Jutard\, Lyon\, Auvergne-Rhône-Alpes\, 69007\, France
CATEGORIES:Art contemporain
ATTACH;FMTTYPE=image/jpeg:https://lesvisitesdesfilles.fr/wp-content/uploads/2018/01/SAM_1995-2.jpeg
ORGANIZER;CN="Emilie":MAILTO:lesvisites.desfilles@gmail.com
END:VEVENT
END:VCALENDAR