BEGIN:VCALENDAR
VERSION:2.0
PRODID:-//Les Visites des Filles - ECPv6.15.20//NONSGML v1.0//EN
CALSCALE:GREGORIAN
METHOD:PUBLISH
X-ORIGINAL-URL:https://lesvisitesdesfilles.fr
X-WR-CALDESC:Évènements pour Les Visites des Filles
REFRESH-INTERVAL;VALUE=DURATION:PT1H
X-Robots-Tag:noindex
X-PUBLISHED-TTL:PT1H
BEGIN:VTIMEZONE
TZID:Europe/Paris
BEGIN:DAYLIGHT
TZOFFSETFROM:+0100
TZOFFSETTO:+0200
TZNAME:CEST
DTSTART:20170326T010000
END:DAYLIGHT
BEGIN:STANDARD
TZOFFSETFROM:+0200
TZOFFSETTO:+0100
TZNAME:CET
DTSTART:20171029T010000
END:STANDARD
BEGIN:DAYLIGHT
TZOFFSETFROM:+0100
TZOFFSETTO:+0200
TZNAME:CEST
DTSTART:20180325T010000
END:DAYLIGHT
BEGIN:STANDARD
TZOFFSETFROM:+0200
TZOFFSETTO:+0100
TZNAME:CET
DTSTART:20181028T010000
END:STANDARD
BEGIN:DAYLIGHT
TZOFFSETFROM:+0100
TZOFFSETTO:+0200
TZNAME:CEST
DTSTART:20190331T010000
END:DAYLIGHT
BEGIN:STANDARD
TZOFFSETFROM:+0200
TZOFFSETTO:+0100
TZNAME:CET
DTSTART:20191027T010000
END:STANDARD
END:VTIMEZONE
BEGIN:VEVENT
DTSTART;TZID=Europe/Paris:20180505T143000
DTEND;TZID=Europe/Paris:20180505T163000
DTSTAMP:20260419T162456
CREATED:20160314T095421Z
LAST-MODIFIED:20200504T143635Z
UID:98-1525530600-1525537800@lesvisitesdesfilles.fr
SUMMARY:Lyon en pleine Résistance
DESCRIPTION:Lyon est connue comme la Capitale de la Résistance mais pourquoi exactement? Venez vous replonger dans les années 40 en déambulant dans la Presqu’île. Vous y découvrirez les petites histoires qui ont fait l’Histoire et ce qu’il en reste. \nDe Jean Moulin au Veilleur de pierre en passant par les traboules\, vous ne verrez probablement plus Lyon de la même manière. \nLes réservations se font en ligne en suivant ce lien \nDébut de la visite à 14h30\, Place Bellecour\, à la Statue de Louis XIV (sous la queue du cheval) \n 
URL:https://lesvisitesdesfilles.fr/evenement/lyon-a-lheure-de-la-resistance/
LOCATION:Presqu’île\, Lyon\, Auvergne-Rhône-Alpes\, 69001\, France
CATEGORIES:Histoire
ATTACH;FMTTYPE=image/jpeg:https://lesvisitesdesfilles.fr/wp-content/uploads/2016/03/SNB10676.jpg
ORGANIZER;CN="Marion":MAILTO:lesvisites.desfilles@gmail.com
END:VEVENT
BEGIN:VEVENT
DTSTART;TZID=Europe/Paris:20180519T143000
DTEND;TZID=Europe/Paris:20180519T163000
DTSTAMP:20260419T162456
CREATED:20170720T124904Z
LAST-MODIFIED:20200504T143551Z
UID:207-1526740200-1526747400@lesvisitesdesfilles.fr
SUMMARY:Lyon en pleine Résistance
DESCRIPTION:Lyon est connue comme la Capitale de la Résistance mais pourquoi exactement? Venez vous replonger dans les années 40 en déambulant dans la Presqu’île. Vous y découvrirez les petites histoires qui ont fait l’Histoire et ce qu’il en reste. \nDe Jean Moulin au Veilleur de pierre en passant par les traboules\, vous ne verrez probablement plus Lyon de la même manière. \nLes réservations se font en ligne en suivant ce lien \nDébut de la visite à 14h30\, Place Bellecour\, à la Statue de Louis XIV (sous la queue du cheval)
URL:https://lesvisitesdesfilles.fr/evenement/lyon-pleine-resistance/
LOCATION:Presqu’île\, Lyon\, Auvergne-Rhône-Alpes\, 69001\, France
CATEGORIES:Histoire
ATTACH;FMTTYPE=image/jpeg:https://lesvisitesdesfilles.fr/wp-content/uploads/2017/07/Jean-Moulin.jpg
ORGANIZER;CN="Marion":MAILTO:lesvisites.desfilles@gmail.com
END:VEVENT
END:VCALENDAR