BEGIN:VCALENDAR
VERSION:2.0
PRODID:-//Les Visites des Filles - ECPv6.15.20//NONSGML v1.0//EN
CALSCALE:GREGORIAN
METHOD:PUBLISH
X-ORIGINAL-URL:https://lesvisitesdesfilles.fr
X-WR-CALDESC:Évènements pour Les Visites des Filles
REFRESH-INTERVAL;VALUE=DURATION:PT1H
X-Robots-Tag:noindex
X-PUBLISHED-TTL:PT1H
BEGIN:VTIMEZONE
TZID:Europe/Paris
BEGIN:DAYLIGHT
TZOFFSETFROM:+0100
TZOFFSETTO:+0200
TZNAME:CEST
DTSTART:20220327T010000
END:DAYLIGHT
BEGIN:STANDARD
TZOFFSETFROM:+0200
TZOFFSETTO:+0100
TZNAME:CET
DTSTART:20221030T010000
END:STANDARD
BEGIN:DAYLIGHT
TZOFFSETFROM:+0100
TZOFFSETTO:+0200
TZNAME:CEST
DTSTART:20230326T010000
END:DAYLIGHT
BEGIN:STANDARD
TZOFFSETFROM:+0200
TZOFFSETTO:+0100
TZNAME:CET
DTSTART:20231029T010000
END:STANDARD
BEGIN:DAYLIGHT
TZOFFSETFROM:+0100
TZOFFSETTO:+0200
TZNAME:CEST
DTSTART:20240331T010000
END:DAYLIGHT
BEGIN:STANDARD
TZOFFSETFROM:+0200
TZOFFSETTO:+0100
TZNAME:CET
DTSTART:20241027T010000
END:STANDARD
END:VTIMEZONE
BEGIN:VEVENT
DTSTART;TZID=Europe/Paris:20230701T100000
DTEND;TZID=Europe/Paris:20230701T120000
DTSTAMP:20260421T224622
CREATED:20230526T143644Z
LAST-MODIFIED:20230608T085941Z
UID:2029-1688205600-1688212800@lesvisitesdesfilles.fr
SUMMARY:Visite historique du quartier d'Ainay
DESCRIPTION:Clémence vous amène à la découverte du quartier d’Ainay\, quartier organisé autour de la populaire rue piétonne Victor Hugo et à quelques pas de la place Bellecour. Il s’agit d’un quartier historique de la ville correspondant au périmètre Unesco et à ce titre particulièrement patrimonial. Quartier de prédilection de l’aristocratie lyonnaise dès le XVIIIe siècle puis de la grande bourgeoisie au XIXe\, ce petit bout de Presqu’île a su se transformer tout en conservant son âme. \nCette visite vous permettra de découvrir son riche patrimoine\, notamment la plus belle église-abbatiale (et basilique) Romane de Lyon\, Saint-Martin d’Ainay\, dont les origines remontent au IXème siècle et qui est particulièrement bien conservée et restaurée.  \nNous répondrons à de nombreuses questions que vous vous êtes peut-être déjà posées en faisant votre shopping : d’où vient le nom de « place Carnot » ? d’où vient le nom « Ainay » ? Connaissez vous les mosaïques romaines découvertes à Ainay ? Où se trouvaient les remparts qui délimitaient le sud de la presqu’île jusqu’au XIXème siècle ? \n Ainay\, c’est aussi le quartier des antiquaires dans la fameuse rue Auguste Comte\, des traboules méconnues qui servirent à la Résistance et des premiers hôtels particuliers dès le XVIIème siècle\, comme le magnifique hôtel de Villeroy\, plus connu sous le nom de musée des Tissus. \nLaissez-vous guider pour découvrir autrement ce quartier ! \nLe lieu de rendez-vous de cette visite guidée vous sera donné par la guide quelques jours avant la visite.
URL:https://lesvisitesdesfilles.fr/evenement/2023-07-01-visite-historique-du-quartier-dainay/
LOCATION:Ainay\, Place d'Ainay\, Lyon\, Auvergne-Rhône-Alpes\, 69002\, France
CATEGORIES:Architecture,Histoire
ATTACH;FMTTYPE=image/jpeg:https://lesvisitesdesfilles.fr/wp-content/uploads/2020/05/Ainay1-2.jpg
ORGANIZER;CN="Cl%C3%A9mence":MAILTO:lesvisites.desfilles@gmail.com
END:VEVENT
BEGIN:VEVENT
DTSTART;TZID=Europe/Paris:20230722T143000
DTEND;TZID=Europe/Paris:20230722T163000
DTSTAMP:20260421T224622
CREATED:20230526T144409Z
LAST-MODIFIED:20230526T144409Z
UID:2031-1690036200-1690043400@lesvisitesdesfilles.fr
SUMMARY:La Presqu'île de place en place
DESCRIPTION:La presqu’île de Lyon\, et bien entendu son centre ville\, est comme tout centre ville :  il présente des monuments\, des rues\, des bâtiments collectifs et des places. Après s’être intéressée aux styles des édifices de logements\, Marine a ici concocté une visite guidée focalisée sur les places. Lieux de vie\, de passage\, de rencontre voire d’émeutes\, de répression ou autres\, une ville sans place ne serait pas une vraie ville\, n’est-ce pas ? \nLe centre ville de Lyon a de nombreuses places allant des très connues (Terreaux\, Bellecour\, Jacobins…) aux moins connues (Vollon\, Meissonier) en passant par les familières que l’on fréquente sans en connaître finalement le nom (Comédie\, Tolozan) ou celles qui ne ressemblent pas vraiment à une place (Cordeliers). L’itinéraire proposé ici permet de voir la presqu’île sous un prisme différent du quotidien. \nCette visite guidée en presqu’île vous en permettra d’en savoir davantage sur l’évolution de l’urbanisme au fil des siècles\, les rôles d’une place\, les anecdotes autour de certaines places\, l’histoire de la création de ces places\, l’origine de leurs noms\, les bâtiments qui les entourent\,  les évolutions éventuellement prévues. \nLe lieu de rendez-vous de cette visite guidée vous sera donné par la guide quelques jours avant la visite.  \n 
URL:https://lesvisitesdesfilles.fr/evenement/2023-07-22-la-presquile-de-place-en-place/
CATEGORIES:Architecture,Histoire,Urbanisme
ATTACH;FMTTYPE=image/jpeg:https://lesvisitesdesfilles.fr/wp-content/uploads/2020/05/DSCF7927-scaled-e1588613576386.jpg
END:VEVENT
END:VCALENDAR