BEGIN:VCALENDAR
VERSION:2.0
PRODID:-//Les Visites des Filles - ECPv6.15.20//NONSGML v1.0//EN
CALSCALE:GREGORIAN
METHOD:PUBLISH
X-ORIGINAL-URL:https://lesvisitesdesfilles.fr
X-WR-CALDESC:Évènements pour Les Visites des Filles
REFRESH-INTERVAL;VALUE=DURATION:PT1H
X-Robots-Tag:noindex
X-PUBLISHED-TTL:PT1H
BEGIN:VTIMEZONE
TZID:Europe/Paris
BEGIN:DAYLIGHT
TZOFFSETFROM:+0100
TZOFFSETTO:+0200
TZNAME:CEST
DTSTART:20230326T010000
END:DAYLIGHT
BEGIN:STANDARD
TZOFFSETFROM:+0200
TZOFFSETTO:+0100
TZNAME:CET
DTSTART:20231029T010000
END:STANDARD
BEGIN:DAYLIGHT
TZOFFSETFROM:+0100
TZOFFSETTO:+0200
TZNAME:CEST
DTSTART:20240331T010000
END:DAYLIGHT
BEGIN:STANDARD
TZOFFSETFROM:+0200
TZOFFSETTO:+0100
TZNAME:CET
DTSTART:20241027T010000
END:STANDARD
BEGIN:DAYLIGHT
TZOFFSETFROM:+0100
TZOFFSETTO:+0200
TZNAME:CEST
DTSTART:20250330T010000
END:DAYLIGHT
BEGIN:STANDARD
TZOFFSETFROM:+0200
TZOFFSETTO:+0100
TZNAME:CET
DTSTART:20251026T010000
END:STANDARD
END:VTIMEZONE
BEGIN:VEVENT
DTSTART;TZID=Europe/Paris:20240601T143000
DTEND;TZID=Europe/Paris:20240601T163000
DTSTAMP:20260421T065542
CREATED:20240207T143619Z
LAST-MODIFIED:20240207T143619Z
UID:2086-1717252200-1717259400@lesvisitesdesfilles.fr
SUMMARY:Le parc de la Tête d'Or hors des sentiers battus
DESCRIPTION:Tout le monde s’est déjà promené dans le plus grand parc de Lyon\, créé par les frères Bühler au XIX ème siècle. Tout le monde connaît son lac et ses pédalos\, ses jardins botaniques\, ses roseraie\, son spectacle de Guignol\, son parc aux daims\, son jardin zoologique\, son petit train et ses rosalies\, sa porte d’entrée majestueuse ou encore ses marchands ambulants. \nMais connaissez-vous réellement l’histoire du parc ? Pourquoi a-t-il été créé ? Pourquoi est-ce ici que cela s’est fait ? Qu’y avait-il avant ? Le parc était-il en 1856 tel qu’il est aujourd’hui ? Qu’y a-t-il d’identique ? de différent ? Pourquoi la pelouse de la Coupole s’appelle-t-elle ainsi ? Combien y a-t-il d’îles sur le lac ? \nVoici autant de questions qui auront leurs réponses lors de cette visite guidée. \nNous nous attarderons sur des sculptures (des droits de l’Homme\, du G6\, de l’Abbé Rozier\, du Préfet Vaÿsse)\, nous passerons par des lieux connus (jardin zoologique\, jardin botanique\, roseraie) mais pourrons aussi aller dans les sous-bois voir le petit ruisseau ou  prendre la pose sur le pont de bois. Les commentaires seront agrémentés de documents iconographiques et d’anecdotes.
URL:https://lesvisitesdesfilles.fr/evenement/2024-06-01-le-parc-de-la-tete-dor-hors-des-sentiers-battus/
CATEGORIES:Espaces verts et paysages,Histoire
ATTACH;FMTTYPE=image/jpeg:https://lesvisitesdesfilles.fr/wp-content/uploads/2024/02/11-055-scaled.jpg
ORGANIZER;CN="Cl%C3%A9mence":MAILTO:lesvisites.desfilles@gmail.com
END:VEVENT
BEGIN:VEVENT
DTSTART;TZID=Europe/Paris:20240615T143000
DTEND;TZID=Europe/Paris:20240615T163000
DTSTAMP:20260421T065542
CREATED:20240207T144720Z
LAST-MODIFIED:20240207T144720Z
UID:2090-1718461800-1718469000@lesvisitesdesfilles.fr
SUMMARY:Le Parc de Gerland
DESCRIPTION:Le parc de Gerland est le troisième parc paysager lyonnais\, avec le Parc des Hauteurs à Fourvière\, le Parc de la tête d’Or. \nInauguré en juillet 2000 en présente de Raymond-Barre\, le parc occupe une surface de 80 hectares (contre 105 pour le parc de la tête d’or). Il est pourtant assez mal connu des lyonnais. Emilie vous propose donc de lire le paysage avec elle et de comprendre comment a été conçu le parc. La réalisation de ce projet a été confié à l’atelier de Michel Corajoud\, architecte paysagiste reconnu.
URL:https://lesvisitesdesfilles.fr/evenement/2024-06-15-le-parc-de-gerland/
CATEGORIES:Espaces verts et paysages
ATTACH;FMTTYPE=image/jpeg:https://lesvisitesdesfilles.fr/wp-content/uploads/2024/02/IMG_20231123_113555-scaled.jpg
ORGANIZER;CN="Emilie":MAILTO:lesvisites.desfilles@gmail.com
END:VEVENT
END:VCALENDAR