BEGIN:VCALENDAR
VERSION:2.0
PRODID:-//Les Visites des Filles - ECPv6.15.20//NONSGML v1.0//EN
CALSCALE:GREGORIAN
METHOD:PUBLISH
X-ORIGINAL-URL:https://lesvisitesdesfilles.fr
X-WR-CALDESC:Évènements pour Les Visites des Filles
REFRESH-INTERVAL;VALUE=DURATION:PT1H
X-Robots-Tag:noindex
X-PUBLISHED-TTL:PT1H
BEGIN:VTIMEZONE
TZID:Europe/Paris
BEGIN:DAYLIGHT
TZOFFSETFROM:+0100
TZOFFSETTO:+0200
TZNAME:CEST
DTSTART:20230326T010000
END:DAYLIGHT
BEGIN:STANDARD
TZOFFSETFROM:+0200
TZOFFSETTO:+0100
TZNAME:CET
DTSTART:20231029T010000
END:STANDARD
BEGIN:DAYLIGHT
TZOFFSETFROM:+0100
TZOFFSETTO:+0200
TZNAME:CEST
DTSTART:20240331T010000
END:DAYLIGHT
BEGIN:STANDARD
TZOFFSETFROM:+0200
TZOFFSETTO:+0100
TZNAME:CET
DTSTART:20241027T010000
END:STANDARD
BEGIN:DAYLIGHT
TZOFFSETFROM:+0100
TZOFFSETTO:+0200
TZNAME:CEST
DTSTART:20250330T010000
END:DAYLIGHT
BEGIN:STANDARD
TZOFFSETFROM:+0200
TZOFFSETTO:+0100
TZNAME:CET
DTSTART:20251026T010000
END:STANDARD
END:VTIMEZONE
BEGIN:VEVENT
DTSTART;TZID=Europe/Paris:20241102T143000
DTEND;TZID=Europe/Paris:20241102T163000
DTSTAMP:20260420T224453
CREATED:20240709T084507Z
LAST-MODIFIED:20240709T084507Z
UID:2134-1730557800-1730565000@lesvisitesdesfilles.fr
SUMMARY:Villefranche-sur-Saône
DESCRIPTION:Bonjour\, \nÉmilie vous invite à découvrir ou redécouvrir Villefranche-sur-Saône\, capitale du Beaujolais. Fondée au moyen-âge par les sires de Beaujeu\, la ville des calades a préservé un merveilleux patrimoine. L’acte officiel le plus ancien\, à notre connaissance\, est une charte de 1260. Si les remparts ont été démolis\, il reste une configuration urbaine toute médiévale. Le long de sa Grand’ Rue\, dit aujourd’hui la Rue Nat’\, des nombreuses maisons de toutes les époques constituent les trésors cachés d’une petite ville de 40 000 habitants. Les édifices que nous visiterons ne seront pas sans rappeler les Vieux-Lyon ! \nInformations : lesvisites.desfilles@gmail.com et 06 33 67 98 09 (Émilie).\nRendez-vous : devant la gare SNCF de Villefranche sur Saône
URL:https://lesvisitesdesfilles.fr/evenement/2024-11-02-villefranche-sur-saone/
CATEGORIES:Architecture,Histoire,Urbanisme
ATTACH;FMTTYPE=image/jpeg:https://lesvisitesdesfilles.fr/wp-content/uploads/2024/07/IMG_20231107_132443-scaled.jpg
ORGANIZER;CN="Emilie":MAILTO:lesvisites.desfilles@gmail.com
END:VEVENT
BEGIN:VEVENT
DTSTART;TZID=Europe/Paris:20241116T143000
DTEND;TZID=Europe/Paris:20241116T163000
DTSTAMP:20260420T224453
CREATED:20241016T164627Z
LAST-MODIFIED:20241016T164627Z
UID:2143-1731767400-1731774600@lesvisitesdesfilles.fr
SUMMARY:Ternay\, prieuré Clunisien
DESCRIPTION:Ternay est situé à mi chemin entre Lyon et Vienne. Cet ancien monastère a été fondé suità une donation au Xe siècle. Suivez Marine sur les pas des moines qui ont occupé ce territoire au Moyen-âge\, et découvrez un village qui a préservé des traces du passé.
URL:https://lesvisitesdesfilles.fr/evenement/2024-11-16-ternay-prieure-clunisien/
CATEGORIES:Architecture,Histoire
ATTACH;FMTTYPE=image/jpeg:https://lesvisitesdesfilles.fr/wp-content/uploads/2024/10/DSF2445.jpg
END:VEVENT
END:VCALENDAR