BEGIN:VCALENDAR
VERSION:2.0
PRODID:-//Les Visites des Filles - ECPv6.15.20//NONSGML v1.0//EN
CALSCALE:GREGORIAN
METHOD:PUBLISH
X-WR-CALNAME:Les Visites des Filles
X-ORIGINAL-URL:https://lesvisitesdesfilles.fr
X-WR-CALDESC:Évènements pour Les Visites des Filles
REFRESH-INTERVAL;VALUE=DURATION:PT1H
X-Robots-Tag:noindex
X-PUBLISHED-TTL:PT1H
BEGIN:VTIMEZONE
TZID:Europe/Paris
BEGIN:DAYLIGHT
TZOFFSETFROM:+0100
TZOFFSETTO:+0200
TZNAME:CEST
DTSTART:20230326T010000
END:DAYLIGHT
BEGIN:STANDARD
TZOFFSETFROM:+0200
TZOFFSETTO:+0100
TZNAME:CET
DTSTART:20231029T010000
END:STANDARD
BEGIN:DAYLIGHT
TZOFFSETFROM:+0100
TZOFFSETTO:+0200
TZNAME:CEST
DTSTART:20240331T010000
END:DAYLIGHT
BEGIN:STANDARD
TZOFFSETFROM:+0200
TZOFFSETTO:+0100
TZNAME:CET
DTSTART:20241027T010000
END:STANDARD
BEGIN:DAYLIGHT
TZOFFSETFROM:+0100
TZOFFSETTO:+0200
TZNAME:CEST
DTSTART:20250330T010000
END:DAYLIGHT
BEGIN:STANDARD
TZOFFSETFROM:+0200
TZOFFSETTO:+0100
TZNAME:CET
DTSTART:20251026T010000
END:STANDARD
END:VTIMEZONE
BEGIN:VEVENT
DTSTART;TZID=Europe/Paris:20241207T143000
DTEND;TZID=Europe/Paris:20241207T163000
DTSTAMP:20260420T210612
CREATED:20240207T162701Z
LAST-MODIFIED:20240207T162701Z
UID:2117-1733581800-1733589000@lesvisitesdesfilles.fr
SUMMARY:Monplaisir Lumière
DESCRIPTION:Venez écouter l’histoire de ce quartier charmant qu’est Monplaisir. Situé dans le 8e arrondissement\, c’est un quartier très récent. Antoine Lumière acquiert alors un immense terrain\, dans la banlieue de Lyon\, à Monplaisir\, où il fait bâtir les premières usines Lumière et deux maisons (en 1889-1902) : une pour lui et sa femme\, une pour ses deux fils et leurs épouses. Au 1er étage de grandes terrasses dominaient le quartier de Monplaisir\, qui était encore assez rural. Du balcon\, on pouvait voir les Alpes. Seul le tramway reliait le quartier de Monplaisir au reste de la ville.
URL:https://lesvisitesdesfilles.fr/evenement/2024-12-07-monplaisir-lumiere/
CATEGORIES:Architecture,Histoire,Urbanisme
ATTACH;FMTTYPE=image/jpeg:https://lesvisitesdesfilles.fr/wp-content/uploads/2024/02/DSCF3999-scaled.jpg
END:VEVENT
BEGIN:VEVENT
DTSTART;TZID=Europe/Paris:20241214T143000
DTEND;TZID=Europe/Paris:20241214T163000
DTSTAMP:20260420T210612
CREATED:20241029T085714Z
LAST-MODIFIED:20241029T085714Z
UID:2147-1734186600-1734193800@lesvisitesdesfilles.fr
SUMMARY:Sur les pas des Soyeux
DESCRIPTION:Lorsque nous évoquons la soie à Lyon\, nous parlons bien souvent des Canuts\, les petites mains dont les révoltes sont restées célèbres. \nPour compléter la visite « l’épopée de la soierie lyonnaise »\, partez à la découverte des «Soyeux»\, ces grands négociants qui ont participé à l’embellissement de Lyon au fil des siècles. Leurs exportations vers les cours royales d’Europe leur permirent d’amasser de grandes fortunes ; ils purent ainsi se faire construire de magnifiques demeures entre l’Hôtel de Ville de Lyon et le quartier de la rue Royale\, à partir du XVIIIe siècle. \nNous vous parlerons de la fondation de l’école de peinture de fleurs\, de la Révolution Française\, et de ses conséquences sur la vie économique dans la ville de Lyon. Nous parlerons aussi de la Révolte des Canuts. \nLors cette visite vous découvrirez leur histoire et à travers eux\, l’architecture des hôtels particuliers sur la rive droite du Rhône. Nous visiterons des traboules dans le secteur de la place Tolozan\, petite rue des Feuillants\, de la rue du Griffon\, montée Saint-Sébastien et rue des Capucins. Le parcours s’achèvera par une démonstration d’impression sur soie «à la Lyonnaise» chez l’atelier de soierie Brochier. \nDépart de la visite à 14h15\, place des Terreaux.\n15H45 – 16h45 : visite de l’atelier de soierie Brochier\, démonstration d’impression au cadre à la Lyonnaise.
URL:https://lesvisitesdesfilles.fr/evenement/2024-12-14-sur-les-pas-des-soyeux/
CATEGORIES:Architecture,Histoire
ATTACH;FMTTYPE=image/jpeg:https://lesvisitesdesfilles.fr/wp-content/uploads/2020/05/soyeux.jpg
ORGANIZER;CN="Cl%C3%A9mence":MAILTO:lesvisites.desfilles@gmail.com
END:VEVENT
END:VCALENDAR