BEGIN:VCALENDAR
VERSION:2.0
PRODID:-//Les Visites des Filles - ECPv6.15.20//NONSGML v1.0//EN
CALSCALE:GREGORIAN
METHOD:PUBLISH
X-WR-CALNAME:Les Visites des Filles
X-ORIGINAL-URL:https://lesvisitesdesfilles.fr
X-WR-CALDESC:Évènements pour Les Visites des Filles
REFRESH-INTERVAL;VALUE=DURATION:PT1H
X-Robots-Tag:noindex
X-PUBLISHED-TTL:PT1H
BEGIN:VTIMEZONE
TZID:Europe/Paris
BEGIN:DAYLIGHT
TZOFFSETFROM:+0100
TZOFFSETTO:+0200
TZNAME:CEST
DTSTART:20240331T010000
END:DAYLIGHT
BEGIN:STANDARD
TZOFFSETFROM:+0200
TZOFFSETTO:+0100
TZNAME:CET
DTSTART:20241027T010000
END:STANDARD
BEGIN:DAYLIGHT
TZOFFSETFROM:+0100
TZOFFSETTO:+0200
TZNAME:CEST
DTSTART:20250330T010000
END:DAYLIGHT
BEGIN:STANDARD
TZOFFSETFROM:+0200
TZOFFSETTO:+0100
TZNAME:CET
DTSTART:20251026T010000
END:STANDARD
BEGIN:DAYLIGHT
TZOFFSETFROM:+0100
TZOFFSETTO:+0200
TZNAME:CEST
DTSTART:20260329T010000
END:DAYLIGHT
BEGIN:STANDARD
TZOFFSETFROM:+0200
TZOFFSETTO:+0100
TZNAME:CET
DTSTART:20261025T010000
END:STANDARD
END:VTIMEZONE
BEGIN:VEVENT
DTSTART;TZID=Europe/Paris:20250301T143000
DTEND;TZID=Europe/Paris:20250301T163000
DTSTAMP:20260420T193140
CREATED:20250129T105506Z
LAST-MODIFIED:20250226T150204Z
UID:2194-1740839400-1740846600@lesvisitesdesfilles.fr
SUMMARY:La gastronomie dans le quartier des Brotteaux
DESCRIPTION:« La France vient de gagner le Bocuse d’or ! »\, « Une immense fierté s’est emparée le nation lyonnaise ! » Les articles dans les journaux vantent les mérites d’une culture culinaire au pays que deux fleuves arrosent\, mais pourquoi ? d’où vient cette perception que Lyon est la Capitale de la Gastronomie ? qui a dit pour la première fois que Lyon tenait ce titre ?\n\n« Lyon\, capitale de la Gastronomie »\, « Lyon\, capitale des Gueules » : autant de surnoms valant à la ville une solide réputation dans le domaine culinaire depuis le début du XXème siècle.\n\nLe 6ème arrondissement\, situé autour des Brotteaux et de Foch est donc indéniablement un arrondissement gourmet\, avec des tables de grand renom\, des restaurants étoilés mais aussi d’excellentes chocolateries\, fromagers\, des boucheries\, charcuteries et traiteurs de qualités\, et de très authentiques bouchons Lyonnais.\n\nNous débarquerons comme autrefois devant les Halles de Lyon Paul Bocuse et découvrirons une histoire intimement liée à la gastronomie et l’organisation de ce quartier au fil du temps. Nous évoquerons des thèmes comme les étoiles Michelin\, les Toques Blanches Lyonnaises\, le guide Gault et Millau\, les Mères lyonnaises\, Paul Bocuse\, Georges Blanc\, Pierre Orsi.\nCette visite peut également vous aider à choisir votre prochaine table pour un repas exceptionnel !\nGourmands\, gourmandes\, nous vous attendons !\nRendez-vous devant les Halles de Lyon Paul Bocuse cours Lafayette. Fin de la visite vers le métro Foch.
URL:https://lesvisitesdesfilles.fr/evenement/2025-03-01-balade-dans-un-arrondissement-gourmet-le-6eme/
LOCATION:Brotteaux\, place Jules Ferry\, Lyon\, Auvergne-Rhône-Alpes\, 69006\, France
CATEGORIES:Gastronomie,Histoire
ATTACH;FMTTYPE=image/jpeg:https://lesvisitesdesfilles.fr/wp-content/uploads/2025/01/DSCF8579-scaled.jpg
ORGANIZER;CN="Emilie":MAILTO:lesvisites.desfilles@gmail.com
END:VEVENT
BEGIN:VEVENT
DTSTART;TZID=Europe/Paris:20250308T140000
DTEND;TZID=Europe/Paris:20250308T160000
DTSTAMP:20260420T193140
CREATED:20250120T102903Z
LAST-MODIFIED:20250121T100446Z
UID:2155-1741442400-1741449600@lesvisitesdesfilles.fr
SUMMARY:Vienne industrielle : la vallée de la Gère et le Musée de l'Industrie Textile
DESCRIPTION:Votre guide Marine vous propose de découvrir une facette plutôt méconnue de la ville de Vienne : son passé industriel. \nVenez vous promener dans la Vallée de la Gère\, berceau de l’industrie textile viennoise\, spécialisée dans la laine cardée. Les nombreuses usines venues s’implanter sur ses deux rives ont fait la renommée de la ville pendant près de 200 ans ! \nSi toutes les usines ont malheureusement fermé depuis\, vous découvrirez ce que certaines sont devenues : la ville a lancé un important projet de réhabilitation de la Vallée de la Gère afin de transformer ce quartier et de lui redonner de la vie.\nVous découvrirez également le Musée de l’Industrie Textile\, qui retrace tout le cycle de production de la laine cardée viennoise avec de véritables machines et vous permettra d’en savoir plus sur l’histoire et les conditions de travail des anciens ouvriers.\nN’attendez plus pour réserver votre place pour cette visite inédite ! \nLe tarif affiché inclut l’entrée au Musée de l’Industrie Textile de Vienne.Vall\nLe lieu de rendez-vous vous sera communiqué quelques jours avant la visite par mail.
URL:https://lesvisitesdesfilles.fr/evenement/2025-03-08-vienne-industrielle-la-vallee-de-la-gere-et-le-musee-de-lindustrie-textile/
LOCATION:Vienne\, Vienne\, Auvergne-Rhône-Alpes\, 38200\, France
CATEGORIES:Architecture,Histoire,Musée
ATTACH;FMTTYPE=image/jpeg:https://lesvisitesdesfilles.fr/wp-content/uploads/2025/01/front-de-Gere-apres-amenagement.jpg
END:VEVENT
BEGIN:VEVENT
DTSTART;TZID=Europe/Paris:20250315T143000
DTEND;TZID=Europe/Paris:20250315T163000
DTSTAMP:20260420T193140
CREATED:20250120T104142Z
LAST-MODIFIED:20250226T150126Z
UID:2158-1742049000-1742056200@lesvisitesdesfilles.fr
SUMMARY:Les Gratte-Ciel de Villeurbanne
DESCRIPTION:Cette visite guidée est une des rares qui ne se passe pas à Lyon mais chez sa plus grande voisine : Villeurbanne. Lorsque l’on mentionne Villeurbanne\, on ne peut pas ne pas penser aux Gratte-Ciel\, l’actuel centre-ville. \nOn ne le sait pas assez mais les Gratte-Ciel de Villeurbanne (que les comiques de l’époque appelaient les gratte-cul…) furent un événement dans l’histoire de l’architecture et du logement social\, en Europe mais aussi dans le Monde… Ils virent le jour en 1934\, un an après que King Kong fut projeté au cinéma\, et firent couler autant d’encre que lui\, dans les journaux nationaux et internationaux. \nCe qui a vraiment marqué est la modernité de ce quartier\, sa praticité\, ses innovations et surtout le fait que le centre ville ne s’est pas construit autour d’un monument civil ou religieux mais autour de bâtiments collectifs à destination des populations ouvrières. A l’époque\, ce quartier sorti de terre présentait une architecture de rupture et représentait une véritable utopie comme il en existe peu dans le monde… \nLa visite guidée menée par Lauren ne présente pas un grand circuit mais s’intéressera aux différents lieux de ce quartier. Entre ces  “monuments” villeurbannais\, vous découvrirez  leur histoire\, ce qui a perduré bien sûr mais aussi ce qui a disparu. Venez découvrir\, en compagnie de votre guide Lauren\, un quartier avant-gardiste demandé par le Maire de Villeurbanne : Lazare Goujon. \n\nSavez-vous qu’il existe un appartement témoin dans un des immeubles de logement ? Venez le découvrir lors de cette visite ! \nAttention : la visite est limitée à 15 personnes !\nLe lieu de rendez-vous vous sera communiqué quelques jours avant par mail.
URL:https://lesvisitesdesfilles.fr/evenement/2025-03-15-les-gratte-ciel-de-villeurbanne/
LOCATION:Villeurbanne\, Avenue Henri Barbusse\, Villeurbanne\, Auvergne-Rhône-Alpes\, 69100\, France
CATEGORIES:Architecture,Histoire,Urbanisme
ATTACH;FMTTYPE=image/jpeg:https://lesvisitesdesfilles.fr/wp-content/uploads/2020/05/mairie-villeurbanne.jpg
END:VEVENT
END:VCALENDAR