BEGIN:VCALENDAR
VERSION:2.0
PRODID:-//Les Visites des Filles - ECPv6.15.20//NONSGML v1.0//EN
CALSCALE:GREGORIAN
METHOD:PUBLISH
X-ORIGINAL-URL:https://lesvisitesdesfilles.fr
X-WR-CALDESC:Évènements pour Les Visites des Filles
REFRESH-INTERVAL;VALUE=DURATION:PT1H
X-Robots-Tag:noindex
X-PUBLISHED-TTL:PT1H
BEGIN:VTIMEZONE
TZID:Europe/Paris
BEGIN:DAYLIGHT
TZOFFSETFROM:+0100
TZOFFSETTO:+0200
TZNAME:CEST
DTSTART:20240331T010000
END:DAYLIGHT
BEGIN:STANDARD
TZOFFSETFROM:+0200
TZOFFSETTO:+0100
TZNAME:CET
DTSTART:20241027T010000
END:STANDARD
BEGIN:DAYLIGHT
TZOFFSETFROM:+0100
TZOFFSETTO:+0200
TZNAME:CEST
DTSTART:20250330T010000
END:DAYLIGHT
BEGIN:STANDARD
TZOFFSETFROM:+0200
TZOFFSETTO:+0100
TZNAME:CET
DTSTART:20251026T010000
END:STANDARD
BEGIN:DAYLIGHT
TZOFFSETFROM:+0100
TZOFFSETTO:+0200
TZNAME:CEST
DTSTART:20260329T010000
END:DAYLIGHT
BEGIN:STANDARD
TZOFFSETFROM:+0200
TZOFFSETTO:+0100
TZNAME:CET
DTSTART:20261025T010000
END:STANDARD
END:VTIMEZONE
BEGIN:VEVENT
DTSTART;TZID=Europe/Paris:20250503T143000
DTEND;TZID=Europe/Paris:20250503T163000
DTSTAMP:20260420T181850
CREATED:20250120T110220Z
LAST-MODIFIED:20250226T145941Z
UID:2165-1746282600-1746289800@lesvisitesdesfilles.fr
SUMMARY:Le Vieux Lyon hors des sentiers battus (St Georges)
DESCRIPTION:Les « Visites des Filles »\, spécialisées dans les parcours hors des sentiers battus vous proposent une balade dans le Vieux Lyon.\nLe Vieux Lyon ? Le quartier le plus touristique de Lyon ? Oui mais… tout de même\, loin des touristes\, des magasins de glaces et des traboules sur-fréquentées. En effet\, nous vous proposons une balade dans un coin resté authentique : St Georges.Beaucoup moins visité\, mais à tort\, ce quartier a aussi son histoire\, ses petites histoires et ses jolis bâtiments Renaissance.\nAu Moyen-âge\, il était un quartier artisanal et portuaire ; aujourd’hui\, ses habitants sont ravis d’occuper un quartier protégé au titre de la loi Malraux. Les archéologues y font encore de nos jours des découvertes\, si bien que la vie quotidienne se confronte parfois à l’Histoire d’il y a deux mille ans.\nIl est tout autant pittoresque et aussi bien préservé que Saint-Jean. Il a certes moins de traboules\, mais il a un caractère bien affirmé.\nCette visite guidée en compagnie de Lauren vous fera donc découvrir les coins et recoins de ce quartier (rue Mourguet\, rue de la Quarantaine\, rue du Doyenné\, place de la Trinité\, église Saint Georges\, mur peint\, sculpture\, quais de Saône).
URL:https://lesvisitesdesfilles.fr/evenement/2025-05-03-le-vieux-lyon-hors-des-sentiers-battus-st-georges/
LOCATION:Vieux Lyon\, métro Vieux-Lyon\, Lyon\, Auvergne-Rhône-Alpes\, 69005\, France
CATEGORIES:Architecture,Histoire,Urbanisme
ATTACH;FMTTYPE=image/jpeg:https://lesvisitesdesfilles.fr/wp-content/uploads/2025/01/p3190111_51950780256_o-scaled.jpg
END:VEVENT
BEGIN:VEVENT
DTSTART;TZID=Europe/Paris:20250517T143000
DTEND;TZID=Europe/Paris:20250517T163000
DTSTAMP:20260420T181850
CREATED:20250120T111047Z
LAST-MODIFIED:20250218T103639Z
UID:2167-1747492200-1747499400@lesvisitesdesfilles.fr
SUMMARY:Du plateau de la Croix-Rousse au Mur des Lyonnais
DESCRIPTION:Venez « débarouler » les pentes de la Croix-Rousse\, aux côtés de votre guide pour suivre l’histoire de la « colline qui travaille »\, celle des Canuts. Vous retracerez l’évolution du commerce florissant de la soierie lyonnaise\, de la Renaissance à nos jours en évoquant les grandes figures qui ont marquées cette industrie comme François 1er\, Jacques Marie Jacquard\, Napoléon 1er ou encore Pasteur\, et Louis Marie Hilaire Bernigaud. \nVous en apprendrez davantage sur les conditions de travail de ces ouvriers et ouvrières\, leurs liens complexes avec les marchands fabricants ou soyeux et leur détermination sans faille à vouloir vivre dignement de leur travail. \nEn passant devant le grand caillou et la cour des Voraces\, où l’une des célèbres révoltes a démarré\, poursuivez la descente vers les Terreaux en vous arrêtant devant les grands chantiers menés dans les pentes de la presqu’île\, de la place des Terreaux à la Martinière. \nLa visite se terminera face au Mur des Lyonnais où vous découvrirez ou redécouvrirez les figures emblématiques qui ont marqué l’histoire lyonnaise de l’Antiquité à nos jours.  \nLe lieu de rendez-vous de la visite vous sera communiqué quelques jours avant par mail.
URL:https://lesvisitesdesfilles.fr/evenement/2025-05-17-visite-la-croix-rousse-cote-ouest/
LOCATION:Croix-Rousse\, Place de la Croix-Rousse\, LYON\, Auvergne-Rhône-Alpes\, 69004
CATEGORIES:Architecture,Histoire,Urbanisme
ATTACH;FMTTYPE=image/jpeg:https://lesvisitesdesfilles.fr/wp-content/uploads/2020/11/19149283496_00c640ee51_o-scaled-e1588612754837-1600x900-1.jpg
END:VEVENT
BEGIN:VEVENT
DTSTART;TZID=Europe/Paris:20250524T143000
DTEND;TZID=Europe/Paris:20250524T163000
DTSTAMP:20260420T181850
CREATED:20250120T111611Z
LAST-MODIFIED:20250226T150251Z
UID:2169-1748097000-1748104200@lesvisitesdesfilles.fr
SUMMARY:La Presqu'île de place en place
DESCRIPTION:Que serait la Presqu’ile de Lyon sans ses nombreuses places ? Qu’elles soient grandes\, petites\, connues et très fréquentées ou au contraire plus discrètes\, elles font partie intégrante du patrimoine lyonnais. \nLa place Bellecour\, la place des Célestins\, celle des Jacobins ou celle d’Albon… Que vous aimiez y flâner ou au contraire les traverser sans vous arrêter\, pensez-vous bien les connaitre ? Chacune de ces places possède un nom qui n’est pas le fruit du hasard\, une histoire\, une architecture particulière et dessert des rues bien précises. \nSi vous voulez en savoir plus sur l’origine de leur nom et de leur création\, les évènements qu’elles ont hébergé\, les quartiers qu’elles ont contribué à façonner et les anecdotes qui leurs sont liées… suivez votre guide Marine dans sa visite qui vous permettra d’en savoir plus sur l’histoire et l’évolution de la Presqu’île au fil des siècles.\nCe sera l’occasion de parler d’urbanisme\, d’architecture et d’admirer les belles façades qui s’articulent autour des places lyonnaises et auxquelles vous n’avez peut-être jamais prêté attention. \nLe lieu de rendez-vous de la visite vous sera communiqué quelques jours avant par mail.
URL:https://lesvisitesdesfilles.fr/evenement/2025-05-24-la-presquile-de-place-en-place/
LOCATION:Presqu’île\, Lyon\, Auvergne-Rhône-Alpes\, 69001\, France
CATEGORIES:Architecture,Histoire,Urbanisme
ATTACH;FMTTYPE=image/jpeg:https://lesvisitesdesfilles.fr/wp-content/uploads/2020/05/DSCF7927-scaled-e1588613576386.jpg
END:VEVENT
END:VCALENDAR